{"text_format":"1","workbook":"xlsx","n_sheets":28,"sheets":["INDEX","Summary By Local Authority","Self-assessed general health","SAH chart","WEMWBS","WEMWBS chart ","GHQ-12 scores","GHQ-12 chart","Long-term illness","Long-term illness chart","Alcohol guidelines","Alcohol guidelines chart","Mean alcohol units","Mean units chart","Smoking behaviour","Smoking chart","Overweight","Overweight chart","Obesity","Obesity chart","Fruit and vegetables","Fruit and veg chart","Mean fruit and vegetables","Mean fruit and veg chart","Physical activity guidelines","Physical activity chart","CVD","CVD chart"],"not_rendered":{"charts":26,"images":1,"macros":1,"external_links":0,"defined_names":43,"comments":0,"pivot_tables":0},"unopened":[],"bounds":{"document_bytes":16777216,"sheet_cells":100000,"rows_first":2000,"rows_last":500,"rows_between":2000,"halvings":0,"cell_chars":16384,"cell_head_chars":4096},"cells_cut":0,"cells_raw":0,"read":"whole","date_system":"1900"}

{"sheet":"INDEX","index":0,"n_rows":30,"n_cols":17,"rows_kept":30,"cut":false,"hidden":false,"merged":[[26,1,26,8],[27,1,27,8],[28,1,28,8],[29,1,29,8],[23,1,23,10],[4,1,4,5],[5,1,5,4],[6,1,6,4],[7,1,7,6],[8,1,8,3],[10,1,10,5],[17,1,17,4],[9,1,9,6],[11,1,11,4],[12,1,12,2],[14,1,14,6],[15,1,15,7],[16,1,16,2]]}
[]
[null,"The Scottish Health Survey (SHeS)"]
[null,"Local Authority1 results 2013-2016"]
[]
[null,"Summary by NHS Local Authority"]
[null,"Self-assessed general health",null,null,null,null,null,null,"CHART"]
[null,"WEMWBS mean scores",null,null,null,null,null,null,"CHART"]
[null,"General Health Questionnaire (GHQ-12) scores",null,null,null,null,null,null,"CHART"]
[null,"Long-term illness",null,null,null,null,null,null,"CHART"]
[null,"Alcohol consumption- weekly drinking guidelines",null,null,null,null,null,null,"CHART"]
[null,"Alcohol consumption- mean weekly units",null,null,null,null,null,null,"CHART"]
[null,"Smoking behaviour",null,null,null,null,null,null,"CHART"]
[null,"Overweight",null,null,null,null,null,null,"CHART"]
[null,"Obesity",null,null,null,null,null,null,"CHART"]
[null,"Fruit and vegetable consumption- by category",null,null,null,null,null,null,"CHART"]
[null,"Fruit and vegetable consumption- mean daily portions",null,null,null,null,null,null,"CHART"]
[null,"Physical activity",null,null,null,null,null,null,"CHART",null,null,null,null,null,null,null," "]
[null,"Cardiovascular (CVD) conditions",null,null,null,null,null,null,"CHART"]
[]
[null,"More information about these topics can be found in the latest Scottish Health Survey report:"]
[null,"http://www.gov.scot/Topics/Statistics/Browse/Health/scottish-health-survey"]
[]
[null,"Notes"]
[null,"1. Where the sample size for a Local Authority was below 500, the result has been suppressed."]
[]
[null,"ERRATA (15/01/2018)"]
[null,"Please note that errors have been discovered in the previously published results for two Local Authorities (East Dunbartonshire and Glasgow City)."]
[null,"These were due to a number of survey respondents living in the Glasgow City council area being incorrectly coded as living in East Dunbartonshire and vice-versa."]
[null,"Published results now use corrected figures for the two Local Authorities."]
[null,"Results for other Local Authorities and all NHS Boards are unaffected."]

{"sheet":"Summary By Local Authority","index":1,"n_rows":196,"n_cols":29,"rows_kept":196,"cut":false,"hidden":false,"merged":[[13,12,13,13],[12,12,12,13],[11,12,11,13],[10,12,10,13],[6,8,6,13],[7,8,7,13],[21,8,21,13],[22,8,22,13],[17,8,17,9],[15,8,15,9],[16,8,16,9],[14,8,14,9],[9,12,9,13],[17,10,17,11],[16,10,16,11],[15,10,15,11],[14,10,14,11],[13,10,13,11],[12,10,12,11],[11,10,11,11],[10,10,10,11],[9,10,9,11],[8,10,8,11],[8,12,8,13],[17,12,17,13],[16,12,16,13],[15,12,15,13],[14,12,14,13],[25,10,25,11],[25,12,25,13],[26,10,26,11],[26,12,26,13],[27,10,27,11],[27,12,27,13],[23,10,23,11],[23,12,23,13],[24,10,24,11],[24,12,24,13],[32,12,32,13],[31,12,31,13],[32,10,32,11],[31,10,31,11],[28,10,28,11],[28,12,28,13],[29,10,29,11],[29,12,29,13],[30,10,30,11],[30,12,30,13],[32,26,32,27],[32,28,32,29],[32,23,32,25],[31,23,31,25],[30,23,30,25],[29,23,29,25],[29,26,29,27],[29,28,29,29],[30,26,30,27],[30,28,30,29],[31,26,31,27],[31,28,31,29],[7,23,7,28],[6,23,6,28],[10,25,10,26],[11,25,11,26],[11,27,11,28],[10,27,10,28],[28,23,28,25],[27,23,27,25],[26,23,26,25],[25,23,25,25],[24,23,24,25],[26,26,26,27],[26,28,26,29],[27,26,27,27],[27,28,27,29],[28,26,28,27],[28,28,28,29],[23,26,23,27],[23,28,23,29],[24,26,24,27],[24,28,24,29],[25,26,25,27],[25,28,25,29],[16,26,16,27],[9,27,9,28],[9,25,9,26],[8,25,8,26],[8,27,8,28],[11,23,11,24],[10,23,10,24],[9,23,9,24],[21,23,21,29],[22,23,22,29],[16,28,16,29],[17,26,17,27],[17,28,17,29],[13,26,13,27],[13,28,13,29],[14,26,14,27],[14,28,14,29],[15,26,15,27],[15,28,15,29],[12,26,12,27],[12,28,12,29],[32,8,32,9],[31,8,31,9],[30,8,30,9],[29,8,29,9],[28,8,28,9],[46,10,46,11],[46,12,46,13],[47,10,47,11],[47,12,47,13],[38,8,38,13],[46,8,46,9],[45,8,45,9],[44,8,44,9],[43,10,43,11],[43,12,43,13],[44,10,44,11],[44,12,44,13],[45,10,45,11],[45,12,45,13],[40,10,40,11],[40,12,40,13],[41,10,41,11],[41,12,41,13],[42,10,42,11],[27,8,27,9],[26,8,26,9],[25,8,25,9],[24,8,24,9],[13,8,13,9],[12,8,12,9],[11,8,11,9],[10,8,10,9],[9,8,9,9],[43,8,43,9],[42,8,42,9],[41,8,41,9],[40,8,40,9],[55,8,55,13],[54,8,54,13],[48,8,48,9],[47,8,47,9],[65,11,65,12],[64,11,64,12],[63,11,63,12],[62,11,62,12],[61,11,61,12],[60,11,60,12],[59,11,59,12],[58,11,58,12],[57,13,57,14],[57,11,57,12],[56,13,56,14],[48,10,48,11],[48,12,48,13],[42,12,42,13],[37,23,37,28],[38,23,38,28],[39,25,39,26],[56,11,56,12],[65,13,65,14],[64,13,64,14],[63,13,63,14],[62,13,62,14],[61,13,61,14],[60,13,60,14],[59,13,59,14],[58,13,58,14],[37,8,37,13],[39,10,39,11],[39,12,39,13],[39,27,39,28],[40,23,40,24],[40,25,40,26],[40,27,40,28],[41,23,41,24],[41,25,41,26],[41,27,41,28],[42,23,42,24],[42,25,42,26],[42,27,42,28],[58,23,58,24],[58,25,58,26],[58,27,58,28],[59,23,59,24],[59,25,59,26],[59,27,59,28],[54,23,54,28],[55,23,55,28],[56,25,56,26],[56,27,56,28],[57,23,57,24],[57,25,57,26],[57,27,57,28],[89,12,89,13],[74,8,74,9],[74,10,74,11],[74,12,74,13],[75,8,75,9],[75,10,75,11],[75,12,75,13],[70,8,70,13],[71,8,71,13],[72,10,72,11],[72,12,72,13],[73,8,73,9],[73,10,73,11],[73,12,73,13],[74,23,74,24],[74,25,74,26],[74,27,74,28],[75,23,75,24],[75,25,75,26],[75,27,75,28],[70,23,70,28],[71,23,71,28],[72,25,72,26],[72,27,72,28],[73,23,73,24],[73,25,73,26],[73,27,73,28],[78,23,78,24],[78,25,78,26],[78,27,78,28],[79,23,79,24],[79,25,79,26],[79,27,79,28],[76,23,76,24],[76,25,76,26],[76,27,76,28],[77,23,77,24],[77,25,77,26],[77,27,77,28],[87,23,87,28],[89,25,89,26],[89,27,89,28],[90,23,90,24],[90,25,90,26],[90,27,90,28],[80,23,80,24],[80,25,80,26],[80,27,80,28],[81,23,81,24],[81,25,81,26],[81,27,81,28],[93,23,93,24],[93,25,93,26],[93,27,93,28],[94,23,94,24],[94,25,94,26],[94,27,94,28],[91,23,91,24],[91,25,91,26],[91,27,91,28],[92,23,92,24],[92,25,92,26],[92,27,92,28],[100,25,100,26],[99,27,99,28],[99,25,99,26],[103,8,103,13],[104,8,104,13],[86,23,86,28],[88,25,88,26],[88,27,88,28],[89,23,89,24],[100,23,100,24],[99,23,99,24],[100,27,100,28],[97,23,97,24],[97,25,97,26],[97,27,97,28],[98,23,98,24],[98,25,98,26],[98,27,98,28],[95,23,95,24],[95,25,95,26],[95,27,95,28],[96,23,96,24],[96,25,96,26],[96,27,96,28],[2,5,3,11],[106,13,106,14],[108,11,108,12],[107,11,107,12],[106,11,106,12],[105,13,105,14],[105,11,105,12],[108,13,108,14],[107,13,107,14],[108,8,108,10],[107,8,107,10],[106,8,106,10],[90,8,90,9],[90,10,90,11],[90,12,90,13],[91,8,91,9],[91,10,91,11],[91,12,91,13],[86,8,86,13],[87,8,87,13],[88,10,88,11],[88,12,88,13],[89,8,89,9],[89,10,89,11]]}
[]
[null,"Choose a Local Authority to update charts and compare against overall Scotland figures"]
[null,null,null,null,null,"PLEASE NOTE: Where the sample size for a Local Authority was below 500, the result has been suppressed. This is shown here by #N/A."]
[]
[]
[]
[null,null,null,null,null,null,null,null,"Self-assessed general health ",null,null,null,null,null,null,null,null,null,null,null,null,null,null,"WEMWBS mean scores"]
[null,null,null,null,null,null,null,null,"All adults, 2013-2016 combined",null,null,null,null,null,null,null,null,null,null,null,null,null,null,"All adults, 2013-2016 combined"]
[null,null,null,null,null,null,null,null,null,null,"Scotland",null,{"$f":"$A$128","v":"Aberdeen City"},null,null,null,null,null,null,null,null,null,null,null,null,"Scotland",null,{"$f":"$A$128","v":"Aberdeen City"}]
[null,null,null,null,null,null,null,null,{"$f":"'SAH chart'!B36","v":"Very good/good"},null,{"$f":"'SAH chart'!R36","v":73.78},null,{"$f":"D130","v":76.872},null,null,null,null,null,null,null,null,null,null,{"$f":"F130","v":"Mean"},null,{"$f":"G130","v":50.99},null,{"$f":"H130","v":50.664999999999999}]
[null,null,null,null,null,null,null,null,{"$f":"'SAH chart'!B37","v":"Lower CI"},null,{"$f":"'SAH chart'!R37","v":72.900000000000006},null,{"$f":"D131","v":73.218000000000004},null,null,null,null,null,null,null,null,null,null,{"$f":"F131","v":"Lower CI"},null,{"$f":"G131","v":50.209000000000003},null,{"$f":"H131","v":50.06}]
[null,null,null,null,null,null,null,null,{"$f":"'SAH chart'!B38","v":"Upper CI"},null,{"$f":"'SAH chart'!R38","v":74.66},null,{"$f":"D132","v":80.525999999999996},null,null,null,null,null,null,null,null,null,null,{"$f":"F132","v":"Upper CI"},null,{"$f":"G132","v":51.77},null,{"$f":"H132","v":51.27}]
[null,null,null,null,null,null,null,null,{"$f":"'SAH chart'!B39","v":"Fair"},null,{"$f":"'SAH chart'!R39","v":17.97},null,16.295000000000002]
[null,null,null,null,null,null,null,null,{"$f":"'SAH chart'!B40","v":"Lower CI"},null,{"$f":"'SAH chart'!R40","v":17.28},null,13.266]
[null,null,null,null,null,null,null,null,{"$f":"'SAH chart'!B41","v":"Upper CI"},null,{"$f":"'SAH chart'!R41","v":18.649999999999999},null,19.324000000000002]
[null,null,null,null,null,null,null,null,{"$f":"'SAH chart'!B42","v":"Bad/very bad"},null,{"$f":"'SAH chart'!R42","v":8.25},null,6.8330000000000002]
[null,null,null,null,null,null,null,null,{"$f":"'SAH chart'!B43","v":"Lower CI"},null,{"$f":"'SAH chart'!R43","v":7.75},null,5.2110000000000003]
[null,null,null,null,null,null,null,null,{"$f":"'SAH chart'!B44","v":"Upper CI"},null,{"$f":"'SAH chart'!R44","v":8.76},null,8.4550000000000001]
[]
[]
[]
[null,null,null,null,null,null,null,null,"GHQ-12 scores\n",null,null,null,null,null,null,null,null,null,null,null,null,null,null,"Long-term illness"]
[null,null,null,null,null,null,null,null,"All adults, 2013-2016 combined",null,null,null,null,null,null,null,null,null,null,null,null,null,null,"All adults, 2013-2016 combined"]
[null,null,null,null,null,null,null,null,null,null,"Scotland",null,{"$f":"$A$128","v":"Aberdeen City"},null,null,null,null,null,null,null,null,null,null,null,null,null,"Scotland",null,{"$f":"$A$128","v":"Aberdeen City"}]
[null,null,null,null,null,null,null,null,{"$f":"J130","v":"Score 0"},null,{"$f":"K130","v":64.694000000000003},null,{"$f":"L130","v":58.237000000000002},null,null,null,null,null,null,null,null,null,null,{"$f":"B147","v":"Limiting long-term illness"},null,null,{"$f":"C147","v":31.841000000000001},null,{"$f":"D147","v":27.888000000000002}]
[null,null,null,null,null,null,null,null,{"$f":"J131","v":"Lower CI"},null,{"$f":"K131","v":59.478999999999999},null,{"$f":"L131","v":54.322000000000003},null,null,null,null,null,null,null,null,null,null,"Lower CI",null,null,{"$f":"C148","v":27.100999999999999},null,{"$f":"D148","v":23.946999999999999}]
[null,null,null,null,null,null,null,null,"Upper CI",null,{"$f":"K132","v":69.908000000000001},null,{"$f":"L132","v":62.152000000000001},null,null,null,null,null,null,null,null,null,null,"Upper CI",null,null,{"$f":"C149","v":36.581000000000003},null,{"$f":"D149","v":31.829000000000001}]
[null,null,null,null,null,null,null,null,"Score 1-3",null,{"$f":"K133","v":19.332000000000001},null,{"$f":"L133","v":28.010999999999999},null,null,null,null,null,null,null,null,null,null,"Non-limiting long-term illness",null,null,14.843,null,14.711]
[null,null,null,null,null,null,null,null,"Lower CI",null,15.327,null,24.873999999999999,null,null,null,null,null,null,null,null,null,null,"Lower CI",null,null,11.727,null,12.076000000000001]
[null,null,null,null,null,null,null,null,"Upper CI",null,23.337,null,31.148,null,null,null,null,null,null,null,null,null,null,"Upper CI",null,null,17.959,null,17.347000000000001]
[null,null,null,null,null,null,null,null,"Score 4+",null,15.974,null,13.752000000000001,null,null,null,null,null,null,null,null,null,null,"No long-term illness",null,null,53.316000000000003,null,57.401000000000003]
[null,null,null,null,null,null,null,null,"Lower CI",null,12.503,null,11.515000000000001,null,null,null,null,null,null,null,null,null,null,"Lower CI",null,null,47.273000000000003,null,52.848999999999997]
[null,null,null,null,null,null,null,null,"Upper CI",null,19.446000000000002,null,15.988,null,null,null,null,null,null,null,null,null,null,"Upper CI",null,null,59.357999999999997,null,61.951999999999998]
[]
[]
[]
[]
[null,null,null,null,null,null,null,null,"Adherence to weekly drinking advice",null,null,null,null,null,null,null,null,null,null,null,null,null,null,"Weekly mean alcohol units"]
[null,null,null,null,null,null,null,null,"All adults, 2013-2016 combined",null,null,null,null,null,null,null,null,null,null,null,null,null,null,"All adults, 2013-2016 combined"]
[null,null,null,null,null,null,null,null,null,null,"Scotland",null,{"$f":"$A$128","v":"Aberdeen City"},null,null,null,null,null,null,null,null,null,null,null,null,"Scotland",null,{"$f":"$A$128","v":"Aberdeen City"}]
[null,null,null,null,null,null,null,null,{"$f":"F147","v":"Non drinker"},null,{"$f":"G147","v":12.965},null,{"$f":"H147","v":19.667999999999999},null,null,null,null,null,null,null,null,null,null,{"$f":"J147","v":"Weekly mean units"},null,{"$f":"K147","v":12.57},null,{"$f":"L147","v":14.564}]
[null,null,null,null,null,null,null,null,{"$f":"F148","v":"Lower CI"},null,{"$f":"G148","v":10.106999999999999},null,{"$f":"H148","v":16.495999999999999},null,null,null,null,null,null,null,null,null,null,{"$f":"J148","v":"Lower CI"},null,{"$f":"K148","v":12.2},null,{"$f":"L148","v":12.346}]
[null,null,null,null,null,null,null,null,{"$f":"F149","v":"Upper CI"},null,{"$f":"G149","v":15.821999999999999},null,{"$f":"H149","v":22.841000000000001},null,null,null,null,null,null,null,null,null,null,"Upper CI",null,12.94,null,16.782]
[null,null,null,null,null,null,null,null,"Moderate",null,62.05,null,52.945999999999998]
[null,null,null,null,null,null,null,null,"Lower CI",null,57.454000000000001,null,48.73]
[null,null,null,null,null,null,null,null,"Upper CI",null,66.644999999999996,null,57.161999999999999]
[null,null,null,null,null,null,null,null,"Hazardous/harmful",null,24.986000000000001,null,27.385999999999999]
[null,null,null,null,null,null,null,null,"Lower CI",null,21.143999999999998,null,23.623000000000001]
[null,null,null,null,null,null,null,null,"Upper CI",null,28.827000000000002,null,31.148]
[]
[]
[]
[]
[]
[null,null,null,null,null,null,null,null,"Smoking behaviour",null,null,null,null,null,null,null,null,null,null,null,null,null,null,"Prevalence of overweight (including obesity)"]
[null,null,null,null,null,null,null,null,"All adults, 2013-2016 combined",null,null,null,null,null,null,null,null,null,null,null,null,null,null,"All adults, 2013-2016 combined"]
[null,null,null,null,null,null,null,null,null,null,null,"Scotland",null,{"$f":"$A$128","v":"Aberdeen City"},null,null,null,null,null,null,null,null,null,null,null,"Scotland",null,{"$f":"$A$128","v":"Aberdeen City"}]
[null,null,null,null,null,null,null,null,{"$f":"B163","v":"Never smoked, or ex-occasional"},null,null,{"$f":"C163","v":54.55},null,{"$f":"D163","v":56.198999999999998},null,null,null,null,null,null,null,null,null,{"$f":"F163","v":"Overweight (including obese)"},null,{"$f":"G163","v":64.87},null,{"$f":"H163","v":60.85}]
[null,null,null,null,null,null,null,null,{"$f":"B164","v":"Lower CI"},null,null,{"$f":"C164","v":53.5},null,{"$f":"D164","v":51.890999999999998},null,null,null,null,null,null,null,null,null,{"$f":"F164","v":"Lower CI"},null,{"$f":"G164","v":63.8},null,{"$f":"H164","v":56.447000000000003}]
[null,null,null,null,null,null,null,null,"Upper CI",null,null,{"$f":"C165","v":55.59},null,{"$f":"D165","v":60.506999999999998},null,null,null,null,null,null,null,null,null,"Upper CI",null,65.930000000000007,null,65.253]
[null,null,null,null,null,null,null,null,"Ex-regular smoker, or occasional",null,null,24.21,null,19.518999999999998]
[null,null,null,null,null,null,null,null,"Lower CI",null,null,23.43,null,17.030999999999999]
[null,null,null,null,null,null,null,null,"Upper CI",null,null,24.98,null,22.007000000000001]
[null,null,null,null,null,null,null,null,"Regular smoker",null,null,21.25,null,24.280999999999999]
[null,null,null,null,null,null,null,null,"Lower CI",null,null,20.399999999999999,null,20.536000000000001]
[null,null,null,null,null,null,null,null,"Upper CI",null,null,22.1,null,28.027000000000001]
[]
[]
[]
[]
[null,null,null,null,null,null,null,null,"Prevalence of obesity",null,null,null,null,null,null,null,null,null,null,null,null,null,null,"Daily fruit and vegetable consumption"]
[null,null,null,null,null,null,null,null,"All adults, 2013-2016 combined",null,null,null,null,null,null,null,null,null,null,null,null,null,null,"All adults, 2013-2016 combined"]
[null,null,null,null,null,null,null,null,null,null,"Scotland",null,{"$f":"$A$128","v":"Aberdeen City"},null,null,null,null,null,null,null,null,null,null,null,null,"Scotland",null,{"$f":"$A$128","v":"Aberdeen City"}]
[null,null,null,null,null,null,null,null,{"$f":"F172","v":"Obese"},null,{"$f":"G172","v":28.32},null,{"$f":"H172","v":24.57},null,null,null,null,null,null,null,null,null,null,{"$f":"J163","v":"None"},null,{"$f":"K163","v":10.52},null,{"$f":"L163","v":7.0570000000000004}]
[null,null,null,null,null,null,null,null,{"$f":"F173","v":"Lower CI"},null,{"$f":"G173","v":27.43},null,{"$f":"H173","v":21.207000000000001},null,null,null,null,null,null,null,null,null,null,{"$f":"J164","v":"Lower CI"},null,{"$f":"K164","v":9.86},null,{"$f":"L164","v":5.22}]
[null,null,null,null,null,null,null,null,"Upper CI",null,29.2,null,27.934000000000001,null,null,null,null,null,null,null,null,null,null,"Upper CI",null,{"$f":"K165","v":11.19},null,{"$f":"L165","v":8.8930000000000007}]
[null,null,null,null,null,null,null,null,null,null,null,null,null,null,null,null,null,null,null,null,null,null,null,"Less than 5 portions",null,68.73,null,71.616]
[null,null,null,null,null,null,null,null,null,null,null,null,null,null,null,null,null,null,null,null,null,null,null,"Lower CI",null,67.84,null,68.167000000000002]
[null,null,null,null,null,null,null,null,null,null,null,null,null,null,null,null,null,null,null,null,null,null,null,"Upper CI",null,69.63,null,75.064999999999998]
[null,null,null,null,null,null,null,null,null,null,null,null,null,null,null,null,null,null,null,null,null,null,null,"5 portions or more",null,20.74,null,21.327000000000002]
[null,null,null,null,null,null,null,null,null,null,null,null,null,null,null,null,null,null,null,null,null,null,null,"Lower CI",null,19.920000000000002,null,18.492999999999999]
[null,null,null,null,null,null,null,null,null,null,null,null,null,null,null,null,null,null,null,null,null,null,null,"Upper CI",null,21.57,null,24.161000000000001]
[]
[]
[]
[]
[null,null,null,null,null,null,null,null,"Mean daily portions of fruit and vegetables",null,null,null,null,null,null,null,null,null,null,null,null,null,null,"Physical activity"]
[null,null,null,null,null,null,null,null,"All adults, 2013-2016 combined",null,null,null,null,null,null,null,null,null,null,null,null,null,null,"All adults, 2013-2016 combined"]
[null,null,null,null,null,null,null,null,null,null,"Scotland",null,{"$f":"$A$128","v":"Aberdeen City"},null,null,null,null,null,null,null,null,null,null,null,null,"Scotland",null,{"$f":"$A$128","v":"Aberdeen City"}]
[null,null,null,null,null,null,null,null,{"$f":"B180","v":"Mean"},null,{"$f":"C180","v":3.14},null,{"$f":"D180","v":3.3210000000000002},null,null,null,null,null,null,null,null,null,null,{"$f":"F180","v":"Meets guidelines"},null,{"$f":"G180","v":63.5},null,{"$f":"H180","v":67.614999999999995}]
[null,null,null,null,null,null,null,null,{"$f":"B181","v":"Lower CI"},null,{"$f":"C181","v":3.09},null,{"$f":"D181","v":3.1230000000000002},null,null,null,null,null,null,null,null,null,null,{"$f":"F181","v":"Lower CI"},null,{"$f":"G181","v":62.51},null,{"$f":"H181","v":63.588000000000001}]
[null,null,null,null,null,null,null,null,{"$f":"B182","v":"Upper CI"},null,{"$f":"C182","v":3.2},null,{"$f":"D182","v":3.5179999999999998},null,null,null,null,null,null,null,null,null,null,"Upper CI",null,{"$f":"G182","v":64.5},null,{"$f":"H182","v":71.643000000000001}]
[null,null,null,null,null,null,null,null,null,null,null,null,null,null,null,null,null,null,null,null,null,null,null,"Some activity",null,11.13,null,9.2759999999999998]
[null,null,null,null,null,null,null,null,null,null,null,null,null,null,null,null,null,null,null,null,null,null,null,"Lower CI",null,10.56,null,7.14]
[null,null,null,null,null,null,null,null,null,null,null,null,null,null,null,null,null,null,null,null,null,null,null,"Upper CI",null,11.7,null,11.412000000000001]
[null,null,null,null,null,null,null,null,null,null,null,null,null,null,null,null,null,null,null,null,null,null,null,"Low activity",null,4.33,null,3.871]
[null,null,null,null,null,null,null,null,null,null,null,null,null,null,null,null,null,null,null,null,null,null,null,"Lower CI",null,3.99,null,2.754]
[null,null,null,null,null,null,null,null,null,null,null,null,null,null,null,null,null,null,null,null,null,null,null,"Upper CI",null,4.68,null,4.9889999999999999]
[null,null,null,null,null,null,null,null,null,null,null,null,null,null,null,null,null,null,null,null,null,null,null,"Very low activity",null,21.03,null,19.236999999999998]
[null,null,null,null,null,null,null,null,null,null,null,null,null,null,null,null,null,null,null,null,null,null,null,"Lower CI",null,20.23,null,16.568000000000001]
[null,null,null,null,null,null,null,null,null,null,null,null,null,null,null,null,null,null,null,null,null,null,null,"Upper CI",null,21.84,null,21.905999999999999]
[]
[]
[null,null,null,null,null,null,null,null,"Prevalence of cardiovascular (CVD) conditions"]
[null,null,null,null,null,null,null,null,"All adults, 2013-2016 combined"]
[null,null,null,null,null,null,null,null,null,null,null,"Scotland",null,{"$f":"$A$128","v":"Aberdeen City"}]
[null,null,null,null,null,null,null,null,{"$f":"J180","v":"Has a cardiovascular condition"},null,null,{"$f":"K180","v":15.55},null,{"$f":"L180","v":14.831}]
[null,null,null,null,null,null,null,null,{"$f":"J181","v":"Lower CI"},null,null,{"$f":"K181","v":14.91},null,{"$f":"L181","v":11.88}]
[null,null,null,null,null,null,null,null,"Upper CI",null,null,16.18,null,17.782]
[]
[]
[]
[]
[]
[]
[]
[]
[]
[]
[]
[]
[]
[]
[]
[]
[]
[]
["Aberdeen City",null,"Scotland",{"$f":"A128","v":"Aberdeen City"},null,null,"Scotland",{"$f":"A128","v":"Aberdeen City"},null,null,"Scotland",{"$f":"A128","v":"Aberdeen City"}]
["Aberdeen City","SAH",null,null,null,"WEMWBS",null,null,null,"GHQ-12"]
["Aberdeenshire","Very good/good",{"$f":"'SAH chart'!R36","v":73.78},{"$f":"INDEX('SAH chart'!$C$34:$P$48, 3, MATCH('Summary By Local Authority'!$A$128,'SAH chart'!$C$34:$P$34, 0))","v":76.872},null,"Mean",{"$f":"'WEMWBS chart '!I36","v":50.99},{"$f":"INDEX('WEMWBS chart '!$C$34:$P$40, 3, MATCH('Summary By Local Authority'!$H$128, 'WEMWBS chart '!$C$34:$P$34, 0))","v":50.664999999999999},null,"Score 0",{"$f":"'GHQ-12 chart'!I36","v":64.694000000000003},{"$f":"INDEX('GHQ-12 chart'!$C$34:$P$48, 3, MATCH('Summary By Local Authority'!$L$128, 'GHQ-12 chart'!$C$34:$P$34, 0))","v":58.237000000000002}]
["Angus","Lower CI",{"$f":"'SAH chart'!R37","v":72.900000000000006},{"$f":"INDEX('SAH chart'!$C$34:$P$48, 4, MATCH('Summary By Local Authority'!$A$128,'SAH chart'!$C$34:$P$34, 0))","v":73.218000000000004},null,"Lower CI",{"$f":"'WEMWBS chart '!I37","v":50.209000000000003},{"$f":"INDEX('WEMWBS chart '!$C$34:$P$40, 4, MATCH('Summary By Local Authority'!$H$128, 'WEMWBS chart '!$C$34:$P$34, 0))","v":50.06},null,"Lower CI",{"$f":"'GHQ-12 chart'!I37","v":59.478999999999999},{"$f":"INDEX('GHQ-12 chart'!$C$34:$P$48, 4, MATCH('Summary By Local Authority'!$L$128, 'GHQ-12 chart'!$C$34:$P$34, 0))","v":54.322000000000003}]
["Argyll & Bute","Upper CI",{"$f":"'SAH chart'!R38","v":74.66},{"$f":"INDEX('SAH chart'!$C$34:$P$48, 5, MATCH('Summary By Local Authority'!$A$128,'SAH chart'!$C$34:$P$34, 0))","v":80.525999999999996},null,"Upper CI",{"$f":"'WEMWBS chart '!I38","v":51.77},{"$f":"INDEX('WEMWBS chart '!$C$34:$P$40, 5, MATCH('Summary By Local Authority'!$H$128, 'WEMWBS chart '!$C$34:$P$34, 0))","v":51.27},null,"Upper CI",{"$f":"'GHQ-12 chart'!I38","v":69.908000000000001},{"$f":"INDEX('GHQ-12 chart'!$C$34:$P$48, 5, MATCH('Summary By Local Authority'!$L$128, 'GHQ-12 chart'!$C$34:$P$34, 0))","v":62.152000000000001}]
["Clackmannanshire","Fair",{"$f":"'SAH chart'!R39","v":17.97},{"$f":"INDEX('SAH chart'!$C$34:$P$48, 6, MATCH('Summary By Local Authority'!$A$128,'SAH chart'!$C$34:$P$34, 0))","v":16.295000000000002},null,null,null,null,null,"Score 1-3",{"$f":"'GHQ-12 chart'!I39","v":19.332000000000001},{"$f":"INDEX('GHQ-12 chart'!$C$34:$P$48, 6, MATCH('Summary By Local Authority'!$L$128, 'GHQ-12 chart'!$C$34:$P$34, 0))","v":28.010999999999999}]
["Dumfries & Galloway","Lower CI",{"$f":"'SAH chart'!R40","v":17.28},{"$f":"INDEX('SAH chart'!$C$34:$P$48, 7, MATCH('Summary By Local Authority'!$A$128,'SAH chart'!$C$34:$P$34, 0))","v":13.266},null,"CLS",{"$f":"G130-G131","v":0.78099999999999881},{"$f":"INDEX('WEMWBS chart '!$C$34:$P$40, 7, MATCH('Summary By Local Authority'!$H$128, 'WEMWBS chart '!$C$34:$P$34, 0))","v":0.60499999999999687},null,"Lower CI",{"$f":"'GHQ-12 chart'!I40","v":15.327},{"$f":"INDEX('GHQ-12 chart'!$C$34:$P$48, 7, MATCH('Summary By Local Authority'!$L$128, 'GHQ-12 chart'!$C$34:$P$34, 0))","v":24.873999999999999}]
["Dundee City","Upper CI",{"$f":"'SAH chart'!R41","v":18.649999999999999},{"$f":"INDEX('SAH chart'!$C$34:$P$48, 8, MATCH('Summary By Local Authority'!$A$128,'SAH chart'!$C$34:$P$34, 0))","v":19.324000000000002},null,null,null,null,null,"Upper CI",{"$f":"'GHQ-12 chart'!I41","v":23.337},{"$f":"INDEX('GHQ-12 chart'!$C$34:$P$48, 8, MATCH('Summary By Local Authority'!$L$128, 'GHQ-12 chart'!$C$34:$P$34, 0))","v":31.148}]
["East Ayrshire","Bad/very bad",{"$f":"'SAH chart'!R42","v":8.25},{"$f":"INDEX('SAH chart'!$C$34:$P$48, 9, MATCH('Summary By Local Authority'!$A$128,'SAH chart'!$C$34:$P$34, 0))","v":6.8330000000000002},null,null,null,null,null,"Score 4+",{"$f":"'GHQ-12 chart'!I42","v":15.974},{"$f":"INDEX('GHQ-12 chart'!$C$34:$P$48, 9, MATCH('Summary By Local Authority'!$L$128, 'GHQ-12 chart'!$C$34:$P$34, 0))","v":13.752000000000001}]
["East Dunbartonshire","Lower CI",{"$f":"'SAH chart'!R43","v":7.75},{"$f":"INDEX('SAH chart'!$C$34:$P$48, 10, MATCH('Summary By Local Authority'!$A$128,'SAH chart'!$C$34:$P$34, 0))","v":5.2110000000000003},null,null,null,null,null,"Lower CI",{"$f":"'GHQ-12 chart'!I43","v":12.503},{"$f":"INDEX('GHQ-12 chart'!$C$34:$P$48, 10, MATCH('Summary By Local Authority'!$L$128, 'GHQ-12 chart'!$C$34:$P$34, 0))","v":11.515000000000001}]
["East Lothian","Upper CI",{"$f":"'SAH chart'!R44","v":8.76},{"$f":"INDEX('SAH chart'!$C$34:$P$48, 11, MATCH('Summary By Local Authority'!$A$128,'SAH chart'!$C$34:$P$34, 0))","v":8.4550000000000001},null,null,null,null,null,"Upper CI",{"$f":"'GHQ-12 chart'!I44","v":19.446000000000002},{"$f":"INDEX('GHQ-12 chart'!$C$34:$P$48, 11, MATCH('Summary By Local Authority'!$L$128, 'GHQ-12 chart'!$C$34:$P$34, 0))","v":15.988}]
["East Renfrewshire",null,null,{"$f":"INDEX('SAH chart'!$C$34:$P$48, 12, MATCH('Summary By Local Authority'!$A$128,'SAH chart'!$C$34:$P$34, 0))","v":0}]
["Edinburgh, City of","Very good",{"$f":"'SAH chart'!R46","v":0.87999999999999545},{"$f":"INDEX('SAH chart'!$C$34:$P$48, 13, MATCH('Summary By Local Authority'!$A$128,'SAH chart'!$C$34:$P$34, 0))","v":3.6539999999999964},null,null,null,null,null,"Score 0",{"$f":"K130-K131","v":5.2150000000000034},{"$f":"INDEX('GHQ-12 chart'!$C$34:$P$48, 13, MATCH('Summary By Local Authority'!$L$128, 'GHQ-12 chart'!$C$34:$P$34, 0))","v":3.9149999999999991}]
["Falkirk","Fair",{"$f":"'SAH chart'!R47","v":0.68999999999999773},{"$f":"INDEX('SAH chart'!$C$34:$P$48, 14, MATCH('Summary By Local Authority'!$A$128,'SAH chart'!$C$34:$P$34, 0))","v":3.0290000000000017},null,null,null,null,null,"Score 1-3",{"$f":"K133-K134","v":4.0050000000000008},{"$f":"INDEX('GHQ-12 chart'!$C$34:$P$48, 14, MATCH('Summary By Local Authority'!$L$128, 'GHQ-12 chart'!$C$34:$P$34, 0))","v":3.1370000000000005}]
["Fife","Bad/ very bad",{"$f":"'SAH chart'!R48","v":0.5},{"$f":"INDEX('SAH chart'!$C$34:$P$48, 15, MATCH('Summary By Local Authority'!$A$128,'SAH chart'!$C$34:$P$34, 0))","v":1.6219999999999999},null,null,null,null,null,"Score 4+",{"$f":"K136-K137","v":3.4710000000000001},{"$f":"INDEX('GHQ-12 chart'!$C$34:$P$48, 15, MATCH('Summary By Local Authority'!$L$128, 'GHQ-12 chart'!$C$34:$P$34, 0))","v":2.2370000000000001}]
["Glasgow City"]
["Highland",null,"Scotland",{"$f":"A128","v":"Aberdeen City"},null,null,"Scotland",{"$f":"A128","v":"Aberdeen City"},null,null,"Scotland",{"$f":"A128","v":"Aberdeen City"}]
["Inverclyde","Longterm illness",null,null,null,"Alcohol guidelines",null,null,null,"Mean units"]
["Midlothian","All Adults"]
["Moray","Limiting long-term illness",{"$f":"'Long-term illness chart'!I36","v":31.841000000000001},{"$f":"INDEX( 'Long-term illness chart'!$C$34:$R$48, 3, MATCH('Summary By Local Authority'!$D$144, 'Long-term illness chart'!$C$34:$R$34, 0 ))","v":27.888000000000002},null,"Non drinker",{"$f":"'Alcohol guidelines chart'!I34","v":12.965},{"$f":"INDEX('Alcohol guidelines chart'!$C$32:$R$46, 3, MATCH('Summary By Local Authority'!$H$144, 'Alcohol guidelines chart'!$C$32:$R$32, 0))","v":19.667999999999999},null,"Weekly mean units",{"$f":"'Mean units chart'!O36","v":12.57},{"$f":"INDEX('Mean units chart'!$C$34:$O$40,3,MATCH('Summary By Local Authority'!$L$144,'Mean units chart'!$C$34:$O$34,0))","v":14.564}]
["Na h-Eileanan Siar","Lower CI",{"$f":"'Long-term illness chart'!I37","v":27.100999999999999},{"$f":"INDEX( 'Long-term illness chart'!$C$34:$R$48, 4, MATCH('Summary By Local Authority'!$D$144, 'Long-term illness chart'!$C$34:$R$34, 0 ))","v":23.946999999999999},null,"Lower CI",{"$f":"'Alcohol guidelines chart'!I35","v":10.106999999999999},{"$f":"INDEX('Alcohol guidelines chart'!$C$32:$R$46, 4, MATCH('Summary By Local Authority'!$H$144, 'Alcohol guidelines chart'!$C$32:$R$32, 0))","v":16.495999999999999},null,"Lower CI",{"$f":"'Mean units chart'!O37","v":12.2},{"$f":"INDEX('Mean units chart'!$C$34:$O$40,4,MATCH('Summary By Local Authority'!$L$144,'Mean units chart'!$C$34:$O$34,0))","v":12.346}]
["North Ayrshire","Upper CI",{"$f":"'Long-term illness chart'!I38","v":36.581000000000003},{"$f":"INDEX( 'Long-term illness chart'!$C$34:$R$48, 5, MATCH('Summary By Local Authority'!$D$144, 'Long-term illness chart'!$C$34:$R$34, 0 ))","v":31.829000000000001},null,"Upper CI",{"$f":"'Alcohol guidelines chart'!I36","v":15.821999999999999},{"$f":"INDEX('Alcohol guidelines chart'!$C$32:$R$46, 5, MATCH('Summary By Local Authority'!$H$144, 'Alcohol guidelines chart'!$C$32:$R$32, 0))","v":22.841000000000001},null,"Upper CI",{"$f":"'Mean units chart'!O38","v":12.94},{"$f":"INDEX('Mean units chart'!$C$34:$O$40,5,MATCH('Summary By Local Authority'!$L$144,'Mean units chart'!$C$34:$O$34,0))","v":16.782}]
["North Lanarkshire","Non-limiting long-term illness",{"$f":"'Long-term illness chart'!I39","v":14.843},{"$f":"INDEX( 'Long-term illness chart'!$C$34:$R$48, 6, MATCH('Summary By Local Authority'!$D$144, 'Long-term illness chart'!$C$34:$R$34, 0 ))","v":14.711},null,"Moderate",{"$f":"'Alcohol guidelines chart'!I37","v":62.05},{"$f":"INDEX('Alcohol guidelines chart'!$C$32:$R$46, 6, MATCH('Summary By Local Authority'!$H$144, 'Alcohol guidelines chart'!$C$32:$R$32, 0))","v":52.945999999999998}]
["Orkney Islands","Lower CI",{"$f":"'Long-term illness chart'!I40","v":11.727},{"$f":"INDEX( 'Long-term illness chart'!$C$34:$R$48, 7, MATCH('Summary By Local Authority'!$D$144, 'Long-term illness chart'!$C$34:$R$34, 0 ))","v":12.076000000000001},null,"Lower CI",{"$f":"'Alcohol guidelines chart'!I38","v":57.454000000000001},{"$f":"INDEX('Alcohol guidelines chart'!$C$32:$R$46, 7, MATCH('Summary By Local Authority'!$H$144, 'Alcohol guidelines chart'!$C$32:$R$32, 0))","v":48.73},null,"CLs",{"$f":"'Mean units chart'!O40","v":0.37000000000000099},{"$f":"INDEX('Mean units chart'!$C$34:$O$40,7,MATCH('Summary By Local Authority'!$L$144,'Mean units chart'!$C$34:$O$34,0))","v":2.218}]
["Perth & Kinross","Upper CI",{"$f":"'Long-term illness chart'!I41","v":17.959},{"$f":"INDEX( 'Long-term illness chart'!$C$34:$R$48, 8, MATCH('Summary By Local Authority'!$D$144, 'Long-term illness chart'!$C$34:$R$34, 0 ))","v":17.347000000000001},null,"Upper CI",{"$f":"'Alcohol guidelines chart'!I39","v":66.644999999999996},{"$f":"INDEX('Alcohol guidelines chart'!$C$32:$R$46, 8, MATCH('Summary By Local Authority'!$H$144, 'Alcohol guidelines chart'!$C$32:$R$32, 0))","v":57.161999999999999}]
["Renfrewshire","No long-term illness",{"$f":"'Long-term illness chart'!I42","v":53.316000000000003},{"$f":"INDEX( 'Long-term illness chart'!$C$34:$R$48, 9, MATCH('Summary By Local Authority'!$D$144, 'Long-term illness chart'!$C$34:$R$34, 0 ))","v":57.401000000000003},null,"Hazardous/harmful",{"$f":"'Alcohol guidelines chart'!I40","v":24.986000000000001},{"$f":"INDEX('Alcohol guidelines chart'!$C$32:$R$46, 9, MATCH('Summary By Local Authority'!$H$144, 'Alcohol guidelines chart'!$C$32:$R$32, 0))","v":27.385999999999999}]
["Scottish Borders","Lower CI",{"$f":"'Long-term illness chart'!I43","v":47.273000000000003},{"$f":"INDEX( 'Long-term illness chart'!$C$34:$R$48, 10, MATCH('Summary By Local Authority'!$D$144, 'Long-term illness chart'!$C$34:$R$34, 0 ))","v":52.848999999999997},null,"Lower CI",{"$f":"'Alcohol guidelines chart'!I41","v":21.143999999999998},{"$f":"INDEX('Alcohol guidelines chart'!$C$32:$R$46, 10, MATCH('Summary By Local Authority'!$H$144, 'Alcohol guidelines chart'!$C$32:$R$32, 0))","v":23.623000000000001}]
["Shetland Islands","Upper CI",{"$f":"'Long-term illness chart'!I44","v":59.357999999999997},{"$f":"INDEX( 'Long-term illness chart'!$C$34:$R$48, 11, MATCH('Summary By Local Authority'!$D$144, 'Long-term illness chart'!$C$34:$R$34, 0 ))","v":61.951999999999998},null,"Upper CI",{"$f":"'Alcohol guidelines chart'!I42","v":28.827000000000002},{"$f":"INDEX('Alcohol guidelines chart'!$C$32:$R$46, 11, MATCH('Summary By Local Authority'!$H$144, 'Alcohol guidelines chart'!$C$32:$R$32, 0))","v":31.148}]
["South Ayrshire"]
["South Lanarkshire","Limiting long-term illness",{"$f":"C147-C148","v":4.740000000000002},{"$f":"INDEX( 'Long-term illness chart'!$C$34:$R$48, 13, MATCH('Summary By Local Authority'!$D$144, 'Long-term illness chart'!$C$34:$R$34, 0 ))","v":3.9410000000000025},null,"Non drinker",{"$f":"G147-G148","v":2.8580000000000005},{"$f":"INDEX('Alcohol guidelines chart'!$C$32:$R$46, 13, MATCH('Summary By Local Authority'!$H$144, 'Alcohol guidelines chart'!$C$32:$R$32, 0))","v":3.1720000000000006}]
["Stirling","Non-limiting long-term illness",{"$f":"C150-C151","v":3.1159999999999997},{"$f":"INDEX( 'Long-term illness chart'!$C$34:$R$48, 14, MATCH('Summary By Local Authority'!$D$144, 'Long-term illness chart'!$C$34:$R$34, 0 ))","v":2.6349999999999998},null,"Moderate",{"$f":"G150-G151","v":4.5959999999999965},{"$f":"INDEX('Alcohol guidelines chart'!$C$32:$R$46, 14, MATCH('Summary By Local Authority'!$H$144, 'Alcohol guidelines chart'!$C$32:$R$32, 0))","v":4.2160000000000011}]
["West Dunbartonshire","No long-term illness",{"$f":"C153-C154","v":6.0429999999999993},{"$f":"INDEX( 'Long-term illness chart'!$C$34:$R$48, 15, MATCH('Summary By Local Authority'!$D$144, 'Long-term illness chart'!$C$34:$R$34, 0 ))","v":4.5520000000000067},null,"Hazardous/harmful",{"$f":"G153-G154","v":3.8420000000000023},{"$f":"INDEX('Alcohol guidelines chart'!$C$32:$R$46, 15, MATCH('Summary By Local Authority'!$H$144, 'Alcohol guidelines chart'!$C$32:$R$32, 0))","v":3.7629999999999981}]
["West Lothian"]
[null,null,"Scotland",{"$f":"A128","v":"Aberdeen City"},null,null,"Scotland",{"$f":"A128","v":"Aberdeen City"},null,null,"Scotland",{"$f":"A128","v":"Aberdeen City"}]
[null,"Smoking",null,null,null,"Overweight",null,null,null,"Fruit & Veg"]
[null,"Never smoked, or ex-occasional",{"$f":"'Smoking chart'!R36","v":54.55},{"$f":"INDEX( 'Smoking chart'!$C$34:$R$48, 3, MATCH('Summary By Local Authority'!$D$161, 'Smoking chart'!$C$34:$R$34, 0))","v":56.198999999999998},null,"Overweight (including obese)",{"$f":"'Overweight chart'!O36","v":64.87},{"$f":"INDEX('Overweight chart'!$C$34:$O$40, 3, MATCH('Summary By Local Authority'!$H$161, 'Overweight chart'!$C$34:$O$34, 0))","v":60.85},null,"None",{"$f":"'Fruit and veg chart'!R36","v":10.52},{"$f":"INDEX('Fruit and veg chart'!$C$34:$R$48, 3, MATCH('Summary By Local Authority'!$L$161, 'Fruit and veg chart'!$C$34:$R$34, 0))","v":7.0570000000000004}]
[null,"Lower CI",{"$f":"'Smoking chart'!R37","v":53.5},{"$f":"INDEX( 'Smoking chart'!$C$34:$R$48, 4, MATCH('Summary By Local Authority'!$D$161, 'Smoking chart'!$C$34:$R$34, 0))","v":51.890999999999998},null,"Lower CI",{"$f":"'Overweight chart'!O37","v":63.8},{"$f":"INDEX('Overweight chart'!$C$34:$O$40, 4, MATCH('Summary By Local Authority'!$H$161, 'Overweight chart'!$C$34:$O$34, 0))","v":56.447000000000003},null,"Lower CI",{"$f":"'Fruit and veg chart'!R37","v":9.86},{"$f":"INDEX('Fruit and veg chart'!$C$34:$R$48, 4, MATCH('Summary By Local Authority'!$L$161, 'Fruit and veg chart'!$C$34:$R$34, 0))","v":5.22}]
[null,"Upper CI",{"$f":"'Smoking chart'!R38","v":55.59},{"$f":"INDEX( 'Smoking chart'!$C$34:$R$48, 5, MATCH('Summary By Local Authority'!$D$161, 'Smoking chart'!$C$34:$R$34, 0))","v":60.506999999999998},null,"Upper CI",{"$f":"'Overweight chart'!O38","v":65.930000000000007},{"$f":"INDEX('Overweight chart'!$C$34:$O$40, 5, MATCH('Summary By Local Authority'!$H$161, 'Overweight chart'!$C$34:$O$34, 0))","v":65.253},null,"Upper CI",{"$f":"'Fruit and veg chart'!R38","v":11.19},{"$f":"INDEX('Fruit and veg chart'!$C$34:$R$48, 5, MATCH('Summary By Local Authority'!$L$161, 'Fruit and veg chart'!$C$34:$R$34, 0))","v":8.8930000000000007}]
[null,"Ex-regular smoker, or occasional",{"$f":"'Smoking chart'!R39","v":24.21},{"$f":"INDEX( 'Smoking chart'!$C$34:$R$48, 6, MATCH('Summary By Local Authority'!$D$161, 'Smoking chart'!$C$34:$R$34, 0))","v":19.518999999999998},null,null,null,null,null,"Less than 5 portions",{"$f":"'Fruit and veg chart'!R39","v":68.73},{"$f":"INDEX('Fruit and veg chart'!$C$34:$R$48, 6, MATCH('Summary By Local Authority'!$L$161, 'Fruit and veg chart'!$C$34:$R$34, 0))","v":71.616}]
[null,"Lower CI",{"$f":"'Smoking chart'!R40","v":23.43},{"$f":"INDEX( 'Smoking chart'!$C$34:$R$48, 7, MATCH('Summary By Local Authority'!$D$161, 'Smoking chart'!$C$34:$R$34, 0))","v":17.030999999999999},null,"CLs",{"$f":"'Overweight chart'!O40","v":1.0700000000000074},{"$f":"INDEX('Overweight chart'!$C$34:$O$40, 7, MATCH('Summary By Local Authority'!$H$161, 'Overweight chart'!$C$34:$O$34, 0))","v":4.4029999999999987},null,"Lower CI",{"$f":"'Fruit and veg chart'!R40","v":67.84},{"$f":"INDEX('Fruit and veg chart'!$C$34:$R$48, 7, MATCH('Summary By Local Authority'!$L$161, 'Fruit and veg chart'!$C$34:$R$34, 0))","v":68.167000000000002}]
[null,"Upper CI",{"$f":"'Smoking chart'!R41","v":24.98},{"$f":"INDEX( 'Smoking chart'!$C$34:$R$48, 8, MATCH('Summary By Local Authority'!$D$161, 'Smoking chart'!$C$34:$R$34, 0))","v":22.007000000000001},null,null,null,null,null,"Upper CI",{"$f":"'Fruit and veg chart'!R41","v":69.63},{"$f":"INDEX('Fruit and veg chart'!$C$34:$R$48, 8, MATCH('Summary By Local Authority'!$L$161, 'Fruit and veg chart'!$C$34:$R$34, 0))","v":75.064999999999998}]
[null,"Regular smoker",{"$f":"'Smoking chart'!R42","v":21.25},{"$f":"INDEX( 'Smoking chart'!$C$34:$R$48, 9, MATCH('Summary By Local Authority'!$D$161, 'Smoking chart'!$C$34:$R$34, 0))","v":24.280999999999999},null,null,null,null,null,"5 portions or more",{"$f":"'Fruit and veg chart'!R42","v":20.74},{"$f":"INDEX('Fruit and veg chart'!$C$34:$R$48, 9, MATCH('Summary By Local Authority'!$L$161, 'Fruit and veg chart'!$C$34:$R$34, 0))","v":21.327000000000002}]
[null,"Lower CI",{"$f":"'Smoking chart'!R43","v":20.399999999999999},{"$f":"INDEX( 'Smoking chart'!$C$34:$R$48, 10, MATCH('Summary By Local Authority'!$D$161, 'Smoking chart'!$C$34:$R$34, 0))","v":20.536000000000001},null,null,"Scotland",{"$f":"A128","v":"Aberdeen City"},null,"Lower CI",{"$f":"'Fruit and veg chart'!R43","v":19.920000000000002},{"$f":"INDEX('Fruit and veg chart'!$C$34:$R$48, 10, MATCH('Summary By Local Authority'!$L$161, 'Fruit and veg chart'!$C$34:$R$34, 0))","v":18.492999999999999}]
[null,"Upper CI",{"$f":"'Smoking chart'!R44","v":22.1},{"$f":"INDEX( 'Smoking chart'!$C$34:$R$48, 11, MATCH('Summary By Local Authority'!$D$161, 'Smoking chart'!$C$34:$R$34, 0))","v":28.027000000000001},null,"Obesity",null,null,null,"Upper CI",{"$f":"'Fruit and veg chart'!R44","v":21.57},{"$f":"INDEX('Fruit and veg chart'!$C$34:$R$48, 11, MATCH('Summary By Local Authority'!$L$161, 'Fruit and veg chart'!$C$34:$R$34, 0))","v":24.161000000000001}]
[null,null,null,null,null,"Obese",{"$f":"'Obesity chart'!O36","v":28.32},{"$f":"INDEX('Obesity chart'!$C$34:$O$40, 3, MATCH('Summary By Local Authority'!$H$170, 'Obesity chart'!$C$34:$O$34, 0))","v":24.57}]
[null,"Never smoked, or ex-occasional",{"$f":"'Smoking chart'!R46","v":1.0499999999999972},{"$f":"INDEX( 'Smoking chart'!$C$34:$R$48, 13, MATCH('Summary By Local Authority'!$D$161, 'Smoking chart'!$C$34:$R$34, 0))","v":4.3079999999999998},null,"Lower CI",{"$f":"'Obesity chart'!O37","v":27.43},{"$f":"INDEX('Obesity chart'!$C$34:$O$40, 4, MATCH('Summary By Local Authority'!$H$170, 'Obesity chart'!$C$34:$O$34, 0))","v":21.207000000000001},null,"None",{"$f":"'Fruit and veg chart'!R46","v":0.66000000000000014},{"$f":"INDEX('Fruit and veg chart'!$C$34:$R$48, 13, MATCH('Summary By Local Authority'!$L$161, 'Fruit and veg chart'!$C$34:$R$34, 0))","v":1.8370000000000006}]
[null,"Ex-regular smoker, or occasional",{"$f":"'Smoking chart'!R47","v":0.78000000000000114},{"$f":"INDEX( 'Smoking chart'!$C$34:$R$48, 14, MATCH('Summary By Local Authority'!$D$161, 'Smoking chart'!$C$34:$R$34, 0))","v":2.4879999999999995},null,"Upper CI",{"$f":"'Obesity chart'!O38","v":29.2},{"$f":"INDEX('Obesity chart'!$C$34:$O$40, 5, MATCH('Summary By Local Authority'!$H$170, 'Obesity chart'!$C$34:$O$34, 0))","v":27.934000000000001},null,"Less than 5 portions",{"$f":"'Fruit and veg chart'!R47","v":0.89000000000000057},{"$f":"INDEX('Fruit and veg chart'!$C$34:$R$48, 14, MATCH('Summary By Local Authority'!$L$161, 'Fruit and veg chart'!$C$34:$R$34, 0))","v":3.4489999999999981}]
[null,"Regular smoker",{"$f":"'Smoking chart'!R48","v":0.85000000000000142},{"$f":"INDEX( 'Smoking chart'!$C$34:$R$48, 15, MATCH('Summary By Local Authority'!$D$161, 'Smoking chart'!$C$34:$R$34, 0))","v":3.7449999999999974},null,null,null,null,null,"5 portions or more",{"$f":"'Fruit and veg chart'!R48","v":0.81999999999999673},{"$f":"INDEX('Fruit and veg chart'!$C$34:$R$48, 15, MATCH('Summary By Local Authority'!$L$161, 'Fruit and veg chart'!$C$34:$R$34, 0))","v":2.8340000000000032}]
[null,null,null,null,null,"CLs",{"$f":"'Obesity chart'!O40","v":0.89000000000000057},{"$f":"INDEX('Obesity chart'!$C$34:$O$40, 7, MATCH('Summary By Local Authority'!$H$170, 'Obesity chart'!$C$34:$O$34, 0))","v":3.3629999999999995}]
[]
[null,null,"Scotland",{"$f":"A128","v":"Aberdeen City"},null,null,"Scotland",{"$f":"A128","v":"Aberdeen City"},null,null,"Scotland",{"$f":"A128","v":"Aberdeen City"}]
[null,"Mean Fruit & Veg",null,null,null,"Phys Act",null,null,null,"CVD"]
[null,"Mean",{"$f":"'Mean fruit and veg chart'!R36","v":3.14},{"$f":"INDEX( 'Mean fruit and veg chart'!$C$34:$R$40, 3, MATCH('Summary By Local Authority'!$D$178, 'Mean fruit and veg chart'!$C$34:$R$34, 0 ))","v":3.3210000000000002},null,"Meets guidelines",{"$f":"'Physical activity chart'!Q36","v":63.5},{"$f":"INDEX('Physical activity chart'!$C$34:$Q$52, 3, MATCH('Summary By Local Authority'!$H$178, 'Physical activity chart'!$C$34:$Q$34, 0))","v":67.614999999999995},null,"Has a cardiovascular condition",{"$f":"'CVD chart'!R36","v":15.55},{"$f":"INDEX('CVD chart'!$C$34:$R$40, 3, MATCH('Summary By Local Authority'!$L$178, 'CVD chart'!$C$34:$R$34, 0))","v":14.831}]
[null,"Lower CI",{"$f":"'Mean fruit and veg chart'!R37","v":3.09},{"$f":"INDEX( 'Mean fruit and veg chart'!$C$34:$R$40, 4, MATCH('Summary By Local Authority'!$D$178, 'Mean fruit and veg chart'!$C$34:$R$34, 0 ))","v":3.1230000000000002},null,"Lower CI",{"$f":"'Physical activity chart'!Q37","v":62.51},{"$f":"INDEX('Physical activity chart'!$C$34:$Q$52, 4, MATCH('Summary By Local Authority'!$H$178, 'Physical activity chart'!$C$34:$Q$34, 0))","v":63.588000000000001},null,"Lower CI",{"$f":"'CVD chart'!R37","v":14.91},{"$f":"INDEX('CVD chart'!$C$34:$R$40, 4, MATCH('Summary By Local Authority'!$L$178, 'CVD chart'!$C$34:$R$34, 0))","v":11.88}]
[null,"Upper CI",{"$f":"'Mean fruit and veg chart'!R38","v":3.2},{"$f":"INDEX( 'Mean fruit and veg chart'!$C$34:$R$40, 5, MATCH('Summary By Local Authority'!$D$178, 'Mean fruit and veg chart'!$C$34:$R$34, 0 ))","v":3.5179999999999998},null,"Upper CI",{"$f":"'Physical activity chart'!Q38","v":64.5},{"$f":"INDEX('Physical activity chart'!$C$34:$Q$52, 5, MATCH('Summary By Local Authority'!$H$178, 'Physical activity chart'!$C$34:$Q$34, 0))","v":71.643000000000001},null,"Upper CI",{"$f":"'CVD chart'!R38","v":16.18},{"$f":"INDEX('CVD chart'!$C$34:$R$40, 5, MATCH('Summary By Local Authority'!$L$178, 'CVD chart'!$C$34:$R$34, 0))","v":17.782}]
[null,null,null,null,null,"Some activity",{"$f":"'Physical activity chart'!Q39","v":11.13},{"$f":"INDEX('Physical activity chart'!$C$34:$Q$52, 6, MATCH('Summary By Local Authority'!$H$178, 'Physical activity chart'!$C$34:$Q$34, 0))","v":9.2759999999999998}]
[null,"CLs",{"$f":"'Mean fruit and veg chart'!R40","v":5.0000000000000266E-2},{"$f":"INDEX( 'Mean fruit and veg chart'!$C$34:$R$40, 7, MATCH('Summary By Local Authority'!$D$178, 'Mean fruit and veg chart'!$C$34:$R$34, 0 ))","v":0.19799999999999995},null,"Lower CI",{"$f":"'Physical activity chart'!Q40","v":10.56},{"$f":"INDEX('Physical activity chart'!$C$34:$Q$52, 7, MATCH('Summary By Local Authority'!$H$178, 'Physical activity chart'!$C$34:$Q$34, 0))","v":7.14},null,"CLs",{"$f":"'CVD chart'!R40","v":0.64000000000000057},{"$f":"INDEX('CVD chart'!$C$34:$R$40, 7, MATCH('Summary By Local Authority'!$L$178, 'CVD chart'!$C$34:$R$34, 0))","v":2.9509999999999987}]
[null,null,null,null,null,"Upper CI",{"$f":"'Physical activity chart'!Q41","v":11.7},{"$f":"INDEX('Physical activity chart'!$C$34:$Q$52, 8, MATCH('Summary By Local Authority'!$H$178, 'Physical activity chart'!$C$34:$Q$34, 0))","v":11.412000000000001}]
[null,null,null,null,null,"Low activity",{"$f":"'Physical activity chart'!Q42","v":4.33},{"$f":"INDEX('Physical activity chart'!$C$34:$Q$52, 9, MATCH('Summary By Local Authority'!$H$178, 'Physical activity chart'!$C$34:$Q$34, 0))","v":3.871}]
[null,null,null,null,null,"Lower CI",{"$f":"'Physical activity chart'!Q43","v":3.99},{"$f":"INDEX('Physical activity chart'!$C$34:$Q$52, 10, MATCH('Summary By Local Authority'!$H$178, 'Physical activity chart'!$C$34:$Q$34, 0))","v":2.754}]
[null,null,null,null,null,"Upper CI",{"$f":"'Physical activity chart'!Q44","v":4.68},{"$f":"INDEX('Physical activity chart'!$C$34:$Q$52, 11, MATCH('Summary By Local Authority'!$H$178, 'Physical activity chart'!$C$34:$Q$34, 0))","v":4.9889999999999999}]
[null,null,null,null,null,"Very low activity",{"$f":"'Physical activity chart'!Q45","v":21.03},{"$f":"INDEX('Physical activity chart'!$C$34:$Q$52, 12, MATCH('Summary By Local Authority'!$H$178, 'Physical activity chart'!$C$34:$Q$34, 0))","v":19.236999999999998}]
[null,null,null,null,null,"Lower CI",{"$f":"'Physical activity chart'!Q46","v":20.23},{"$f":"INDEX('Physical activity chart'!$C$34:$Q$52, 13, MATCH('Summary By Local Authority'!$H$178, 'Physical activity chart'!$C$34:$Q$34, 0))","v":16.568000000000001}]
[null,null,null,null,null,"Upper CI",{"$f":"'Physical activity chart'!Q47","v":21.84},{"$f":"INDEX('Physical activity chart'!$C$34:$Q$52, 14, MATCH('Summary By Local Authority'!$H$178, 'Physical activity chart'!$C$34:$Q$34, 0))","v":21.905999999999999}]
[null,null,null,null,null,null,{"$f":"'Physical activity chart'!Q48","v":0}]
[null,null,null,null,null,"Meets guidelines",{"$f":"'Physical activity chart'!Q49","v":0.99000000000000199},{"$f":"INDEX('Physical activity chart'!$C$34:$Q$52, 16, MATCH('Summary By Local Authority'!$H$178, 'Physical activity chart'!$C$34:$Q$34, 0))","v":4.0269999999999939}]
[null,null,null,null,null,"Some activity",{"$f":"'Physical activity chart'!Q50","v":0.57000000000000028},{"$f":"INDEX('Physical activity chart'!$C$34:$Q$52, 17, MATCH('Summary By Local Authority'!$H$178, 'Physical activity chart'!$C$34:$Q$34, 0))","v":2.1360000000000001}]
[null,null,null,null,null,"Low activity",{"$f":"'Physical activity chart'!Q51","v":0.33999999999999986},{"$f":"INDEX('Physical activity chart'!$C$34:$Q$52, 18, MATCH('Summary By Local Authority'!$H$178, 'Physical activity chart'!$C$34:$Q$34, 0))","v":1.117}]
[null,null,null,null,null,"Very low activity",{"$f":"'Physical activity chart'!Q52","v":0.80000000000000071},{"$f":"INDEX('Physical activity chart'!$C$34:$Q$52, 19, MATCH('Summary By Local Authority'!$H$178, 'Physical activity chart'!$C$34:$Q$34, 0))","v":2.6689999999999969}]

{"sheet":"Self-assessed general health","index":2,"n_rows":49,"n_cols":34,"rows_kept":49,"cut":false,"hidden":false,"merged":[[4,0,5,0],[0,0,1,0],[3,1,3,11]]}
["Self-assessed general health, by Local Authority and sex",null,null,null,null,null,null,null,null,null,null,null,null,"INDEX"]
[]
[]
["Aged 16 and over","PLEASE NOTE: Where the sample size for a Local Authority was below 500, the result has been suppressed. This is shown here by *.",null,null,null,null,null,null,null,null,null,null,null,null,null,"2013/2014/2015/2016 combined"]
["Self-assessed general health","Local Authority"]
[null,"Aberdeen City","Aberdeenshire","Angus","Argyll & Bute","Clackmannanshire","Dumfries & Galloway","Dundee City","East Ayrshire","East Dunbartonshire","East Lothian","East Renfrewshire","Edinburgh, City of","Falkirk","Fife","Glasgow City","Highland","Inverclyde","Midlothian","Moray","Na h-Eileanan Siar","North Ayrshire","North Lanarkshire","Orkney Islands","Perth & Kinross","Renfrewshire","Scottish Borders","Shetland Islands","South Ayrshire","South Lanarkshire","Stirling","West Dunbartonshire","West Lothian","Scotland"]
[null,"%","%","%","%","%","%","%","%","%","%","%","%","%","%","%","%","%","%","%","%","%","%","%","%","%","%","%","%","%","%","%","%","%"]
["Men"]
["Very good/good",77.981999999999999,78.17,"*","*","*","*","*",72.156000000000006,"*","*","*",79.33,"*",72.599999999999994,69.97,75.962000000000003,"*","*","*",71.558000000000007,67.551000000000002,68.95,83.034000000000006,"*","*","*",75.088999999999999,73.884,75.319999999999993,"*","*","*",74.08]
["Lower CI",73.808999999999997,74.069999999999993,"*","*","*","*","*",66.295000000000002,"*","*","*",75.62,"*",69.44,65.8,70.055000000000007,"*","*","*",65.674000000000007,62.616999999999997,63.73,79.429000000000002,"*","*","*",69.557000000000002,67.822000000000003,70.569999999999993,"*","*","*",72.88]
["Upper CI",82.155000000000001,82.27,"*","*","*","*","*",78.016999999999996,"*","*","*",83.04,"*",75.760000000000005,74.14,81.867999999999995,"*","*","*",77.441999999999993,72.486000000000004,74.16,86.638999999999996,"*","*","*",80.620999999999995,79.945999999999998,80.069999999999993,"*","*","*",75.290000000000006]
["Fair",14.156000000000001,16.96,"*","*","*","*","*",19.312999999999999,"*","*","*",15.64,"*",18.510000000000002,19.43,16.286999999999999,"*","*","*",23.289000000000001,23.96,20.02,13.661,"*","*","*",17.649999999999999,17.419,15.57,"*","*","*",17.93]
["Lower CI",11.1,13.66,"*","*","*","*","*",14.362,"*","*","*",12.4,"*",15.99,15.9,11.16,"*","*","*",17.288,19.024000000000001,15.69,9.6839999999999993,"*","*","*",12.593999999999999,12.041,12.13,"*","*","*",16.93]
["Upper CI",17.212,20.27,"*","*","*","*","*",24.263999999999999,"*","*","*",18.88,"*",21.03,22.96,21.413,"*","*","*",29.29,28.896000000000001,24.34,17.638000000000002,"*","*","*",22.707000000000001,22.795999999999999,19,"*","*","*",18.940000000000001]
["Bad/very bad",7.8620000000000001,4.87,"*","*","*","*","*",8.5310000000000006,"*","*","*",5.03,"*",8.89,10.59,7.7519999999999998,"*","*","*",5.1529999999999996,8.4879999999999995,11.04,3.3050000000000002,"*","*","*",7.2610000000000001,8.6969999999999992,9.11,"*","*","*",7.98]
["Lower CI",5.2919999999999998,2.8,"*","*","*","*","*",4.91,"*","*","*",3.35,"*",7.05,8.2200000000000006,3.9660000000000002,"*","*","*",2.8980000000000001,5.8129999999999997,7.51,1.2470000000000001,"*","*","*",3.5089999999999999,5.9080000000000004,5.64,"*","*","*",7.29]
["Upper CI",10.430999999999999,6.95,"*","*","*","*","*",12.151999999999999,"*","*","*",6.71,"*",10.74,12.97,11.538,"*","*","*",7.407,11.164,14.57,5.3639999999999999,"*","*","*",11.012,11.487,12.59,"*","*","*",8.67]
[]
["Women"]
["Very good/good",75.873999999999995,80.319999999999993,"*","*","*","*","*",67.662999999999997,"*","*","*",81.239999999999995,"*",70.59,65.650000000000006,75.986999999999995,"*","*","*",73.831000000000003,65.378,70.42,82.483000000000004,"*","*","*",76.597999999999999,73.641000000000005,75.400000000000006,"*","*","*",73.489999999999995]
["Lower CI",71.521000000000001,77.17,"*","*","*","*","*",62.302999999999997,"*","*","*",78.39,"*",67.81,61.93,70.534000000000006,"*","*","*",70.031999999999996,59.116,65.73,77.179000000000002,"*","*","*",70.944999999999993,69.873000000000005,70.87,"*","*","*",72.459999999999994]
["Upper CI",80.225999999999999,83.47,"*","*","*","*","*",73.024000000000001,"*","*","*",84.09,"*",73.38,69.36,81.44,"*","*","*",77.63,71.64,75.11,87.787000000000006,"*","*","*",82.251000000000005,77.41,79.92,"*","*","*",74.53]
["Fair",18.22,15.15,"*","*","*","*","*",19.920000000000002,"*","*","*",14.54,"*",20.49,21.67,17.14,"*","*","*",19.481000000000002,23.062000000000001,18.71,12.616,"*","*","*",16.419,15.867000000000001,18.47,"*","*","*",18]
["Lower CI",14.054,12.27,"*","*","*","*","*",15.66,"*","*","*",11.85,"*",18.04,18.95,12.315,"*","*","*",15.564,17.905000000000001,14.98,8.9410000000000007,"*","*","*",11.202999999999999,12.763999999999999,14.77,"*","*","*",17.149999999999999]
["Upper CI",22.385999999999999,18.04,"*","*","*","*","*",24.18,"*","*","*",17.22,"*",22.95,24.39,21.966000000000001,"*","*","*",23.396999999999998,28.22,22.44,16.291,"*","*","*",21.635000000000002,18.971,22.18,"*","*","*",18.850000000000001]
["Bad/very bad",5.9059999999999997,4.53,"*","*","*","*","*",12.417,"*","*","*",4.22,"*",8.91,12.68,6.8730000000000002,"*","*","*",6.6890000000000001,11.56,10.87,4.9009999999999998,"*","*","*",6.9829999999999997,10.492000000000001,6.13,"*","*","*",8.5]
["Lower CI",3.8220000000000001,2.92,"*","*","*","*","*",9.3119999999999994,"*","*","*",2.86,"*",7.32,10.18,3.968,"*","*","*",4.5129999999999999,8.5790000000000006,7.98,2.0990000000000002,"*","*","*",4.0090000000000003,7.3,3.77,"*","*","*",7.87]
["Upper CI",7.99,6.14,"*","*","*","*","*",15.521000000000001,"*","*","*",5.59,"*",10.51,15.18,9.7769999999999992,"*","*","*",8.8640000000000008,14.541,13.75,7.7030000000000003,"*","*","*",9.9580000000000002,13.683,8.49,"*","*","*",9.14]
[]
["All Adults"]
["Very good/good",76.872,79.27,"*","*","*","*","*",69.7,"*","*","*",80.25,"*",71.56,67.69,75.974999999999994,"*","*","*",72.694999999999993,66.411000000000001,69.739999999999995,82.757000000000005,"*","*","*",75.819999999999993,73.751000000000005,75.36,"*","*","*",73.78]
["Lower CI",73.218000000000004,76.319999999999993,"*","*","*","*","*",64.694000000000003,"*","*","*",77.62,"*",69.290000000000006,64.58,71.17,"*","*","*",68.811000000000007,61.896000000000001,66.19,79.182000000000002,"*","*","*",71.655000000000001,70.072000000000003,71.930000000000007,"*","*","*",72.900000000000006]
["Upper CI",80.525999999999996,82.23,"*","*","*","*","*",74.706000000000003,"*","*","*",82.88,"*",73.84,70.8,80.78,"*","*","*",76.58,70.924999999999997,73.290000000000006,86.332999999999998,"*","*","*",79.984999999999999,77.429000000000002,78.790000000000006,"*","*","*",74.66]
["Fair",16.295000000000002,16.03,"*","*","*","*","*",19.645,"*","*","*",15.11,"*",19.54,20.62,16.742000000000001,"*","*","*",21.382999999999999,23.489000000000001,19.32,13.137,"*","*","*",17.053999999999998,16.565999999999999,17.059999999999999,"*","*","*",17.97]
["Lower CI",13.266,13.73,"*","*","*","*","*",15.853999999999999,"*","*","*",12.89,"*",17.809999999999999,18.32,12.653,"*","*","*",17.288,19.311,16.54,10.061,"*","*","*",13.159000000000001,13.132,14.35,"*","*","*",17.28]
["Upper CI",19.324000000000002,18.329999999999998,"*","*","*","*","*",23.436,"*","*","*",17.329999999999998,"*",21.27,22.91,20.83,"*","*","*",25.478999999999999,27.667000000000002,22.09,16.213000000000001,"*","*","*",20.949000000000002,20,19.78,"*","*","*",18.649999999999999]
["Bad/very bad",6.8330000000000002,4.7,"*","*","*","*","*",10.654999999999999,"*","*","*",4.6399999999999997,"*",8.9,11.7,7.2830000000000004,"*","*","*",5.9210000000000003,10.1,10.95,4.1059999999999999,"*","*","*",7.1260000000000003,9.6839999999999993,7.58,"*","*","*",8.25]
["Lower CI",5.2110000000000003,3.18,"*","*","*","*","*",8.2349999999999994,"*","*","*",3.5,"*",7.54,9.83,4.7370000000000001,"*","*","*",4.2539999999999996,7.9989999999999997,8.48,2.31,"*","*","*",4.4889999999999999,7.5229999999999997,5.5,"*","*","*",7.75]
["Upper CI",8.4550000000000001,6.21,"*","*","*","*","*",13.076000000000001,"*","*","*",5.78,"*",10.27,13.57,9.8290000000000006,"*","*","*",7.5880000000000001,12.202,13.42,5.9009999999999998,"*","*","*",9.7629999999999999,11.843999999999999,9.66,"*","*","*",8.76]
[]
[]
["Bases (weighted):"]
["Men",364.43299999999999,441.84,192.61,165.798,76.662999999999997,262.10599999999999,260.44299999999998,202.578,196.393,177.209,143.898,915.54,267.75200000000001,619.88,968.27,375.65699999999998,129.29900000000001,111.71299999999999,172.20599999999999,48.445999999999998,228.68799999999999,609.26,38.805,225.547,262.11,183.85599999999999,41.939,174.858,584.15,155.99299999999999,134.17699999999999,330.149,9062.26]
["Women",404.93,470,214.28,157.80199999999999,87.908000000000001,275.46600000000001,283.56700000000001,244.375,190.55699999999999,197.648,160.61099999999999,850.16,272.99,662.81,1084.0899999999999,429.05200000000002,145.267,137.36699999999999,204.39400000000001,48.518000000000001,252.57300000000001,700.46,39.048000000000002,273.34899999999999,257.548,222.27600000000001,39.383000000000003,213.40299999999999,618.9,192.86,159.316,311.15800000000002,9802.07]
["All Adults",769.36199999999997,911.85,406.89,323.60000000000002,164.571,537.572,544.01,446.95299999999997,386.95,374.85599999999999,304.50900000000001,1765.7,540.74199999999996,1282.69,2052.35,804.70799999999997,274.56599999999997,249.08099999999999,376.6,96.963999999999999,481.26100000000002,1309.72,77.852999999999994,498.89600000000002,519.65800000000002,406.13299999999998,81.322000000000003,388.26100000000002,1203.05,348.85300000000001,293.49299999999999,641.30700000000002,18864.34]
["Bases (unweighted)"]
["Men",426,517,134,116,48,221,159,318,150,104,114,590,160,902,656,239,98,71,191,387,344,343,234,178,186,199,247,286,356,100,98,172,8344]
["Women",541,624,163,136,66,258,193,414,179,128,145,662,197,1141,895,327,128,103,264,461,418,476,271,234,212,278,277,376,459,149,133,212,10520]
["All Adults",967,1141,297,252,114,479,352,732,329,232,259,1252,357,2043,1551,566,226,174,455,848,762,819,505,412,398,477,524,662,815,249,231,384,18864]

{"sheet":"SAH chart","index":3,"n_rows":48,"n_cols":18,"rows_kept":48,"cut":false,"hidden":false,"merged":[]}
[null,null,null,null,null,null,null,null,null,null,null,null,null,null,null,null,null,"INDEX"]
[]
[]
[]
[]
[]
[]
[]
[]
[]
[]
[]
[]
[]
[]
[]
[]
[]
[]
[]
[]
[]
[]
[]
[]
[]
[]
[]
[]
[]
[null,null,"Source: Scottish Health Survey"]
[]
[]
[null,null,"Aberdeen City","Aberdeenshire","East Ayrshire","Edinburgh, City of","Fife","Glasgow City","Highland","Na h-Eileanan Siar","North Ayrshire","North Lanarkshire","Orkney Islands","Shetland Islands","South Ayrshire","South Lanarkshire",null,"Scotland"]
[null,"All Adults"]
[null,"Very good/good",{"$f":"'Self-assessed general health'!B31","v":76.872},{"$f":"'Self-assessed general health'!C31","v":79.27},{"$f":"'Self-assessed general health'!I31","v":69.7},{"$f":"'Self-assessed general health'!M31","v":80.25},{"$f":"'Self-assessed general health'!O31","v":71.56},{"$f":"'Self-assessed general health'!P31","v":67.69},{"$f":"'Self-assessed general health'!Q31","v":75.974999999999994},{"$f":"'Self-assessed general health'!U31","v":72.694999999999993},{"$f":"'Self-assessed general health'!V31","v":66.411000000000001},{"$f":"'Self-assessed general health'!W31","v":69.739999999999995},{"$f":"'Self-assessed general health'!X31","v":82.757000000000005},{"$f":"'Self-assessed general health'!AB31","v":75.819999999999993},{"$f":"'Self-assessed general health'!AC31","v":73.751000000000005},{"$f":"'Self-assessed general health'!AD31","v":75.36},null,{"$f":"'Self-assessed general health'!AH31","v":73.78}]
[null,"Lower CI",{"$f":"'Self-assessed general health'!B32","v":73.218000000000004},{"$f":"'Self-assessed general health'!C32","v":76.319999999999993},{"$f":"'Self-assessed general health'!I32","v":64.694000000000003},{"$f":"'Self-assessed general health'!M32","v":77.62},{"$f":"'Self-assessed general health'!O32","v":69.290000000000006},{"$f":"'Self-assessed general health'!P32","v":64.58},{"$f":"'Self-assessed general health'!Q32","v":71.17},{"$f":"'Self-assessed general health'!U32","v":68.811000000000007},{"$f":"'Self-assessed general health'!V32","v":61.896000000000001},{"$f":"'Self-assessed general health'!W32","v":66.19},{"$f":"'Self-assessed general health'!X32","v":79.182000000000002},{"$f":"'Self-assessed general health'!AB32","v":71.655000000000001},{"$f":"'Self-assessed general health'!AC32","v":70.072000000000003},{"$f":"'Self-assessed general health'!AD32","v":71.930000000000007},null,{"$f":"'Self-assessed general health'!AH32","v":72.900000000000006}]
[null,"Upper CI",{"$f":"'Self-assessed general health'!B33","v":80.525999999999996},{"$f":"'Self-assessed general health'!C33","v":82.23},{"$f":"'Self-assessed general health'!I33","v":74.706000000000003},{"$f":"'Self-assessed general health'!M33","v":82.88},{"$f":"'Self-assessed general health'!O33","v":73.84},{"$f":"'Self-assessed general health'!P33","v":70.8},{"$f":"'Self-assessed general health'!Q33","v":80.78},{"$f":"'Self-assessed general health'!U33","v":76.58},{"$f":"'Self-assessed general health'!V33","v":70.924999999999997},{"$f":"'Self-assessed general health'!W33","v":73.290000000000006},{"$f":"'Self-assessed general health'!X33","v":86.332999999999998},{"$f":"'Self-assessed general health'!AB33","v":79.984999999999999},{"$f":"'Self-assessed general health'!AC33","v":77.429000000000002},{"$f":"'Self-assessed general health'!AD33","v":78.790000000000006},null,{"$f":"'Self-assessed general health'!AH33","v":74.66}]
[null,"Fair",{"$f":"'Self-assessed general health'!B34","v":16.295000000000002},{"$f":"'Self-assessed general health'!C34","v":16.03},{"$f":"'Self-assessed general health'!I34","v":19.645},{"$f":"'Self-assessed general health'!M34","v":15.11},{"$f":"'Self-assessed general health'!O34","v":19.54},{"$f":"'Self-assessed general health'!P34","v":20.62},{"$f":"'Self-assessed general health'!Q34","v":16.742000000000001},{"$f":"'Self-assessed general health'!U34","v":21.382999999999999},{"$f":"'Self-assessed general health'!V34","v":23.489000000000001},{"$f":"'Self-assessed general health'!W34","v":19.32},{"$f":"'Self-assessed general health'!X34","v":13.137},{"$f":"'Self-assessed general health'!AB34","v":17.053999999999998},{"$f":"'Self-assessed general health'!AC34","v":16.565999999999999},{"$f":"'Self-assessed general health'!AD34","v":17.059999999999999},null,{"$f":"'Self-assessed general health'!AH34","v":17.97}]
[null,"Lower CI",{"$f":"'Self-assessed general health'!B35","v":13.266},{"$f":"'Self-assessed general health'!C35","v":13.73},{"$f":"'Self-assessed general health'!I35","v":15.853999999999999},{"$f":"'Self-assessed general health'!M35","v":12.89},{"$f":"'Self-assessed general health'!O35","v":17.809999999999999},{"$f":"'Self-assessed general health'!P35","v":18.32},{"$f":"'Self-assessed general health'!Q35","v":12.653},{"$f":"'Self-assessed general health'!U35","v":17.288},{"$f":"'Self-assessed general health'!V35","v":19.311},{"$f":"'Self-assessed general health'!W35","v":16.54},{"$f":"'Self-assessed general health'!X35","v":10.061},{"$f":"'Self-assessed general health'!AB35","v":13.159000000000001},{"$f":"'Self-assessed general health'!AC35","v":13.132},{"$f":"'Self-assessed general health'!AD35","v":14.35},null,{"$f":"'Self-assessed general health'!AH35","v":17.28}]
[null,"Upper CI",{"$f":"'Self-assessed general health'!B36","v":19.324000000000002},{"$f":"'Self-assessed general health'!C36","v":18.329999999999998},{"$f":"'Self-assessed general health'!I36","v":23.436},{"$f":"'Self-assessed general health'!M36","v":17.329999999999998},{"$f":"'Self-assessed general health'!O36","v":21.27},{"$f":"'Self-assessed general health'!P36","v":22.91},{"$f":"'Self-assessed general health'!Q36","v":20.83},{"$f":"'Self-assessed general health'!U36","v":25.478999999999999},{"$f":"'Self-assessed general health'!V36","v":27.667000000000002},{"$f":"'Self-assessed general health'!W36","v":22.09},{"$f":"'Self-assessed general health'!X36","v":16.213000000000001},{"$f":"'Self-assessed general health'!AB36","v":20.949000000000002},{"$f":"'Self-assessed general health'!AC36","v":20},{"$f":"'Self-assessed general health'!AD36","v":19.78},null,{"$f":"'Self-assessed general health'!AH36","v":18.649999999999999}]
[null,"Bad/very bad",{"$f":"'Self-assessed general health'!B37","v":6.8330000000000002},{"$f":"'Self-assessed general health'!C37","v":4.7},{"$f":"'Self-assessed general health'!I37","v":10.654999999999999},{"$f":"'Self-assessed general health'!M37","v":4.6399999999999997},{"$f":"'Self-assessed general health'!O37","v":8.9},{"$f":"'Self-assessed general health'!P37","v":11.7},{"$f":"'Self-assessed general health'!Q37","v":7.2830000000000004},{"$f":"'Self-assessed general health'!U37","v":5.9210000000000003},{"$f":"'Self-assessed general health'!V37","v":10.1},{"$f":"'Self-assessed general health'!W37","v":10.95},{"$f":"'Self-assessed general health'!X37","v":4.1059999999999999},{"$f":"'Self-assessed general health'!AB37","v":7.1260000000000003},{"$f":"'Self-assessed general health'!AC37","v":9.6839999999999993},{"$f":"'Self-assessed general health'!AD37","v":7.58},null,{"$f":"'Self-assessed general health'!AH37","v":8.25}]
[null,"Lower CI",{"$f":"'Self-assessed general health'!B38","v":5.2110000000000003},{"$f":"'Self-assessed general health'!C38","v":3.18},{"$f":"'Self-assessed general health'!I38","v":8.2349999999999994},{"$f":"'Self-assessed general health'!M38","v":3.5},{"$f":"'Self-assessed general health'!O38","v":7.54},{"$f":"'Self-assessed general health'!P38","v":9.83},{"$f":"'Self-assessed general health'!Q38","v":4.7370000000000001},{"$f":"'Self-assessed general health'!U38","v":4.2539999999999996},{"$f":"'Self-assessed general health'!V38","v":7.9989999999999997},{"$f":"'Self-assessed general health'!W38","v":8.48},{"$f":"'Self-assessed general health'!X38","v":2.31},{"$f":"'Self-assessed general health'!AB38","v":4.4889999999999999},{"$f":"'Self-assessed general health'!AC38","v":7.5229999999999997},{"$f":"'Self-assessed general health'!AD38","v":5.5},null,{"$f":"'Self-assessed general health'!AH38","v":7.75}]
[null,"Upper CI",{"$f":"'Self-assessed general health'!B39","v":8.4550000000000001},{"$f":"'Self-assessed general health'!C39","v":6.21},{"$f":"'Self-assessed general health'!I39","v":13.076000000000001},{"$f":"'Self-assessed general health'!M39","v":5.78},{"$f":"'Self-assessed general health'!O39","v":10.27},{"$f":"'Self-assessed general health'!P39","v":13.57},{"$f":"'Self-assessed general health'!Q39","v":9.8290000000000006},{"$f":"'Self-assessed general health'!U39","v":7.5880000000000001},{"$f":"'Self-assessed general health'!V39","v":12.202},{"$f":"'Self-assessed general health'!W39","v":13.42},{"$f":"'Self-assessed general health'!X39","v":5.9009999999999998},{"$f":"'Self-assessed general health'!AB39","v":9.7629999999999999},{"$f":"'Self-assessed general health'!AC39","v":11.843999999999999},{"$f":"'Self-assessed general health'!AD39","v":9.66},null,{"$f":"'Self-assessed general health'!AH39","v":8.76}]
[]
["CLs","Very good",{"$f":"C36-C37","v":3.6539999999999964},2.9500000000000028,{"$f":"E36-E37","v":5.0060000000000002},{"$f":"F36-F37","v":2.6299999999999955},{"$f":"G36-G37","v":2.269999999999996},{"$f":"H36-H37","v":3.1099999999999994},4.8049999999999926,3.8839999999999861,4.5150000000000006,3.5499999999999972,3.5750000000000028,4.164999999999992,3.679000000000002,3.4299999999999926,null,{"$f":"R36-R37","v":0.87999999999999545}]
[null,"Fair",{"$f":"C39-C40","v":3.0290000000000017},2.3000000000000007,{"$f":"E39-E40","v":3.7910000000000004},{"$f":"F39-F40","v":2.2199999999999989},{"$f":"G39-G40","v":1.7300000000000004},{"$f":"H39-H40","v":2.3000000000000007},4.0890000000000004,4.0949999999999989,4.1780000000000008,2.7800000000000011,3.0760000000000005,3.8949999999999978,3.4339999999999993,2.7099999999999991,null,{"$f":"R39-R40","v":0.68999999999999773}]
[null,"Bad/ very bad",{"$f":"C42-C43","v":1.6219999999999999},1.52,{"$f":"E42-E43","v":2.42},{"$f":"F42-F43","v":1.1399999999999997},{"$f":"G42-G43","v":1.3600000000000003},{"$f":"H42-H43","v":1.8699999999999992},2.5460000000000003,1.6670000000000007,2.101,2.4699999999999989,1.7959999999999998,2.6370000000000005,2.1609999999999996,2.08,null,{"$f":"R42-R43","v":0.5}]

{"sheet":"WEMWBS","index":4,"n_rows":29,"n_cols":34,"rows_kept":29,"cut":false,"hidden":false,"merged":[[4,0,5,0],[0,0,1,0],[3,1,3,11]]}
["WEMWBS mean scores, by Local Authority and sex",null,null,null,null,null,null,null,null,null,null,null,null,"INDEX"]
[]
[]
["Aged 16 and over","PLEASE NOTE: Where the sample size for a Local Authority was below 500, the result has been suppressed. This is shown here by *.",null,null,null,null,null,null,null,null,null,null,null,null,null,"2013/2014/2015/2016 combined"]
["WEMWBS score","Local Authority"]
[null,"Aberdeen City","Aberdeenshire","Angus","Argyll & Bute","Clackmannanshire","Dumfries & Galloway","Dundee City","East Ayrshire","East Dunbartonshire","East Lothian","East Renfrewshire","Edinburgh, City of","Falkirk","Fife","Glasgow City","Highland","Inverclyde","Midlothian","Moray","Na h-Eileanan Siar","North Ayrshire","North Lanarkshire","Orkney Islands","Perth & Kinross","Renfrewshire","Scottish Borders","Shetland Islands","South Ayrshire","South Lanarkshire","Stirling","West Dunbartonshire","West Lothian","Scotland"]
["Men"]
["Mean",50.725000000000001,51.09,"*","*","*","*","*",50.14,"*","*","*",49.73,"*",50.18,48.96,50.585000000000001,"*","*","*",51.274999999999999,48.558,50.45,"*","*","*","*","*",50.070999999999998,49.75,"*","*","*",50.05]
["Lower CI",49.924999999999997,50.26,"*","*","*","*","*",49.113,"*","*","*",48.71,"*",49.44,48.14,49.481999999999999,"*","*","*",50.279000000000003,47.54,49.29,"*","*","*","*","*",48.969000000000001,48.74,"*","*","*",49.82]
["Upper CI",51.524999999999999,51.93,"*","*","*","*","*",51.167000000000002,"*","*","*",50.75,"*",50.92,49.78,51.686999999999998,"*","*","*",52.271000000000001,49.575000000000003,51.61,"*","*","*","*","*",51.171999999999997,50.76,"*","*","*",50.28]
[]
["Women"]
["Mean",50.61,50.85,"*","*","*","*","*",49.024999999999999,"*","*","*",50.95,"*",49.57,47.87,51.345999999999997,"*","*","*",51.057000000000002,48.122,49.89,"*","*","*","*","*",49.686,49.94,"*","*","*",49.85]
["Lower CI",49.832000000000001,50.02,"*","*","*","*","*",48.088000000000001,"*","*","*",50.21,"*",49.05,47.12,50.427999999999997,"*","*","*",50.055999999999997,47.085999999999999,48.99,"*","*","*","*","*",48.718000000000004,48.87,"*","*","*",49.62]
["Upper CI",51.389000000000003,51.68,"*","*","*","*","*",49.962000000000003,"*","*","*",51.68,"*",50.09,48.63,52.262999999999998,"*","*","*",52.057000000000002,49.158999999999999,50.79,"*","*","*","*","*",50.652999999999999,51.01,"*","*","*",50.07]
[]
["All adults"]
["Mean",50.664999999999999,50.97,"*","*","*","*","*",49.521000000000001,"*","*","*",50.32,"*",49.86,48.38,50.99,"*","*","*",51.164999999999999,48.326999999999998,50.15,"*","*","*","*","*",49.857999999999997,49.85,"*","*","*",49.94]
["Lower CI",50.06,50.25,"*","*","*","*","*",48.762,"*","*","*",49.65,"*",49.4,47.8,50.209000000000003,"*","*","*",50.359000000000002,47.542999999999999,49.4,"*","*","*","*","*",49.011000000000003,49.03,"*","*","*",49.76]
["Upper CI",51.27,51.69,"*","*","*","*","*",50.28,"*","*","*",51,"*",50.33,48.97,51.77,"*","*","*",51.970999999999997,49.11,50.89,"*","*","*","*","*",50.704000000000001,50.67,"*","*","*",50.12]
[]
["Bases (weighted):"]
["Men",335.83199999999999,405.62,188.358,148.292,70.433999999999997,220.90799999999999,236.57499999999999,189.2,166.82499999999999,166.83099999999999,122.496,814.34,223.62700000000001,558.79,846.76,338.23500000000001,111.051,100.834,148.761,40.122,209.03299999999999,524,37.116999999999997,208.24600000000001,237.68,164.18,37.027000000000001,166.25299999999999,520.4,147.88200000000001,124.322,276.721,8086.76]
["Women",367.34800000000001,443.35,206.38499999999999,141.452,77.424000000000007,242.18299999999999,267.29500000000002,236.3,161.82599999999999,183.696,142.62700000000001,780.85,247.95599999999999,603.92999999999995,952.38,384.48899999999998,126.44,129.136,184.25,40.694000000000003,236.71199999999999,616.05999999999995,37.81,257.976,223.34299999999999,197.12899999999999,36.036999999999999,205.96199999999999,547.13,178.58500000000001,149.857,287.99900000000002,8894.6200000000008]
["All Adults",703.18,848.98,394.74299999999999,289.74400000000003,147.858,463.09,503.87,425.5,328.65100000000001,350.52699999999999,265.12299999999999,1595.19,471.58300000000003,1162.72,1799.14,722.72400000000005,237.49100000000001,229.97,333.012,80.816000000000003,445.745,1140.07,74.927000000000007,466.22199999999998,461.02300000000002,361.30900000000003,73.063999999999993,372.21499999999997,1067.53,326.46699999999998,274.178,564.72,16981.38]
["Bases (unweighted)"]
["Men",388,478,131,103,44,186,146,299,132,96,95,526,137,810,570,213,84,64,164,326,313,297,224,164,165,178,216,269,312,93,90,145,7458]
["Women",488,588,157,124,58,225,184,399,154,120,128,611,180,1042,779,290,113,97,237,401,390,421,262,222,183,246,250,362,404,138,125,196,9574]
["All Adults",876,1066,288,227,102,411,330,698,286,216,223,1137,317,1852,1349,503,197,161,401,727,703,718,486,386,348,424,466,631,716,231,215,341,17032]

{"sheet":"WEMWBS chart ","index":5,"n_rows":40,"n_cols":18,"rows_kept":40,"cut":false,"hidden":false,"merged":[]}
[null,null,null,null,null,null,null,null,null,null,null,null,null,null,null,null,null,"INDEX"]
[]
[]
[]
[]
[]
[]
[]
[]
[]
[]
[]
[]
[]
[]
[]
[]
[]
[]
[]
[]
[]
[]
[]
[]
[]
[]
[]
[]
[]
[null,null,"Source: Scottish Health Survey"]
[]
[]
[null,null,"Aberdeen City","Aberdeenshire","East Ayrshire","Edinburgh, City of","Fife","Glasgow City","Highland","Na h-Eileanan Siar","North Ayrshire","North Lanarkshire","South Ayrshire","South Lanarkshire",null,"Scotland"]
[null,"All Adults"]
[null,"Mean",{"$f":"WEMWBS!B18","v":50.664999999999999},{"$f":"WEMWBS!C18","v":50.97},{"$f":"WEMWBS!I18","v":49.521000000000001},{"$f":"WEMWBS!M18","v":50.32},{"$f":"WEMWBS!O18","v":49.86},{"$f":"WEMWBS!P18","v":48.38},{"$f":"WEMWBS!Q18","v":50.99},{"$f":"WEMWBS!U18","v":51.164999999999999},{"$f":"WEMWBS!V18","v":48.326999999999998},{"$f":"WEMWBS!W18","v":50.15},{"$f":"WEMWBS!AC18","v":49.857999999999997},{"$f":"WEMWBS!AD18","v":49.85},null,{"$f":"WEMWBS!AH18","v":49.94}]
[null,"Lower CI",{"$f":"WEMWBS!B19","v":50.06},{"$f":"WEMWBS!C19","v":50.25},{"$f":"WEMWBS!I19","v":48.762},{"$f":"WEMWBS!M19","v":49.65},{"$f":"WEMWBS!O19","v":49.4},{"$f":"WEMWBS!P19","v":47.8},{"$f":"WEMWBS!Q19","v":50.209000000000003},{"$f":"WEMWBS!U19","v":50.359000000000002},{"$f":"WEMWBS!V19","v":47.542999999999999},{"$f":"WEMWBS!W19","v":49.4},{"$f":"WEMWBS!AC19","v":49.011000000000003},{"$f":"WEMWBS!AD19","v":49.03},null,{"$f":"WEMWBS!AH19","v":49.76}]
[null,"Upper CI",{"$f":"WEMWBS!B20","v":51.27},{"$f":"WEMWBS!C20","v":51.69},{"$f":"WEMWBS!I20","v":50.28},{"$f":"WEMWBS!M20","v":51},{"$f":"WEMWBS!O20","v":50.33},{"$f":"WEMWBS!P20","v":48.97},{"$f":"WEMWBS!Q20","v":51.77},{"$f":"WEMWBS!U20","v":51.970999999999997},{"$f":"WEMWBS!V20","v":49.11},{"$f":"WEMWBS!W20","v":50.89},{"$f":"WEMWBS!AC20","v":50.704000000000001},{"$f":"WEMWBS!AD20","v":50.67},null,{"$f":"WEMWBS!AH20","v":50.12}]
[]
["CLs",null,{"$f":"C36-C37","v":0.60499999999999687},0.71999999999999886,{"$f":"E36-E37","v":0.75900000000000034},{"$f":"F36-F37","v":0.67000000000000171},{"$f":"G36-G37","v":0.46000000000000085},{"$f":"H36-H37","v":0.5800000000000054},0.78099999999999881,0.80599999999999739,0.78399999999999892,0.75,0.8469999999999942,0.82000000000000028,null,{"$f":"P36-P37","v":0.17999999999999972}]

{"sheet":"GHQ-12 scores","index":6,"n_rows":49,"n_cols":34,"rows_kept":49,"cut":false,"hidden":false,"merged":[[0,0,1,0],[4,0,5,0],[3,1,3,11]]}
["General Health Questionnaire (GHQ-12) scores, by Local Authority and sex",null,null,null,null,null,null,null,null,null,null,null,"INDEX"]
[]
[]
["Aged 16 and over","PLEASE NOTE: Where the sample size for a Local Authority was below 500, the result has been suppressed. This is shown here by *.",null,null,null,null,null,null,null,null,null,null,null,null,null,"2013/2014/2015/2016 combined"]
["GHQ-12 scores","Local Authority"]
[null,"Aberdeen City","Aberdeenshire","Angus","Argyll & Bute","Clackmannanshire","Dumfries & Galloway","Dundee City","East Ayrshire","East Dunbartonshire","East Lothian","East Renfrewshire","Edinburgh, City of","Falkirk","Fife","Glasgow City","Highland","Inverclyde","Midlothian","Moray","Na h-Eileanan Siar","North Ayrshire","North Lanarkshire","Orkney Islands","Perth & Kinross","Renfrewshire","Scottish Borders","Shetland Islands","South Ayrshire","South Lanarkshire","Stirling","West Dunbartonshire","West Lothian","Scotland"]
[null,"%","%","%","%","%","%","%","%","%","%","%","%","%","%","%","%","%","%","%","%","%","%","%","%","%","%","%","%","%","%","%","%","%"]
["Men"]
["Score 0",63.216999999999999,72.47,"*","*","*","*","*",65.783000000000001,"*","*","*",59.57,"*",67.150000000000006,56.09,67.132000000000005,"*","*","*",68.576999999999998,63.878,64.95,"*","*","*","*","*",69.298000000000002,63.31,"*","*","*",64.52]
["Lower CI",58.164999999999999,68.31,"*","*","*","*","*",59.476999999999997,"*","*","*",54.82,"*",63.16,50.92,60.000999999999998,"*","*","*",62.667999999999999,59.429000000000002,58.19,"*","*","*","*","*",63.012999999999998,58.2,"*","*","*",63.17]
["Upper CI",68.27,76.63,"*","*","*","*","*",72.088999999999999,"*","*","*",64.319999999999993,"*",71.150000000000006,61.26,74.263000000000005,"*","*","*",74.484999999999999,68.326999999999998,71.709999999999994,"*","*","*","*","*",75.582999999999998,68.41,"*","*","*",65.87]
["Score 1-3",26.623000000000001,19.04,"*","*","*","*","*",19.085999999999999,"*","*","*",23.7,"*",19.559999999999999,27.22,18.658999999999999,"*","*","*",19.093,21.254000000000001,19.5,"*","*","*","*","*",16.873000000000001,20.59,"*","*","*",21.85]
["Lower CI",22.411000000000001,15.47,"*","*","*","*","*",14.045999999999999,"*","*","*",19.399999999999999,"*",16.52,22.81,12.63,"*","*","*",14.282,16.968,14.83,"*","*","*","*","*",12.302,15.32,"*","*","*",20.66]
["Upper CI",30.835999999999999,22.61,"*","*","*","*","*",24.126000000000001,"*","*","*",27.99,"*",22.6,31.62,24.687999999999999,"*","*","*",23.904,25.54,24.18,"*","*","*","*","*",21.443000000000001,25.87,"*","*","*",23.04]
["Score 4+",10.16,8.49,"*","*","*","*","*",15.132,"*","*","*",16.73,"*",13.29,16.690000000000001,14.209,"*","*","*",12.33,14.868,15.55,"*","*","*","*","*",13.829000000000001,16.100000000000001,"*","*","*",13.63]
["Lower CI",7.5309999999999997,5.9,"*","*","*","*","*",9.9600000000000009,"*","*","*",13.04,"*",10.71,13.33,9.2430000000000003,"*","*","*",7.3460000000000001,10.813000000000001,10.59,"*","*","*","*","*",8.9359999999999999,12.07,"*","*","*",12.68]
["Upper CI",12.788,11.09,"*","*","*","*","*",20.303000000000001,"*","*","*",20.420000000000002,"*",15.87,20.059999999999999,19.175000000000001,"*","*","*",17.314,18.923999999999999,20.5,"*","*","*","*","*",18.722999999999999,20.13,"*","*","*",14.57]
[]
["Women"]
["Score 0",53.701000000000001,60.7,"*","*","*","*","*",58.654000000000003,"*","*","*",56.49,"*",57.62,46.54,62.542999999999999,"*","*","*",67.274000000000001,54.063000000000002,60.14,"*","*","*","*","*",57.133000000000003,59.12,"*","*","*",57.1]
["Lower CI",48.826000000000001,56.88,"*","*","*","*","*",53.545000000000002,"*","*","*",52.27,"*",54.13,42.65,56.109000000000002,"*","*","*",62.252000000000002,49.055999999999997,55.52,"*","*","*","*","*",52.970999999999997,53.65,"*","*","*",55.93]
["Upper CI",58.576000000000001,64.52,"*","*","*","*","*",63.762999999999998,"*","*","*",60.72,"*",61.12,50.43,68.975999999999999,"*","*","*",72.296000000000006,59.07,64.760000000000005,"*","*","*","*","*",61.295000000000002,64.599999999999994,"*","*","*",58.27]
["Score 1-3",29.276,26.69,"*","*","*","*","*",22.823,"*","*","*",28.97,"*",26.05,28.6,19.925000000000001,"*","*","*",19.315999999999999,27.18,24.29,"*","*","*","*","*",26.568000000000001,23.61,"*","*","*",25.68]
["Lower CI",25.027999999999999,23.2,"*","*","*","*","*",18.664000000000001,"*","*","*",25.22,"*",23.29,25.41,14.33,"*","*","*",15.163,22.722999999999999,19.28,"*","*","*","*","*",23.062000000000001,19.23,"*","*","*",24.64]
["Upper CI",33.524000000000001,30.18,"*","*","*","*","*",26.981999999999999,"*","*","*",32.72,"*",28.8,31.79,25.52,"*","*","*",23.47,31.635999999999999,29.29,"*","*","*","*","*",30.074000000000002,27.98,"*","*","*",26.73]
["Score 4+",17.024000000000001,12.61,"*","*","*","*","*",18.523,"*","*","*",14.53,"*",16.329999999999998,24.87,17.532,"*","*","*",13.41,18.757000000000001,15.57,"*","*","*","*","*",16.298999999999999,17.27,"*","*","*",17.22]
["Lower CI",13.552,9.25,"*","*","*","*","*",15.038,"*","*","*",11.52,"*",14.09,21.55,13.420999999999999,"*","*","*",10.145,14.741,11.97,"*","*","*","*","*",13.096,12.79,"*","*","*",16.309999999999999]
["Upper CI",20.495000000000001,15.97,"*","*","*","*","*",22.007999999999999,"*","*","*",17.54,"*",18.57,28.19,21.643000000000001,"*","*","*",16.673999999999999,22.773,19.18,"*","*","*","*","*",19.503,21.75,"*","*","*",18.12]
[]
["All Adults"]
["Score 0",58.237000000000002,66.34,"*","*","*","*","*",61.841999999999999,"*","*","*",58.06,"*",62.19,51.02,64.694000000000003,"*","*","*",67.918999999999997,58.762,62.36,"*","*","*","*","*",62.561999999999998,61.15,"*","*","*",60.64]
["Lower CI",54.322000000000003,63.19,"*","*","*","*","*",57.817,"*","*","*",54.43,"*",59.33,47.5,59.478999999999999,"*","*","*",64.043999999999997,55.238999999999997,57.84,"*","*","*","*","*",58.17,57.2,"*","*","*",59.63]
["Upper CI",62.152000000000001,69.5,"*","*","*","*","*",65.867000000000004,"*","*","*",61.69,"*",65.05,54.53,69.908000000000001,"*","*","*",71.793999999999997,62.284999999999997,66.89,"*","*","*","*","*",66.953999999999994,65.099999999999994,"*","*","*",61.64]
["Score 1-3",28.010999999999999,23.02,"*","*","*","*","*",21.152000000000001,"*","*","*",26.28,"*",22.94,27.95,19.332000000000001,"*","*","*",19.206,24.343,22.07,"*","*","*","*","*",22.241,22.15,"*","*","*",23.86]
["Lower CI",24.873999999999999,20.54,"*","*","*","*","*",18.263999999999999,"*","*","*",23.1,"*",20.82,25,15.327,"*","*","*",16.273,21.038,18.100000000000001,"*","*","*","*","*",19.094999999999999,18.489999999999998,"*","*","*",23]
["Upper CI",31.148,25.5,"*","*","*","*","*",24.04,"*","*","*",29.47,"*",25.05,30.9,23.337,"*","*","*",22.138000000000002,27.648,26.04,"*","*","*","*","*",25.387,25.81,"*","*","*",24.71]
["Score 4+",13.752000000000001,10.64,"*","*","*","*","*",17.006,"*","*","*",15.65,"*",14.87,21.03,15.974,"*","*","*",12.875,16.895,15.56,"*","*","*","*","*",15.196999999999999,16.7,"*","*","*",15.51]
["Lower CI",11.515000000000001,8.3699999999999992,"*","*","*","*","*",13.836,"*","*","*",12.98,"*",13.1,18.61,12.503,"*","*","*",9.9499999999999993,13.502000000000001,12.49,"*","*","*","*","*",12.233000000000001,13.47,"*","*","*",14.81]
["Upper CI",15.988,12.9,"*","*","*","*","*",20.175999999999998,"*","*","*",18.32,"*",16.64,23.46,19.446000000000002,"*","*","*",15.801,20.289000000000001,18.64,"*","*","*","*","*",18.161000000000001,19.93,"*","*","*",16.2]
[]
[]
["Bases (weighted):"]
["Men",336.47300000000001,408.18,188.358,146.51599999999999,69.245999999999995,223.74700000000001,242.69399999999999,191.857,171.49199999999999,169.03100000000001,120.08199999999999,813.91,225.36799999999999,557.65,846.4,339.75799999999998,111.148,103.13,147.70099999999999,40.497,214.703,532.15,37.116999999999997,209.34299999999999,239.697,160.018,36.654000000000003,165.22399999999999,520.05999999999995,149.09100000000001,127.569,292.56599999999997,8137.42]
["Women",369.42099999999999,443.07,208.22200000000001,143.83500000000001,79.997,246.477,265.27600000000001,237.10400000000001,166.84399999999999,181.80099999999999,146.49299999999999,783.17,251.97900000000001,605.39,957.82,385.02600000000001,128.83799999999999,133.78700000000001,182.126,41.296999999999997,233.77199999999999,617.89,37.401000000000003,259.25700000000001,223.34700000000001,199.71299999999999,36.348999999999997,204.999,553.78,182.35,149.78899999999999,284.21300000000002,8940.83]
["All Adults",705.89400000000001,851.24,396.58,290.351,149.24299999999999,470.22300000000001,507.97,428.96199999999999,338.33600000000001,350.83199999999999,266.57499999999999,1597.07,477.34699999999998,1163.04,1804.22,724.78399999999999,239.98599999999999,236.916,329.827,81.793999999999997,448.47500000000002,1150.04,74.518000000000001,468.6,463.04399999999998,359.73200000000003,73.003,370.22300000000001,1073.8399999999999,331.44099999999997,277.358,576.779,17078.25]
["Bases (unweighted)"]
["Men",388,480,131,102,43,188,150,303,136,98,93,528,138,808,568,214,85,65,166,331,321,303,224,165,167,175,214,267,314,94,92,154,7505]
["Women",491,589,158,126,60,230,182,401,160,118,131,613,183,1045,784,292,115,100,235,407,386,427,260,224,183,249,251,361,410,140,125,193,9629]
["All Adults",879,1069,289,228,103,418,332,704,296,216,224,1141,321,1853,1352,506,200,165,401,738,707,730,484,389,350,424,465,628,724,234,217,347,17134]

{"sheet":"GHQ-12 chart","index":7,"n_rows":48,"n_cols":18,"rows_kept":48,"cut":false,"hidden":false,"merged":[]}
[null,null,null,null,null,null,null,null,null,null,null,null,null,null,null,null,null,"INDEX"]
[]
[]
[]
[]
[]
[]
[]
[]
[]
[]
[]
[]
[]
[]
[]
[]
[]
[]
[]
[]
[]
[]
[]
[]
[]
[]
[]
[]
[]
[null,null,"Source: Scottish Health Survey"]
[]
[]
[null,null,"Aberdeen City","Aberdeenshire","East Ayrshire","Edinburgh, City of","Fife","Glasgow City","Highland","Na h-Eileanan Siar","North Ayrshire","North Lanarkshire","South Ayrshire","South Lanarkshire",null,"Scotland"]
[null,"All Adults"]
[null,"Score 0",{"$f":"'GHQ-12 scores'!B31","v":58.237000000000002},{"$f":"'GHQ-12 scores'!C31","v":66.34},{"$f":"'GHQ-12 scores'!I31","v":61.841999999999999},{"$f":"'GHQ-12 scores'!M31","v":58.06},{"$f":"'GHQ-12 scores'!O31","v":62.19},{"$f":"'GHQ-12 scores'!P31","v":51.02},{"$f":"'GHQ-12 scores'!Q31","v":64.694000000000003},{"$f":"'GHQ-12 scores'!U31","v":67.918999999999997},{"$f":"'GHQ-12 scores'!V31","v":58.762},{"$f":"'GHQ-12 scores'!W31","v":62.36},{"$f":"'GHQ-12 scores'!AC31","v":62.561999999999998},{"$f":"'GHQ-12 scores'!AD31","v":61.15},null,{"$f":"'GHQ-12 scores'!AH31","v":60.64}]
[null,"Lower CI",{"$f":"'GHQ-12 scores'!B32","v":54.322000000000003},{"$f":"'GHQ-12 scores'!C32","v":63.19},{"$f":"'GHQ-12 scores'!I32","v":57.817},{"$f":"'GHQ-12 scores'!M32","v":54.43},{"$f":"'GHQ-12 scores'!O32","v":59.33},{"$f":"'GHQ-12 scores'!P32","v":47.5},{"$f":"'GHQ-12 scores'!Q32","v":59.478999999999999},{"$f":"'GHQ-12 scores'!U32","v":64.043999999999997},{"$f":"'GHQ-12 scores'!V32","v":55.238999999999997},{"$f":"'GHQ-12 scores'!W32","v":57.84},{"$f":"'GHQ-12 scores'!AC32","v":58.17},{"$f":"'GHQ-12 scores'!AD32","v":57.2},null,{"$f":"'GHQ-12 scores'!AH32","v":59.63}]
[null,"Upper CI",{"$f":"'GHQ-12 scores'!B33","v":62.152000000000001},{"$f":"'GHQ-12 scores'!C33","v":69.5},{"$f":"'GHQ-12 scores'!I33","v":65.867000000000004},{"$f":"'GHQ-12 scores'!M33","v":61.69},{"$f":"'GHQ-12 scores'!O33","v":65.05},{"$f":"'GHQ-12 scores'!P33","v":54.53},{"$f":"'GHQ-12 scores'!Q33","v":69.908000000000001},{"$f":"'GHQ-12 scores'!U33","v":71.793999999999997},{"$f":"'GHQ-12 scores'!V33","v":62.284999999999997},{"$f":"'GHQ-12 scores'!W33","v":66.89},{"$f":"'GHQ-12 scores'!AC33","v":66.953999999999994},{"$f":"'GHQ-12 scores'!AD33","v":65.099999999999994},null,{"$f":"'GHQ-12 scores'!AH33","v":61.64}]
[null,"Score 1-3",{"$f":"'GHQ-12 scores'!B34","v":28.010999999999999},{"$f":"'GHQ-12 scores'!C34","v":23.02},{"$f":"'GHQ-12 scores'!I34","v":21.152000000000001},{"$f":"'GHQ-12 scores'!M34","v":26.28},{"$f":"'GHQ-12 scores'!O34","v":22.94},{"$f":"'GHQ-12 scores'!P34","v":27.95},{"$f":"'GHQ-12 scores'!Q34","v":19.332000000000001},{"$f":"'GHQ-12 scores'!U34","v":19.206},{"$f":"'GHQ-12 scores'!V34","v":24.343},{"$f":"'GHQ-12 scores'!W34","v":22.07},{"$f":"'GHQ-12 scores'!AC34","v":22.241},{"$f":"'GHQ-12 scores'!AD34","v":22.15},null,{"$f":"'GHQ-12 scores'!AH34","v":23.86}]
[null,"Lower CI",{"$f":"'GHQ-12 scores'!B35","v":24.873999999999999},{"$f":"'GHQ-12 scores'!C35","v":20.54},{"$f":"'GHQ-12 scores'!I35","v":18.263999999999999},{"$f":"'GHQ-12 scores'!M35","v":23.1},{"$f":"'GHQ-12 scores'!O35","v":20.82},{"$f":"'GHQ-12 scores'!P35","v":25},{"$f":"'GHQ-12 scores'!Q35","v":15.327},{"$f":"'GHQ-12 scores'!U35","v":16.273},{"$f":"'GHQ-12 scores'!V35","v":21.038},{"$f":"'GHQ-12 scores'!W35","v":18.100000000000001},{"$f":"'GHQ-12 scores'!AC35","v":19.094999999999999},{"$f":"'GHQ-12 scores'!AD35","v":18.489999999999998},null,{"$f":"'GHQ-12 scores'!AH35","v":23}]
[null,"Upper CI",{"$f":"'GHQ-12 scores'!B36","v":31.148},{"$f":"'GHQ-12 scores'!C36","v":25.5},{"$f":"'GHQ-12 scores'!I36","v":24.04},{"$f":"'GHQ-12 scores'!M36","v":29.47},{"$f":"'GHQ-12 scores'!O36","v":25.05},{"$f":"'GHQ-12 scores'!P36","v":30.9},{"$f":"'GHQ-12 scores'!Q36","v":23.337},{"$f":"'GHQ-12 scores'!U36","v":22.138000000000002},{"$f":"'GHQ-12 scores'!V36","v":27.648},{"$f":"'GHQ-12 scores'!W36","v":26.04},{"$f":"'GHQ-12 scores'!AC36","v":25.387},{"$f":"'GHQ-12 scores'!AD36","v":25.81},null,{"$f":"'GHQ-12 scores'!AH36","v":24.71}]
[null,"Score 4+",{"$f":"'GHQ-12 scores'!B37","v":13.752000000000001},{"$f":"'GHQ-12 scores'!C37","v":10.64},{"$f":"'GHQ-12 scores'!I37","v":17.006},{"$f":"'GHQ-12 scores'!M37","v":15.65},{"$f":"'GHQ-12 scores'!O37","v":14.87},{"$f":"'GHQ-12 scores'!P37","v":21.03},{"$f":"'GHQ-12 scores'!Q37","v":15.974},{"$f":"'GHQ-12 scores'!U37","v":12.875},{"$f":"'GHQ-12 scores'!V37","v":16.895},{"$f":"'GHQ-12 scores'!W37","v":15.56},{"$f":"'GHQ-12 scores'!AC37","v":15.196999999999999},{"$f":"'GHQ-12 scores'!AD37","v":16.7},null,{"$f":"'GHQ-12 scores'!AH37","v":15.51}]
[null,"Lower CI",{"$f":"'GHQ-12 scores'!B38","v":11.515000000000001},{"$f":"'GHQ-12 scores'!C38","v":8.3699999999999992},{"$f":"'GHQ-12 scores'!I38","v":13.836},{"$f":"'GHQ-12 scores'!M38","v":12.98},{"$f":"'GHQ-12 scores'!O38","v":13.1},{"$f":"'GHQ-12 scores'!P38","v":18.61},{"$f":"'GHQ-12 scores'!Q38","v":12.503},{"$f":"'GHQ-12 scores'!U38","v":9.9499999999999993},{"$f":"'GHQ-12 scores'!V38","v":13.502000000000001},{"$f":"'GHQ-12 scores'!W38","v":12.49},{"$f":"'GHQ-12 scores'!AC38","v":12.233000000000001},{"$f":"'GHQ-12 scores'!AD38","v":13.47},null,{"$f":"'GHQ-12 scores'!AH38","v":14.81}]
[null,"Upper CI",{"$f":"'GHQ-12 scores'!B39","v":15.988},{"$f":"'GHQ-12 scores'!C39","v":12.9},{"$f":"'GHQ-12 scores'!I39","v":20.175999999999998},{"$f":"'GHQ-12 scores'!M39","v":18.32},{"$f":"'GHQ-12 scores'!O39","v":16.64},{"$f":"'GHQ-12 scores'!P39","v":23.46},{"$f":"'GHQ-12 scores'!Q39","v":19.446000000000002},{"$f":"'GHQ-12 scores'!U39","v":15.801},{"$f":"'GHQ-12 scores'!V39","v":20.289000000000001},{"$f":"'GHQ-12 scores'!W39","v":18.64},{"$f":"'GHQ-12 scores'!AC39","v":18.161000000000001},{"$f":"'GHQ-12 scores'!AD39","v":19.93},null,{"$f":"'GHQ-12 scores'!AH39","v":16.2}]
[]
["CLs","Score 0",{"$f":"C36-C37","v":3.9149999999999991},{"$f":"D36-D37","v":3.1500000000000057},{"$f":"E36-E37","v":4.0249999999999986},{"$f":"F36-F37","v":3.6300000000000026},{"$f":"G36-G37","v":2.8599999999999994},{"$f":"H36-H37","v":3.5200000000000031},5.2150000000000034,3.875,3.5230000000000032,4.519999999999996,4.3919999999999959,3.9499999999999957,null,{"$f":"P36-P37","v":1.009999999999998}]
[null,"Score 1-3",{"$f":"C39-C40","v":3.1370000000000005},{"$f":"D39-D40","v":2.4800000000000004},{"$f":"E39-E40","v":2.8880000000000017},{"$f":"F39-F40","v":3.1799999999999997},{"$f":"G39-G40","v":2.120000000000001},{"$f":"H39-H40","v":2.9499999999999993},4.0050000000000008,2.9329999999999998,3.3049999999999997,3.9699999999999989,3.1460000000000008,3.66,null,{"$f":"P39-P40","v":0.85999999999999943}]
[null,"Score 4+",{"$f":"C42-C43","v":2.2370000000000001},{"$f":"D42-D43","v":2.2700000000000014},{"$f":"E42-E43","v":3.17},{"$f":"F42-F43","v":2.67},{"$f":"G42-G43","v":1.7699999999999996},{"$f":"H42-H43","v":2.4200000000000017},3.4710000000000001,2.9250000000000007,3.3929999999999989,3.0700000000000003,2.9639999999999986,3.2299999999999986,null,{"$f":"P42-P43","v":0.69999999999999929}]

{"sheet":"Long-term illness","index":8,"n_rows":49,"n_cols":34,"rows_kept":49,"cut":false,"hidden":false,"merged":[[4,0,5,0],[0,0,1,0],[3,1,3,11]]}
["Prevalence of long-term illness, by Local Authority and sex",null,null,null,null,null,null,null,null,null,null,null,null,"INDEX"]
[]
[]
["Aged 16 and over","PLEASE NOTE: Where the sample size for a Local Authority was below 500, the result has been suppressed. This is shown here by *.",null,null,null,null,null,null,null,null,null,null,null,null,null,"2013/2014/2015/2016 combined"]
["Prevalence of limiting long-term conditions","Local Authority"]
[null,"Aberdeen City","Aberdeenshire","Angus","Argyll & Bute","Clackmannanshire","Dumfries & Galloway","Dundee City","East Ayrshire","East Dunbartonshire","East Lothian","East Renfrewshire","Edinburgh, City of","Falkirk","Fife","Glasgow City","Highland","Inverclyde","Midlothian","Moray","Na h-Eileanan Siar","North Ayrshire","North Lanarkshire","Orkney Islands","Perth & Kinross","Renfrewshire","Scottish Borders","Shetland Islands","South Ayrshire","South Lanarkshire","Stirling","West Dunbartonshire","West Lothian","Scotland"]
[null,"%","%","%","%","%","%","%","%","%","%","%","%","%","%","%","%","%","%","%","%","%","%","%","%","%","%","%","%","%","%","%","%","%"]
["Men"]
["Limiting long-term illness",25.138999999999999,23.02,"*","*","*","*","*",39.228999999999999,"*","*","*",24.72,"*",28.84,28.81,28.797999999999998,"*","*","*",36.604999999999997,40.472999999999999,33.68,30.501000000000001,"*","*","*",25.443999999999999,46.404000000000003,28.93,"*","*","*",29.83]
["Lower CI",20.844999999999999,19.809999999999999,"*","*","*","*","*",32.145000000000003,"*","*","*",21.36,"*",25.22,24.74,22.88,"*","*","*",30.491,34.44,28.02,25.8,"*","*","*",20.306000000000001,37.616,23.79,"*","*","*",28.61]
["Upper CI",29.433,26.24,"*","*","*","*","*",46.313000000000002,"*","*","*",28.09,"*",32.46,32.880000000000003,34.715000000000003,"*","*","*",42.719000000000001,46.506,39.340000000000003,35.201000000000001,"*","*","*",30.582999999999998,55.192999999999998,34.06,"*","*","*",31.06]
["Non-limiting long-term illness",13.244,16.739999999999998,"*","*","*","*","*",9.032,"*","*","*",17.82,"*",15.72,12.86,13.119,"*","*","*",11.56,10.981,13.06,19.114999999999998,"*","*","*",17.187000000000001,9.6440000000000001,14.59,"*","*","*",14.1]
["Lower CI",9.7829999999999995,12.7,"*","*","*","*","*",5.6580000000000004,"*","*","*",14.46,"*",12.68,10.1,9.3919999999999995,"*","*","*",8.18,8.0239999999999991,7.78,14.288,"*","*","*",11.266999999999999,5.4009999999999998,10.31,"*","*","*",13.12]
["Upper CI",16.704999999999998,20.78,"*","*","*","*","*",12.406000000000001,"*","*","*",21.17,"*",18.760000000000002,15.61,16.846,"*","*","*",14.941000000000001,13.936999999999999,18.34,23.942,"*","*","*",23.108000000000001,13.885999999999999,18.87,"*","*","*",15.08]
["No long-term illness",61.616999999999997,60.24,"*","*","*","*","*",51.738999999999997,"*","*","*",57.46,"*",55.43,58.33,58.082999999999998,"*","*","*",51.834000000000003,48.546999999999997,53.26,50.384999999999998,"*","*","*",57.368000000000002,43.951999999999998,56.48,"*","*","*",56.07]
["Lower CI",55.838999999999999,55.72,"*","*","*","*","*",44.667000000000002,"*","*","*",52.66,"*",51.36,54.04,51.244999999999997,"*","*","*",45.529000000000003,43.23,46.81,44.058999999999997,"*","*","*",49.420999999999999,36.524999999999999,50.46,"*","*","*",54.68]
["Upper CI",67.394999999999996,64.75,"*","*","*","*","*",58.811999999999998,"*","*","*",62.26,"*",59.51,62.63,64.921000000000006,"*","*","*",58.14,53.863,59.72,56.71,"*","*","*",65.314999999999998,51.378999999999998,62.5,"*","*","*",57.46]
[]
["Women"]
["Limiting long-term illness",30.361999999999998,27.53,"*","*","*","*","*",46.232999999999997,"*","*","*",25,"*",34.18,36.67,34.506,"*","*","*",36.072000000000003,45.39,36.200000000000003,35.418999999999997,"*","*","*",33.658000000000001,48.689,30.51,"*","*","*",33.57]
["Lower CI",25.391999999999999,23.9,"*","*","*","*","*",39.756999999999998,"*","*","*",21.48,"*",31.15,33.090000000000003,28.794,"*","*","*",30.986000000000001,39.793999999999997,30.82,29.757000000000001,"*","*","*",26.751999999999999,42.140999999999998,25.75,"*","*","*",32.42]
["Upper CI",35.332000000000001,31.15,"*","*","*","*","*",52.707999999999998,"*","*","*",28.52,"*",37.21,40.25,40.216999999999999,"*","*","*",41.158000000000001,50.984999999999999,41.57,41.081000000000003,"*","*","*",40.563000000000002,55.237000000000002,35.26,"*","*","*",34.72]
["Non-limiting long-term illness",16.032,13.01,"*","*","*","*","*",9.32,"*","*","*",16.329999999999998,"*",14.12,10.31,16.353000000000002,"*","*","*",11.74,12.38,14.5,21.800999999999998,"*","*","*",17.024999999999999,7.6230000000000002,13.79,"*","*","*",13.96]
["Lower CI",12.528,10.27,"*","*","*","*","*",6.0229999999999997,"*","*","*",13.44,"*",12.24,8.31,12.477,"*","*","*",8.1349999999999998,9.4179999999999993,11.35,17.251999999999999,"*","*","*",12.019,4.8899999999999997,9.8699999999999992,"*","*","*",13.17]
["Upper CI",19.536000000000001,15.74,"*","*","*","*","*",12.617000000000001,"*","*","*",19.23,"*",16.010000000000002,12.31,20.228000000000002,"*","*","*",15.343999999999999,15.342000000000001,17.649999999999999,26.349,"*","*","*",22.030999999999999,10.355,17.72,"*","*","*",14.74]
["No long-term illness",53.606000000000002,59.47,"*","*","*","*","*",44.448,"*","*","*",58.67,"*",51.7,53.02,49.142000000000003,"*","*","*",52.188000000000002,42.231000000000002,49.31,42.780999999999999,"*","*","*",49.317,43.688000000000002,55.7,"*","*","*",52.47]
["Lower CI",48.302,55.47,"*","*","*","*","*",38.302999999999997,"*","*","*",54.46,"*",48.49,49.47,42.040999999999997,"*","*","*",46.817999999999998,36.795999999999999,44.16,34.780999999999999,"*","*","*",42.905000000000001,37.378,50.79,"*","*","*",51.29]
["Upper CI",58.91,63.47,"*","*","*","*","*",50.591999999999999,"*","*","*",62.88,"*",54.91,56.57,56.241999999999997,"*","*","*",57.558999999999997,47.664999999999999,54.46,50.78,"*","*","*",55.728999999999999,49.997999999999998,60.62,"*","*","*",53.65]
[]
["All Adults"]
["Limiting long-term illness",27.888000000000002,25.34,"*","*","*","*","*",43.052999999999997,"*","*","*",24.86,"*",31.6,32.96,31.841000000000001,"*","*","*",36.338000000000001,43.052999999999997,35.03,32.966999999999999,"*","*","*",29.422000000000001,47.66,29.74,"*","*","*",31.77]
["Lower CI",23.946999999999999,22.7,"*","*","*","*","*",36.96,"*","*","*",22.23,"*",28.91,29.75,27.100999999999999,"*","*","*",31.957000000000001,38.091999999999999,30.97,28.745999999999999,"*","*","*",25.158000000000001,41.055,26.25,"*","*","*",30.82]
["Upper CI",31.829000000000001,27.99,"*","*","*","*","*",49.145000000000003,"*","*","*",27.48,"*",34.28,36.17,36.581000000000003,"*","*","*",40.72,48.014000000000003,39.08,37.189,"*","*","*",33.686,54.264000000000003,33.229999999999997,"*","*","*",32.72]
["Non-limiting long-term illness",14.711,14.81,"*","*","*","*","*",9.1890000000000001,"*","*","*",17.100000000000001,"*",14.9,11.51,14.843,"*","*","*",11.65,11.715,13.83,20.462,"*","*","*",17.109000000000002,8.5329999999999995,14.18,"*","*","*",14.03]
["Lower CI",12.076000000000001,12.46,"*","*","*","*","*",6.7409999999999997,"*","*","*",14.8,"*",12.99,9.68,11.727,"*","*","*",8.9860000000000007,9.5259999999999998,10.94,16.815999999999999,"*","*","*",13.097,5.7519999999999998,11.07,"*","*","*",13.37]
["Upper CI",17.347000000000001,17.170000000000002,"*","*","*","*","*",11.637,"*","*","*",19.399999999999999,"*",16.809999999999999,13.34,17.959,"*","*","*",14.314,13.904,16.71,24.108000000000001,"*","*","*",21.12,11.314,17.29,"*","*","*",14.68]
["No long-term illness",57.401000000000003,59.84,"*","*","*","*","*",47.758000000000003,"*","*","*",58.04,"*",53.5,55.53,53.316000000000003,"*","*","*",52.011000000000003,45.231999999999999,51.15,46.570999999999998,"*","*","*",53.469000000000001,43.807000000000002,56.08,"*","*","*",54.2]
["Lower CI",52.848999999999997,56.47,"*","*","*","*","*",42.509,"*","*","*",54.52,"*",50.53,52.49,47.273000000000003,"*","*","*",47.429000000000002,40.637,46.57,40.134999999999998,"*","*","*",47.332000000000001,38.281999999999996,52.03,"*","*","*",53.19]
["Upper CI",61.951999999999998,63.21,"*","*","*","*","*",53.008000000000003,"*","*","*",61.57,"*",56.48,58.56,59.357999999999997,"*","*","*",56.594000000000001,49.826999999999998,55.73,53.006999999999998,"*","*","*",59.606999999999999,49.332000000000001,60.13,"*","*","*",55.21]
[]
[]
["Bases (weighted):"]
["Men",364.43299999999999,441.84,192.61,165.798,76.662999999999997,262.10599999999999,260.44299999999998,202.578,196.393,177.209,143.898,916.64,267.75200000000001,620.29,968.27,375.65699999999998,129.29900000000001,111.71299999999999,172.20599999999999,48.445999999999998,228.68799999999999,609.26,38.805,225.547,262.11,183.85599999999999,41.939,174.858,582.98,155.99299999999999,134.17699999999999,330.149,9062.6]
["Women",404.93,470,214.28,157.80199999999999,87.908000000000001,275.46600000000001,283.56700000000001,243.56899999999999,190.55699999999999,197.648,160.61099999999999,849.19,272.99,663.33,1083.05,429.05200000000002,145.267,137.36699999999999,204.39400000000001,48.518000000000001,252.57300000000001,700.46,39.048000000000002,273.34899999999999,257.548,221.49700000000001,39.383000000000003,213.31899999999999,615.15,192.86,159.316,311.15800000000002,9795.16]
["All Adults",769.36199999999997,911.85,406.89,323.60000000000002,164.571,537.572,544.01,446.14600000000002,386.95,374.85599999999999,304.50900000000001,1765.83,540.74199999999996,1283.6199999999999,2051.3200000000002,804.70799999999997,274.56599999999997,249.08099999999999,376.6,96.963999999999999,481.26100000000002,1309.72,77.852999999999994,498.89600000000002,519.65800000000002,405.35300000000001,81.322000000000003,388.17700000000002,1198.1300000000001,348.85300000000001,293.49299999999999,641.30700000000002,18857.759999999998]
["Bases (unweighted)"]
["Men",426,517,134,116,48,221,159,318,150,104,114,591,160,903,656,239,98,71,191,387,344,343,234,178,186,199,247,286,355,100,98,172,8345]
["Women",541,624,163,136,66,258,193,413,179,128,145,661,197,1142,894,327,128,103,264,461,418,476,271,234,212,277,277,376,456,149,133,212,10514]
["All Adults",967,1141,297,252,114,479,352,731,329,232,259,1252,357,2045,1550,566,226,174,455,848,762,819,505,412,398,476,524,662,811,249,231,384,18859]

{"sheet":"Long-term illness chart","index":9,"n_rows":48,"n_cols":18,"rows_kept":48,"cut":false,"hidden":false,"merged":[]}
[null,null,null,null,null,null,null,null,null,null,null,null,null,null,null,null,null,"INDEX"]
[]
[]
[]
[]
[]
[]
[]
[]
[]
[]
[]
[]
[]
[]
[]
[]
[]
[]
[]
[]
[]
[]
[]
[]
[]
[]
[]
[]
[]
[null,null,"Source: Scottish Health Survey"]
[]
[]
[null,null,"Aberdeen City","Aberdeenshire","East Ayrshire","Edinburgh, City of","Fife","Glasgow City","Highland","Na h-Eileanan Siar","North Ayrshire","North Lanarkshire","Orkney Islands","Shetland Islands","South Ayrshire","South Lanarkshire",null,"Scotland"]
[null,"All Adults"]
[null,"Limiting long-term illness",{"$f":"'Long-term illness'!B31","v":27.888000000000002},{"$f":"'Long-term illness'!C31","v":25.34},{"$f":"'Long-term illness'!I31","v":43.052999999999997},{"$f":"'Long-term illness'!M31","v":24.86},{"$f":"'Long-term illness'!O31","v":31.6},{"$f":"'Long-term illness'!P31","v":32.96},{"$f":"'Long-term illness'!Q31","v":31.841000000000001},{"$f":"'Long-term illness'!U31","v":36.338000000000001},{"$f":"'Long-term illness'!V31","v":43.052999999999997},{"$f":"'Long-term illness'!W31","v":35.03},{"$f":"'Long-term illness'!X31","v":32.966999999999999},{"$f":"'Long-term illness'!AB31","v":29.422000000000001},{"$f":"'Long-term illness'!AC31","v":47.66},{"$f":"'Long-term illness'!AD31","v":29.74},null,{"$f":"'Long-term illness'!AH31","v":31.77}]
[null,"Lower CI",{"$f":"'Long-term illness'!B32","v":23.946999999999999},{"$f":"'Long-term illness'!C32","v":22.7},{"$f":"'Long-term illness'!I32","v":36.96},{"$f":"'Long-term illness'!M32","v":22.23},{"$f":"'Long-term illness'!O32","v":28.91},{"$f":"'Long-term illness'!P32","v":29.75},{"$f":"'Long-term illness'!Q32","v":27.100999999999999},{"$f":"'Long-term illness'!U32","v":31.957000000000001},{"$f":"'Long-term illness'!V32","v":38.091999999999999},{"$f":"'Long-term illness'!W32","v":30.97},{"$f":"'Long-term illness'!X32","v":28.745999999999999},{"$f":"'Long-term illness'!AB32","v":25.158000000000001},{"$f":"'Long-term illness'!AC32","v":41.055},{"$f":"'Long-term illness'!AD32","v":26.25},null,{"$f":"'Long-term illness'!AH32","v":30.82}]
[null,"Upper CI",{"$f":"'Long-term illness'!B33","v":31.829000000000001},{"$f":"'Long-term illness'!C33","v":27.99},{"$f":"'Long-term illness'!I33","v":49.145000000000003},{"$f":"'Long-term illness'!M33","v":27.48},{"$f":"'Long-term illness'!O33","v":34.28},{"$f":"'Long-term illness'!P33","v":36.17},{"$f":"'Long-term illness'!Q33","v":36.581000000000003},{"$f":"'Long-term illness'!U33","v":40.72},{"$f":"'Long-term illness'!V33","v":48.014000000000003},{"$f":"'Long-term illness'!W33","v":39.08},{"$f":"'Long-term illness'!X33","v":37.189},{"$f":"'Long-term illness'!AB33","v":33.686},{"$f":"'Long-term illness'!AC33","v":54.264000000000003},{"$f":"'Long-term illness'!AD33","v":33.229999999999997},null,{"$f":"'Long-term illness'!AH33","v":32.72}]
[null,"Non-limiting long-term illness",{"$f":"'Long-term illness'!B34","v":14.711},{"$f":"'Long-term illness'!C34","v":14.81},{"$f":"'Long-term illness'!I34","v":9.1890000000000001},{"$f":"'Long-term illness'!M34","v":17.100000000000001},{"$f":"'Long-term illness'!O34","v":14.9},{"$f":"'Long-term illness'!P34","v":11.51},{"$f":"'Long-term illness'!Q34","v":14.843},{"$f":"'Long-term illness'!U34","v":11.65},{"$f":"'Long-term illness'!V34","v":11.715},{"$f":"'Long-term illness'!W34","v":13.83},{"$f":"'Long-term illness'!X34","v":20.462},{"$f":"'Long-term illness'!AB34","v":17.109000000000002},{"$f":"'Long-term illness'!AC34","v":8.5329999999999995},{"$f":"'Long-term illness'!AD34","v":14.18},null,{"$f":"'Long-term illness'!AH34","v":14.03}]
[null,"Lower CI",{"$f":"'Long-term illness'!B35","v":12.076000000000001},{"$f":"'Long-term illness'!C35","v":12.46},{"$f":"'Long-term illness'!I35","v":6.7409999999999997},{"$f":"'Long-term illness'!M35","v":14.8},{"$f":"'Long-term illness'!O35","v":12.99},{"$f":"'Long-term illness'!P35","v":9.68},{"$f":"'Long-term illness'!Q35","v":11.727},{"$f":"'Long-term illness'!U35","v":8.9860000000000007},{"$f":"'Long-term illness'!V35","v":9.5259999999999998},{"$f":"'Long-term illness'!W35","v":10.94},{"$f":"'Long-term illness'!X35","v":16.815999999999999},{"$f":"'Long-term illness'!AB35","v":13.097},{"$f":"'Long-term illness'!AC35","v":5.7519999999999998},{"$f":"'Long-term illness'!AD35","v":11.07},null,{"$f":"'Long-term illness'!AH35","v":13.37}]
[null,"Upper CI",{"$f":"'Long-term illness'!B36","v":17.347000000000001},{"$f":"'Long-term illness'!C36","v":17.170000000000002},{"$f":"'Long-term illness'!I36","v":11.637},{"$f":"'Long-term illness'!M36","v":19.399999999999999},{"$f":"'Long-term illness'!O36","v":16.809999999999999},{"$f":"'Long-term illness'!P36","v":13.34},{"$f":"'Long-term illness'!Q36","v":17.959},{"$f":"'Long-term illness'!U36","v":14.314},{"$f":"'Long-term illness'!V36","v":13.904},{"$f":"'Long-term illness'!W36","v":16.71},{"$f":"'Long-term illness'!X36","v":24.108000000000001},{"$f":"'Long-term illness'!AB36","v":21.12},{"$f":"'Long-term illness'!AC36","v":11.314},{"$f":"'Long-term illness'!AD36","v":17.29},null,{"$f":"'Long-term illness'!AH36","v":14.68}]
[null,"No long-term illness",{"$f":"'Long-term illness'!B37","v":57.401000000000003},{"$f":"'Long-term illness'!C37","v":59.84},{"$f":"'Long-term illness'!I37","v":47.758000000000003},{"$f":"'Long-term illness'!M37","v":58.04},{"$f":"'Long-term illness'!O37","v":53.5},{"$f":"'Long-term illness'!P37","v":55.53},{"$f":"'Long-term illness'!Q37","v":53.316000000000003},{"$f":"'Long-term illness'!U37","v":52.011000000000003},{"$f":"'Long-term illness'!V37","v":45.231999999999999},{"$f":"'Long-term illness'!W37","v":51.15},{"$f":"'Long-term illness'!X37","v":46.570999999999998},{"$f":"'Long-term illness'!AB37","v":53.469000000000001},{"$f":"'Long-term illness'!AC37","v":43.807000000000002},{"$f":"'Long-term illness'!AD37","v":56.08},null,{"$f":"'Long-term illness'!AH37","v":54.2}]
[null,"Lower CI",{"$f":"'Long-term illness'!B38","v":52.848999999999997},{"$f":"'Long-term illness'!C38","v":56.47},{"$f":"'Long-term illness'!I38","v":42.509},{"$f":"'Long-term illness'!M38","v":54.52},{"$f":"'Long-term illness'!O38","v":50.53},{"$f":"'Long-term illness'!P38","v":52.49},{"$f":"'Long-term illness'!Q38","v":47.273000000000003},{"$f":"'Long-term illness'!U38","v":47.429000000000002},{"$f":"'Long-term illness'!V38","v":40.637},{"$f":"'Long-term illness'!W38","v":46.57},{"$f":"'Long-term illness'!X38","v":40.134999999999998},{"$f":"'Long-term illness'!AB38","v":47.332000000000001},{"$f":"'Long-term illness'!AC38","v":38.281999999999996},{"$f":"'Long-term illness'!AD38","v":52.03},null,{"$f":"'Long-term illness'!AH38","v":53.19}]
[null,"Upper CI",{"$f":"'Long-term illness'!B39","v":61.951999999999998},{"$f":"'Long-term illness'!C39","v":63.21},{"$f":"'Long-term illness'!I39","v":53.008000000000003},{"$f":"'Long-term illness'!M39","v":61.57},{"$f":"'Long-term illness'!O39","v":56.48},{"$f":"'Long-term illness'!P39","v":58.56},{"$f":"'Long-term illness'!Q39","v":59.357999999999997},{"$f":"'Long-term illness'!U39","v":56.594000000000001},{"$f":"'Long-term illness'!V39","v":49.826999999999998},{"$f":"'Long-term illness'!W39","v":55.73},{"$f":"'Long-term illness'!X39","v":53.006999999999998},{"$f":"'Long-term illness'!AB39","v":59.606999999999999},{"$f":"'Long-term illness'!AC39","v":49.332000000000001},{"$f":"'Long-term illness'!AD39","v":60.13},null,{"$f":"'Long-term illness'!AH39","v":55.21}]
[]
["CLs","Limiting long-term illness",{"$f":"C36-C37","v":3.9410000000000025},{"$f":"D36-D37","v":2.6400000000000006},{"$f":"E36-E37","v":6.0929999999999964},{"$f":"F36-F37","v":2.629999999999999},{"$f":"G36-G37","v":2.6900000000000013},{"$f":"H36-H37","v":3.2100000000000009},{"$f":"I36-I37","v":4.740000000000002},4.3810000000000002,4.9609999999999985,4.0600000000000023,4.2210000000000001,4.2639999999999993,6.6049999999999969,3.4899999999999984,null,{"$f":"R36-R37","v":0.94999999999999929}]
[null,"Non-limiting long-term illness",{"$f":"C39-C40","v":2.6349999999999998},{"$f":"D39-D40","v":2.3499999999999996},{"$f":"E39-E40","v":2.4480000000000004},{"$f":"F39-F40","v":2.3000000000000007},{"$f":"G39-G40","v":1.9100000000000001},{"$f":"H39-H40","v":1.83},{"$f":"I39-I40","v":3.1159999999999997},2.6639999999999997,2.1890000000000001,2.8900000000000006,3.6460000000000008,4.0120000000000022,2.7809999999999997,3.1099999999999994,null,{"$f":"R39-R40","v":0.66000000000000014}]
[null,"No long-term illness",{"$f":"C42-C43","v":4.5520000000000067},{"$f":"D42-D43","v":3.3700000000000045},{"$f":"E42-E43","v":5.2490000000000023},{"$f":"F42-F43","v":3.519999999999996},{"$f":"G42-G43","v":2.9699999999999989},{"$f":"H42-H43","v":3.0399999999999991},{"$f":"I42-I43","v":6.0429999999999993},4.5820000000000007,4.5949999999999989,4.5799999999999983,6.4359999999999999,6.1370000000000005,5.5250000000000057,4.0499999999999972,null,{"$f":"R42-R43","v":1.0100000000000051}]

{"sheet":"Alcohol guidelines","index":10,"n_rows":52,"n_cols":34,"rows_kept":52,"cut":false,"hidden":false,"merged":[[0,0,1,0],[4,0,5,0],[3,1,3,11]]}
["Adherence to weekly drinking advicea by Local Authority and sex",null,null,null,null,null,null,null,null,null,null,null,null,"INDEX"]
[]
[]
["Aged 16 and over","PLEASE NOTE: Where the sample size for a Local Authority was below 500, the result has been suppressed. This is shown here by *.",null,null,null,null,null,null,null,null,null,null,null,null,null,"2013/2014/2015/2016 combined"]
["Weekly drinking category","Local Authority"]
[null,"Aberdeen City","Aberdeenshire","Angus","Argyll & Bute","Clackmannanshire","Dumfries & Galloway","Dundee City","East Ayrshire","East Dunbartonshire","East Lothian","East Renfrewshire","Edinburgh, City of","Falkirk","Fife","Glasgow City","Highland","Inverclyde","Midlothian","Moray","Na h-Eileanan Siar","North Ayrshire","North Lanarkshire","Orkney Islands","Perth & Kinross","Renfrewshire","Scottish Borders","Shetland Islands","South Ayrshire","South Lanarkshire","Stirling","West Dunbartonshire","West Lothian","Scotland"]
[null,"%","%","%","%","%","%","%","%","%","%","%","%","%","%","%","%","%","%","%","%","%","%","%","%","%","%","%","%","%","%","%","%","%"]
["Men"]
["Non drinker",16.706,11.32,"*","*","*","*","*",11.388,"*","*","*",11.98,"*",11.98,18.190000000000001,8.6660000000000004,"*","*","*",19.295000000000002,14.298,16.54,10.512,"*","*","*",12.131,9.8000000000000007,12.15,"*","*","*",13.2]
["Lower CI",12.744999999999999,7.97,"*","*","*","*","*",7.3470000000000004,"*","*","*",8.86,"*",9.6999999999999993,14.78,5.1390000000000002,"*","*","*",14.542,10.760999999999999,11.74,6.9320000000000004,"*","*","*",8.2080000000000002,6.09,7.49,"*","*","*",12.27]
["Upper CI",20.667000000000002,14.68,"*","*","*","*","*",15.43,"*","*","*",15.11,"*",14.26,21.6,12.194000000000001,"*","*","*",24.048999999999999,17.835000000000001,21.34,14.092000000000001,"*","*","*",16.053000000000001,13.510999999999999,16.8,"*","*","*",14.14]
["Moderateb",47.003999999999998,58.06,"*","*","*","*","*",51.094000000000001,"*","*","*",44.98,"*",55.85,50.93,56.860999999999997,"*","*","*",48.054000000000002,45.542999999999999,49.59,53.991,"*","*","*",55.030999999999999,56.838999999999999,54.66,"*","*","*",51.87]
["Lower CI",41.832000000000001,53.19,"*","*","*","*","*",45.720999999999997,"*","*","*",39.950000000000003,"*",52.29,46.39,49.573999999999998,"*","*","*",42.259,40.345999999999997,42.95,48.634,"*","*","*",49.039000000000001,51.53,48.51,"*","*","*",50.51]
["Upper CI",52.174999999999997,62.93,"*","*","*","*","*",56.466999999999999,"*","*","*",50.01,"*",59.41,55.46,64.147000000000006,"*","*","*",53.848999999999997,50.74,56.23,59.347000000000001,"*","*","*",61.023000000000003,62.146999999999998,60.81,"*","*","*",53.23]
["Hazardous/Harmfulc",36.29,30.62,"*","*","*","*","*",37.518000000000001,"*","*","*",43.04,"*",32.17,30.88,34.472999999999999,"*","*","*",32.65,40.158999999999999,33.869999999999997,35.497999999999998,"*","*","*",32.838000000000001,33.360999999999997,33.19,"*","*","*",34.92]
["Lower CI",30.64,26.39,"*","*","*","*","*",31.997,"*","*","*",37.53,"*",28.91,27.02,27.882999999999999,"*","*","*",27.507000000000001,35.637999999999998,28.1,29.45,"*","*","*",27.757999999999999,27.872,27.09,"*","*","*",33.6]
["Upper CI",41.94,34.85,"*","*","*","*","*",43.039000000000001,"*","*","*",48.54,"*",35.43,34.74,41.063000000000002,"*","*","*",37.793999999999997,44.680999999999997,39.630000000000003,41.545999999999999,"*","*","*",37.917999999999999,38.85,39.29,"*","*","*",36.25]
[]
["Women"]
["Non drinker",22.288,16.989999999999998,"*","*","*","*","*",19.373000000000001,"*","*","*",15.39,"*",18.75,21.36,16.702999999999999,"*","*","*",27.289000000000001,22.236999999999998,22.5,14.744999999999999,"*","*","*",17.457999999999998,16.739000000000001,16.36,"*","*","*",18.77]
["Lower CI",17.975000000000001,13.49,"*","*","*","*","*",15.023999999999999,"*","*","*",12.09,"*",16.260000000000002,18.18,12.759,"*","*","*",22.274999999999999,18.199000000000002,17.07,10.292,"*","*","*",12.7,11.465,12.55,"*","*","*",17.84]
["Upper CI",26.600999999999999,20.48,"*","*","*","*","*",23.722000000000001,"*","*","*",18.7,"*",21.24,24.54,20.648,"*","*","*",32.302999999999997,26.274000000000001,27.92,19.199000000000002,"*","*","*",22.216000000000001,22.013000000000002,20.16,"*","*","*",19.7]
["Moderateb",58.201999999999998,68.92,"*","*","*","*","*",68.503,"*","*","*",62.93,"*",66.510000000000005,63.37,66.563000000000002,"*","*","*",63.651000000000003,58.604999999999997,61.95,67.275999999999996,"*","*","*",65.888999999999996,65.453000000000003,65.88,"*","*","*",64.709999999999994]
["Lower CI",53.238,64.59,"*","*","*","*","*",63.57,"*","*","*",59.21,"*",63.87,59.99,61.401000000000003,"*","*","*",58.101999999999997,53.911999999999999,56.41,61.527000000000001,"*","*","*",59.804000000000002,59.664000000000001,61.14,"*","*","*",63.63]
["Upper CI",63.165999999999997,73.25,"*","*","*","*","*",73.436999999999998,"*","*","*",66.66,"*",69.16,66.739999999999995,71.725999999999999,"*","*","*",69.2,63.298000000000002,67.489999999999995,73.025000000000006,"*","*","*",71.974999999999994,71.242000000000004,70.62,"*","*","*",65.8]
["Hazardous/Harmfulc",19.510000000000002,14.09,"*","*","*","*","*",12.122999999999999,"*","*","*",21.67,"*",14.74,15.28,16.733000000000001,"*","*","*",9.06,19.158000000000001,15.55,17.978999999999999,"*","*","*",16.652999999999999,17.808,17.760000000000002,"*","*","*",16.510000000000002]
["Lower CI",15.042,10.96,"*","*","*","*","*",8.4969999999999999,"*","*","*",18.14,"*",12.6,12.67,13.194000000000001,"*","*","*",5.8739999999999997,15.32,11.13,13.52,"*","*","*",10.77,14.146000000000001,13.48,"*","*","*",15.63]
["Upper CI",23.978000000000002,17.23,"*","*","*","*","*",15.75,"*","*","*",25.21,"*",16.87,17.88,20.271999999999998,"*","*","*",12.246,22.997,19.97,22.437999999999999,"*","*","*",22.536000000000001,21.47,22.05,"*","*","*",17.39]
[]
["All Adults"]
["Non drinker",19.667999999999999,14.24,"*","*","*","*","*",15.79,"*","*","*",13.63,"*",15.48,19.87,12.965,"*","*","*",23.277999999999999,18.498000000000001,19.78,12.632999999999999,"*","*","*",14.728,13.651,14.31,"*","*","*",16.11]
["Lower CI",16.495999999999999,11.54,"*","*","*","*","*",12.528,"*","*","*",10.85,"*",13.51,17.12,10.106999999999999,"*","*","*",19.024999999999999,15.430999999999999,15.38,9.5939999999999994,"*","*","*",11.291,9.8490000000000002,11.37,"*","*","*",15.35]
["Upper CI",22.841000000000001,16.940000000000001,"*","*","*","*","*",19.052,"*","*","*",16.41,"*",17.440000000000001,22.61,15.821999999999999,"*","*","*",27.53,21.564,24.18,15.672000000000001,"*","*","*",18.164000000000001,17.452999999999999,17.25,"*","*","*",16.86]
["Moderateb",52.945999999999998,63.65,"*","*","*","*","*",60.692,"*","*","*",53.66,"*",61.36,57.51,62.05,"*","*","*",55.823999999999998,52.453000000000003,56.31,60.646999999999998,"*","*","*",60.323999999999998,61.619,60.42,"*","*","*",58.56]
["Lower CI",48.73,59.82,"*","*","*","*","*",56.421999999999997,"*","*","*",50.34,"*",58.94,54.36,57.454000000000001,"*","*","*",51.134,49.109000000000002,51.8,56.133000000000003,"*","*","*",55.411999999999999,57.402999999999999,56.17,"*","*","*",57.62]
["Upper CI",57.161999999999999,67.489999999999995,"*","*","*","*","*",64.960999999999999,"*","*","*",56.98,"*",63.79,60.65,66.644999999999996,"*","*","*",60.514000000000003,55.796999999999997,60.83,65.162000000000006,"*","*","*",65.236000000000004,65.834999999999994,64.67,"*","*","*",59.51]
["Hazardous/Harmfulc",27.385999999999999,22.11,"*","*","*","*","*",23.518000000000001,"*","*","*",32.71,"*",23.16,22.63,24.986000000000001,"*","*","*",20.898,29.048999999999999,23.91,26.72,"*","*","*",24.948,24.731000000000002,25.27,"*","*","*",25.33]
["Lower CI",23.623000000000001,19.21,"*","*","*","*","*",19.779,"*","*","*",29.22,"*",20.97,20.04,21.143999999999998,"*","*","*",17.510999999999999,25.907,19.84,22.567,"*","*","*",20.385999999999999,21.036999999999999,21.49,"*","*","*",24.47]
["Upper CI",31.148,25.01,"*","*","*","*","*",27.257000000000001,"*","*","*",36.200000000000003,"*",25.35,25.21,28.827000000000002,"*","*","*",24.285,32.192,27.97,30.872,"*","*","*",29.51,28.425000000000001,29.05,"*","*","*",26.19]
[]
["Bases (weighted):"]
["Men ",353.01499999999999,436.47,192.61,165.798,76.662999999999997,257.08800000000002,257.25099999999998,196.92,192.75299999999999,174.52099999999999,141.12200000000001,900.27,263.80799999999999,608.17999999999995,941.85,366.95699999999999,121.203,108.694,172.20599999999999,47.420999999999999,222.476,576.96,38.579000000000001,224.471,256.97000000000003,181.53399999999999,41.243000000000002,171.03800000000001,580.71,154.126,134.17699999999999,308.94099999999997,8866.02]
["Women",399.113,463.68,211.12100000000001,151.982,85.978999999999999,269.70800000000003,278.24,241.934,185.977,191.7,158.87299999999999,842.95,270.60000000000002,650.88,1058.1400000000001,421.86200000000002,141.06,135.364,201.84,47.075000000000003,249.89099999999999,687.7,38.744,267.10199999999998,256.00900000000001,220.077,39.228000000000002,213.226,612.95000000000005,189.43700000000001,157.57599999999999,310.06200000000001,9650.08]
["All Adults",752.12800000000004,900.15,403.73099999999999,317.77999999999997,162.643,526.79600000000005,535.49099999999999,438.85399999999998,378.72899999999998,366.22199999999998,299.995,1743.21,534.40800000000002,1259.06,1999.98,788.81899999999996,262.26299999999998,244.05699999999999,374.04700000000003,94.495000000000005,472.36700000000002,1264.6600000000001,77.322000000000003,491.57400000000001,512.98,401.61099999999999,80.471000000000004,384.26400000000001,1193.67,343.56200000000001,291.75299999999999,619.00300000000004,18516.099999999999]
["Bases (unweighted)"]
["Men ",416,512,134,116,48,218,158,311,148,103,113,582,158,891,644,235,94,69,191,382,336,330,233,177,183,196,243,280,354,99,98,165,8217]
["Women",536,619,161,134,65,254,191,411,177,124,144,658,195,1126,877,324,125,102,261,454,414,470,269,230,211,275,276,376,457,147,132,211,10406]
["All Adults",952,1131,295,250,113,472,349,722,325,227,257,1240,353,2017,1521,559,219,171,452,836,750,800,502,407,394,471,519,656,811,246,230,376,18623]
[]
["a 2016 CMO recommendations: https://www.gov.uk/government/uploads/system/uploads/attachment_data/file/545937/UK_CMOs__report.pdf"]
["b Up to and including 14 units per week"]
["c Over 14 units per week"]

{"sheet":"Alcohol guidelines chart","index":11,"n_rows":47,"n_cols":18,"rows_kept":47,"cut":false,"hidden":false,"merged":[[46,2,46,15]]}
[null,null,null,null,null,null,null,null,null,null,null,null,null,null,null,null,null,"INDEX"]
[]
[]
[]
[]
[]
[]
[]
[]
[]
[]
[]
[]
[]
[]
[]
[]
[]
[]
[]
[]
[]
[]
[]
[]
[]
[]
[]
[]
[]
[null,null,"Source: Scottish Health Survey"]
[null,null,"Aberdeen City","Aberdeenshire","East Ayrshire","Edinburgh, City of","Fife","Glasgow City","Highland","Na h-Eileanan Siar","North Ayrshire","North Lanarkshire","Orkney Islands","Shetland Islands","South Ayrshire","South Lanarkshire",null,"Scotland"]
[null,"All Adults"]
[null,"Non drinker",{"$f":"'Alcohol guidelines'!B31","v":19.667999999999999},{"$f":"'Alcohol guidelines'!C31","v":14.24},{"$f":"'Alcohol guidelines'!I31","v":15.79},{"$f":"'Alcohol guidelines'!M31","v":13.63},{"$f":"'Alcohol guidelines'!O31","v":15.48},{"$f":"'Alcohol guidelines'!P31","v":19.87},{"$f":"'Alcohol guidelines'!Q31","v":12.965},{"$f":"'Alcohol guidelines'!U31","v":23.277999999999999},{"$f":"'Alcohol guidelines'!V31","v":18.498000000000001},{"$f":"'Alcohol guidelines'!W31","v":19.78},{"$f":"'Alcohol guidelines'!X31","v":12.632999999999999},{"$f":"'Alcohol guidelines'!AB31","v":14.728},{"$f":"'Alcohol guidelines'!AC31","v":13.651},{"$f":"'Alcohol guidelines'!AD31","v":14.31},null,{"$f":"'Alcohol guidelines'!AH31","v":16.11}]
[null,"Lower CI",{"$f":"'Alcohol guidelines'!B32","v":16.495999999999999},{"$f":"'Alcohol guidelines'!C32","v":11.54},{"$f":"'Alcohol guidelines'!I32","v":12.528},{"$f":"'Alcohol guidelines'!M32","v":10.85},{"$f":"'Alcohol guidelines'!O32","v":13.51},{"$f":"'Alcohol guidelines'!P32","v":17.12},{"$f":"'Alcohol guidelines'!Q32","v":10.106999999999999},{"$f":"'Alcohol guidelines'!U32","v":19.024999999999999},{"$f":"'Alcohol guidelines'!V32","v":15.430999999999999},{"$f":"'Alcohol guidelines'!W32","v":15.38},{"$f":"'Alcohol guidelines'!X32","v":9.5939999999999994},{"$f":"'Alcohol guidelines'!AB32","v":11.291},{"$f":"'Alcohol guidelines'!AC32","v":9.8490000000000002},{"$f":"'Alcohol guidelines'!AD32","v":11.37},null,{"$f":"'Alcohol guidelines'!AH32","v":15.35}]
[null,"Upper CI",{"$f":"'Alcohol guidelines'!B33","v":22.841000000000001},{"$f":"'Alcohol guidelines'!C33","v":16.940000000000001},{"$f":"'Alcohol guidelines'!I33","v":19.052},{"$f":"'Alcohol guidelines'!M33","v":16.41},{"$f":"'Alcohol guidelines'!O33","v":17.440000000000001},{"$f":"'Alcohol guidelines'!P33","v":22.61},{"$f":"'Alcohol guidelines'!Q33","v":15.821999999999999},{"$f":"'Alcohol guidelines'!U33","v":27.53},{"$f":"'Alcohol guidelines'!V33","v":21.564},{"$f":"'Alcohol guidelines'!W33","v":24.18},{"$f":"'Alcohol guidelines'!X33","v":15.672000000000001},{"$f":"'Alcohol guidelines'!AB33","v":18.164000000000001},{"$f":"'Alcohol guidelines'!AC33","v":17.452999999999999},{"$f":"'Alcohol guidelines'!AD33","v":17.25},null,{"$f":"'Alcohol guidelines'!AH33","v":16.86}]
[null,"Moderate",{"$f":"'Alcohol guidelines'!B34","v":52.945999999999998},{"$f":"'Alcohol guidelines'!C34","v":63.65},{"$f":"'Alcohol guidelines'!I34","v":60.692},{"$f":"'Alcohol guidelines'!M34","v":53.66},{"$f":"'Alcohol guidelines'!O34","v":61.36},{"$f":"'Alcohol guidelines'!P34","v":57.51},{"$f":"'Alcohol guidelines'!Q34","v":62.05},{"$f":"'Alcohol guidelines'!U34","v":55.823999999999998},{"$f":"'Alcohol guidelines'!V34","v":52.453000000000003},{"$f":"'Alcohol guidelines'!W34","v":56.31},{"$f":"'Alcohol guidelines'!X34","v":60.646999999999998},{"$f":"'Alcohol guidelines'!AB34","v":60.323999999999998},{"$f":"'Alcohol guidelines'!AC34","v":61.619},{"$f":"'Alcohol guidelines'!AD34","v":60.42},null,{"$f":"'Alcohol guidelines'!AH34","v":58.56}]
[null,"Lower CI",{"$f":"'Alcohol guidelines'!B35","v":48.73},{"$f":"'Alcohol guidelines'!C35","v":59.82},{"$f":"'Alcohol guidelines'!I35","v":56.421999999999997},{"$f":"'Alcohol guidelines'!M35","v":50.34},{"$f":"'Alcohol guidelines'!O35","v":58.94},{"$f":"'Alcohol guidelines'!P35","v":54.36},{"$f":"'Alcohol guidelines'!Q35","v":57.454000000000001},{"$f":"'Alcohol guidelines'!U35","v":51.134},{"$f":"'Alcohol guidelines'!V35","v":49.109000000000002},{"$f":"'Alcohol guidelines'!W35","v":51.8},{"$f":"'Alcohol guidelines'!X35","v":56.133000000000003},{"$f":"'Alcohol guidelines'!AB35","v":55.411999999999999},{"$f":"'Alcohol guidelines'!AC35","v":57.402999999999999},{"$f":"'Alcohol guidelines'!AD35","v":56.17},null,{"$f":"'Alcohol guidelines'!AH35","v":57.62}]
[null,"Upper CI",{"$f":"'Alcohol guidelines'!B36","v":57.161999999999999},{"$f":"'Alcohol guidelines'!C36","v":67.489999999999995},{"$f":"'Alcohol guidelines'!I36","v":64.960999999999999},{"$f":"'Alcohol guidelines'!M36","v":56.98},{"$f":"'Alcohol guidelines'!O36","v":63.79},{"$f":"'Alcohol guidelines'!P36","v":60.65},{"$f":"'Alcohol guidelines'!Q36","v":66.644999999999996},{"$f":"'Alcohol guidelines'!U36","v":60.514000000000003},{"$f":"'Alcohol guidelines'!V36","v":55.796999999999997},{"$f":"'Alcohol guidelines'!W36","v":60.83},{"$f":"'Alcohol guidelines'!X36","v":65.162000000000006},{"$f":"'Alcohol guidelines'!AB36","v":65.236000000000004},{"$f":"'Alcohol guidelines'!AC36","v":65.834999999999994},{"$f":"'Alcohol guidelines'!AD36","v":64.67},null,{"$f":"'Alcohol guidelines'!AH36","v":59.51}]
[null,"Hazardous/harmful",{"$f":"'Alcohol guidelines'!B37","v":27.385999999999999},{"$f":"'Alcohol guidelines'!C37","v":22.11},{"$f":"'Alcohol guidelines'!I37","v":23.518000000000001},{"$f":"'Alcohol guidelines'!M37","v":32.71},{"$f":"'Alcohol guidelines'!O37","v":23.16},{"$f":"'Alcohol guidelines'!P37","v":22.63},{"$f":"'Alcohol guidelines'!Q37","v":24.986000000000001},{"$f":"'Alcohol guidelines'!U37","v":20.898},{"$f":"'Alcohol guidelines'!V37","v":29.048999999999999},{"$f":"'Alcohol guidelines'!W37","v":23.91},{"$f":"'Alcohol guidelines'!X37","v":26.72},{"$f":"'Alcohol guidelines'!AB37","v":24.948},{"$f":"'Alcohol guidelines'!AC37","v":24.731000000000002},{"$f":"'Alcohol guidelines'!AD37","v":25.27},null,{"$f":"'Alcohol guidelines'!AH37","v":25.33}]
[null,"Lower CI",{"$f":"'Alcohol guidelines'!B38","v":23.623000000000001},{"$f":"'Alcohol guidelines'!C38","v":19.21},{"$f":"'Alcohol guidelines'!I38","v":19.779},{"$f":"'Alcohol guidelines'!M38","v":29.22},{"$f":"'Alcohol guidelines'!O38","v":20.97},{"$f":"'Alcohol guidelines'!P38","v":20.04},{"$f":"'Alcohol guidelines'!Q38","v":21.143999999999998},{"$f":"'Alcohol guidelines'!U38","v":17.510999999999999},{"$f":"'Alcohol guidelines'!V38","v":25.907},{"$f":"'Alcohol guidelines'!W38","v":19.84},{"$f":"'Alcohol guidelines'!X38","v":22.567},{"$f":"'Alcohol guidelines'!AB38","v":20.385999999999999},{"$f":"'Alcohol guidelines'!AC38","v":21.036999999999999},{"$f":"'Alcohol guidelines'!AD38","v":21.49},null,{"$f":"'Alcohol guidelines'!AH38","v":24.47}]
[null,"Upper CI",{"$f":"'Alcohol guidelines'!B39","v":31.148},{"$f":"'Alcohol guidelines'!C39","v":25.01},{"$f":"'Alcohol guidelines'!I39","v":27.257000000000001},{"$f":"'Alcohol guidelines'!M39","v":36.200000000000003},{"$f":"'Alcohol guidelines'!O39","v":25.35},{"$f":"'Alcohol guidelines'!P39","v":25.21},{"$f":"'Alcohol guidelines'!Q39","v":28.827000000000002},{"$f":"'Alcohol guidelines'!U39","v":24.285},{"$f":"'Alcohol guidelines'!V39","v":32.192},{"$f":"'Alcohol guidelines'!W39","v":27.97},{"$f":"'Alcohol guidelines'!X39","v":30.872},{"$f":"'Alcohol guidelines'!AB39","v":29.51},{"$f":"'Alcohol guidelines'!AC39","v":28.425000000000001},{"$f":"'Alcohol guidelines'!AD39","v":29.05},null,{"$f":"'Alcohol guidelines'!AH39","v":26.19}]
[]
["CLs","Non drinker",{"$f":"C34-C35","v":3.1720000000000006},{"$f":"D34-D35","v":2.7000000000000011},{"$f":"E34-E35","v":3.2619999999999987},{"$f":"F34-F35","v":2.7800000000000011},{"$f":"G34-G35","v":1.9700000000000006},{"$f":"H34-H35","v":2.75},2.8580000000000005,4.2530000000000001,3.0670000000000019,4.4000000000000004,3.0389999999999997,3.4369999999999994,3.8019999999999996,2.9400000000000013,null,{"$f":"R34-R35","v":0.75999999999999979}]
[null,"Moderate",{"$f":"C37-C38","v":4.2160000000000011},{"$f":"D37-D38","v":3.8299999999999983},{"$f":"E37-E38","v":4.2700000000000031},{"$f":"F37-F38","v":3.3199999999999932},{"$f":"G37-G38","v":2.4200000000000017},{"$f":"H37-H38","v":3.1499999999999986},4.5959999999999965,4.6899999999999977,3.3440000000000012,4.5100000000000051,4.5139999999999958,4.911999999999999,4.2160000000000011,4.25,null,{"$f":"R37-R38","v":0.94000000000000483}]
[null,"Hazardous/harmful",{"$f":"C40-C41","v":3.7629999999999981},{"$f":"D40-D41","v":2.8999999999999986},{"$f":"E40-E41","v":3.7390000000000008},{"$f":"F40-F41","v":3.490000000000002},{"$f":"G40-G41","v":2.1900000000000013},{"$f":"H40-H41","v":2.59},3.8420000000000023,3.3870000000000005,3.1419999999999995,4.07,4.1529999999999987,4.5620000000000012,3.6940000000000026,3.7800000000000011,null,{"$f":"R40-R41","v":0.85999999999999943}]
[null,null,"Based on 2016 CMO recommendations (https://www.gov.uk/government/uploads/system/uploads/attachment_data/file/545937/UK_CMOs__report.pdf)\nModerate- Up to and including 14 units per week\nHazardous/harmful- Over 14 units per week"]

{"sheet":"Mean alcohol units","index":12,"n_rows":31,"n_cols":34,"rows_kept":31,"cut":false,"hidden":false,"merged":[[0,0,1,0],[4,0,5,0],[3,1,3,11]]}
["Mean number of alcohol units consumed weekly, by Local Authority and sex",null,null,null,null,null,null,null,null,null,null,null,"INDEX"]
[]
[]
["Aged 16 and over","PLEASE NOTE: Where the sample size for a Local Authority was below 500, the result has been suppressed. This is shown here by *.",null,null,null,null,null,null,null,null,null,null,null,null,null,"2013/2014/2015/2016 combined"]
["Mean alcohol drinking","Local Authority"]
[null,"Aberdeen City","Aberdeenshire","Angus","Argyll & Bute","Clackmannanshire","Dumfries & Galloway","Dundee City","East Ayrshire","East Dunbartonshire","East Lothian","East Renfrewshire","Edinburgh, City of","Falkirk","Fife","Glasgow City","Highland","Inverclyde","Midlothian","Moray","Na h-Eileanan Siar","North Ayrshire","North Lanarkshire","Orkney Islands","Perth & Kinross","Renfrewshire","Scottish Borders","Shetland Islands","South Ayrshire","South Lanarkshire","Stirling","West Dunbartonshire","West Lothian","Scotland"]
["Men"]
["Weekly mean unitsa",18.875,13.584,"*","*","*","*","*",18.135999999999999,"*","*","*",19.11,"*",15.68,16.38,"*","*","*","*",17.207999999999998,21.321000000000002,15.95,"*","*","*","*","*",16.614000000000001,16.47,"*","*","*",16.41]
["Lower CI",15.193,11.987,"*","*","*","*","*",15.599,"*","*","*",16.670000000000002,"*",13.89,14.49,"*","*","*","*",14.608000000000001,18.164999999999999,12.78,"*","*","*","*","*",12.576000000000001,13.75,"*","*","*",15.8]
["Upper CI",22.556000000000001,15.182,"*","*","*","*","*",20.672999999999998,"*","*","*",21.55,"*",17.46,18.27,"*","*","*","*",19.808,24.478000000000002,19.11,"*","*","*","*","*",20.652000000000001,19.18,"*","*","*",17.03]
[]
["Women"]
["Weekly mean unitsa",10.454000000000001,8.5449999999999999,"*","*","*","*","*",7.8650000000000002,"*","*","*",10.32,"*",8.24,8.4,"*","*","*","*",6.0890000000000004,9.9220000000000006,8.82,"*","*","*","*","*",8.4250000000000007,8.7899999999999991,"*","*","*",8.7799999999999994]
["Lower CI",8.734,7.2350000000000003,"*","*","*","*","*",6.1909999999999998,"*","*","*",9.18,"*",7.18,7.4,"*","*","*","*",4.9269999999999996,8.3970000000000002,7.11,"*","*","*","*","*",7.3659999999999997,6.92,"*","*","*",8.4600000000000009]
["Upper CI",12.173999999999999,9.8550000000000004,"*","*","*","*","*",9.5399999999999991,"*","*","*",11.47,"*",9.2899999999999991,9.4,"*","*","*","*",7.2510000000000003,11.446,10.52,"*","*","*","*","*",9.4830000000000005,10.66,"*","*","*",9.1]
[]
["All adults"]
["Weekly mean unitsa",14.564,11.067,"*","*","*","*","*",12.734,"*","*","*",14.97,"*",11.98,12.25,"*","*","*","*",11.976000000000001,15.57,12.21,"*","*","*","*","*",12.206,12.63,"*","*","*",12.57]
["Lower CI",12.346,9.859,"*","*","*","*","*",11.022,"*","*","*",13.5,"*",10.93,11.03,"*","*","*","*",10.24,13.593,10.44,"*","*","*","*","*",10.116,10.74,"*","*","*",12.2]
["Upper CI",16.782,12.275,"*","*","*","*","*",14.446,"*","*","*",16.43,"*",13.03,13.47,"*","*","*","*",13.712999999999999,17.547000000000001,13.99,"*","*","*","*","*",14.297000000000001,14.53,"*","*","*",12.94]
[]
["Bases (weighted):"]
["Men",292.67700000000002,374.61700000000002,161.94900000000001,131.36000000000001,60.856000000000002,213.33,220.744,172.80600000000001,167.02,152.15,118.81,789.9,240.54900000000001,529.32000000000005,759.55,329.62,99.91,102.779,156.25399999999999,38.271000000000001,189.23,476.84,34.295000000000002,204.08500000000001,225.143,165.62799999999999,35.633000000000003,151.31899999999999,501.91,139.41399999999999,101.795,261.15600000000001,7598.92]
["Women",307.017,373.822,163.04900000000001,118.199,64.808999999999997,218.34399999999999,234.81100000000001,191.74100000000001,161.702,160.852,131.50399999999999,703.9,208.72499999999999,522.01,815.8,347.36200000000002,104.999,119.08499999999999,163.96100000000001,34.01,192.67500000000001,523.64,32.829000000000001,209.197,208.81299999999999,190.708,32.215000000000003,176.37899999999999,499.87,158.142,98.451999999999998,245.50800000000001,7714.12]
["All Adults",599.69299999999998,748.43899999999996,324.99700000000001,249.559,125.666,431.67399999999998,455.55599999999998,364.54599999999999,328.72199999999998,313.00200000000001,250.315,1493.8,449.27300000000002,1051.33,1575.35,676.98199999999997,204.90899999999999,221.864,320.21499999999997,72.28,381.90499999999997,1000.47,67.123999999999995,413.28100000000001,433.95600000000002,356.33600000000001,67.847999999999999,327.69799999999998,1001.78,297.55599999999998,200.24700000000001,506.66399999999999,15313.04]
["Bases (unweighted)"]
["Men",340,442,112,91,39,180,136,272,127,87,94,509,142,768,514,210,76,65,172,300,285,271,207,160,161,177,206,248,304,89,73,138,6995]
["Women",399,497,125,104,50,205,160,327,152,103,119,546,148,904,671,261,92,88,212,333,317,353,225,180,171,236,225,313,368,120,83,165,8252]
["All Adults",739,939,237,195,89,385,296,599,279,190,213,1055,290,1672,1185,471,168,153,384,633,602,624,432,340,332,413,431,561,672,209,156,303,15247]
[]
["a Among those who drank in the last year"]

{"sheet":"Mean units chart","index":13,"n_rows":40,"n_cols":18,"rows_kept":40,"cut":false,"hidden":false,"merged":[]}
[null,null,null,null,null,null,null,null,null,null,null,null,null,null,null,null,null,"INDEX"]
[]
[]
[]
[]
[]
[]
[]
[]
[]
[]
[]
[]
[]
[]
[]
[]
[]
[]
[]
[]
[]
[]
[]
[]
[]
[]
[]
[]
[]
[null,null,"Source: Scottish Health Survey"]
[]
[null,null,"Weekly mean units among those who drank in the last year"]
[null,null,"Aberdeen City","Aberdeenshire","East Ayrshire","Edinburgh, City of","Fife","Glasgow City","Na h-Eileanan Siar","North Ayrshire","North Lanarkshire","South Ayrshire","South Lanarkshire",null,"Scotland"]
[null,"All Adults"]
[null,"Weekly mean units",{"$f":"'Mean alcohol units'!B18","v":14.564},{"$f":"'Mean alcohol units'!C18","v":11.067},{"$f":"'Mean alcohol units'!I18","v":12.734},{"$f":"'Mean alcohol units'!M18","v":14.97},{"$f":"'Mean alcohol units'!O18","v":11.98},{"$f":"'Mean alcohol units'!P18","v":12.25},{"$f":"'Mean alcohol units'!U18","v":11.976000000000001},{"$f":"'Mean alcohol units'!V18","v":15.57},{"$f":"'Mean alcohol units'!W18","v":12.21},{"$f":"'Mean alcohol units'!AC18","v":12.206},{"$f":"'Mean alcohol units'!AD18","v":12.63},null,{"$f":"'Mean alcohol units'!AH18","v":12.57}]
[null,"Lower CI",{"$f":"'Mean alcohol units'!B19","v":12.346},{"$f":"'Mean alcohol units'!C19","v":9.859},{"$f":"'Mean alcohol units'!I19","v":11.022},{"$f":"'Mean alcohol units'!M19","v":13.5},{"$f":"'Mean alcohol units'!O19","v":10.93},{"$f":"'Mean alcohol units'!P19","v":11.03},{"$f":"'Mean alcohol units'!U19","v":10.24},{"$f":"'Mean alcohol units'!V19","v":13.593},{"$f":"'Mean alcohol units'!W19","v":10.44},{"$f":"'Mean alcohol units'!AC19","v":10.116},{"$f":"'Mean alcohol units'!AD19","v":10.74},null,{"$f":"'Mean alcohol units'!AH19","v":12.2}]
[null,"Upper CI",{"$f":"'Mean alcohol units'!B20","v":16.782},{"$f":"'Mean alcohol units'!C20","v":12.275},{"$f":"'Mean alcohol units'!I20","v":14.446},{"$f":"'Mean alcohol units'!M20","v":16.43},{"$f":"'Mean alcohol units'!O20","v":13.03},{"$f":"'Mean alcohol units'!P20","v":13.47},{"$f":"'Mean alcohol units'!U20","v":13.712999999999999},{"$f":"'Mean alcohol units'!V20","v":17.547000000000001},{"$f":"'Mean alcohol units'!W20","v":13.99},{"$f":"'Mean alcohol units'!AC20","v":14.297000000000001},{"$f":"'Mean alcohol units'!AD20","v":14.53},null,{"$f":"'Mean alcohol units'!AH20","v":12.94}]
[]
["CLs",null,{"$f":"C36-C37","v":2.218},{"$f":"D36-D37","v":1.2080000000000002},{"$f":"E36-E37","v":1.7119999999999997},{"$f":"F36-F37","v":1.4700000000000006},{"$f":"G36-G37","v":1.0500000000000007},{"$f":"H36-H37","v":1.2200000000000006},{"$f":"I36-I37","v":1.7360000000000007},1.9770000000000003,1.7700000000000014,2.09,1.8900000000000006,null,{"$f":"O36-O37","v":0.37000000000000099}]

{"sheet":"Smoking behaviour","index":14,"n_rows":49,"n_cols":34,"rows_kept":49,"cut":false,"hidden":false,"merged":[[4,0,5,0],[0,0,1,0],[3,1,3,11]]}
["Smoking behaviour, three categories, by Local Authority and sex",null,null,null,null,null,null,null,null,null,null,null,"INDEX"]
[]
[]
["Aged 16 and over","PLEASE NOTE: Where the sample size for a Local Authority was below 500, the result has been suppressed. This is shown here by *.",null,null,null,null,null,null,null,null,null,null,null,null,null,"2013/2014/2015/2016 combined"]
["Smoking behaviour, three categories","Local Authority"]
[null,"Aberdeen City","Aberdeenshire","Angus","Argyll & Bute","Clackmannanshire","Dumfries & Galloway","Dundee City","East Ayrshire","East Dunbartonshire","East Lothian","East Renfrewshire","Edinburgh, City of","Falkirk","Fife","Glasgow City","Highland","Inverclyde","Midlothian","Moray","Na h-Eileanan Siar","North Ayrshire","North Lanarkshire","Orkney Islands","Perth & Kinross","Renfrewshire","Scottish Borders","Shetland Islands","South Ayrshire","South Lanarkshire","Stirling","West Dunbartonshire","West Lothian","Scotland"]
[null,"%","%","%","%","%","%","%","%","%","%","%","%","%","%","%","%","%","%","%","%","%","%","%","%","%","%","%","%","%","%","%","%","%"]
["Men"]
["Never smoked, or ex-occasional",49.945999999999998,52.66,"*","*","*","*","*",51.991999999999997,"*","*","*",57.91,"*",48.86,47.92,51.273000000000003,"*","*","*",50.551000000000002,44.661000000000001,49.04,50.902999999999999,"*","*","*",53.363,54.875,53.68,"*","*","*",52.06]
["Lower CI",44.04,48.03,"*","*","*","*","*",45.959000000000003,"*","*","*",53.14,"*",45.15,43.86,43.591999999999999,"*","*","*",45.542999999999999,39.03,43.12,43.018000000000001,"*","*","*",48.777000000000001,49.743000000000002,47.54,"*","*","*",50.71]
["Upper CI",55.850999999999999,57.29,"*","*","*","*","*",58.024000000000001,"*","*","*",62.68,"*",52.57,51.97,58.954999999999998,"*","*","*",55.558999999999997,50.290999999999997,54.95,58.787999999999997,"*","*","*",57.948,60.006999999999998,59.82,"*","*","*",53.41]
["Ex-regular smoker, or occasional",20.827000000000002,29.25,"*","*","*","*","*",25.98,"*","*","*",23.13,"*",27.43,21.2,29.074000000000002,"*","*","*",29.126000000000001,25.302,25.1,28.463999999999999,"*","*","*",23.378,26.992999999999999,27.36,"*","*","*",25.41]
["Lower CI",17.466999999999999,25.33,"*","*","*","*","*",20.806999999999999,"*","*","*",19.579999999999998,"*",24.24,18.170000000000002,23.518000000000001,"*","*","*",24.402999999999999,20.952999999999999,19.559999999999999,22.045999999999999,"*","*","*",17.664000000000001,22.501999999999999,22.67,"*","*","*",24.32]
["Upper CI",24.186,33.159999999999997,"*","*","*","*","*",31.152000000000001,"*","*","*",26.67,"*",30.62,24.22,34.628999999999998,"*","*","*",33.847999999999999,29.652000000000001,30.64,34.883000000000003,"*","*","*",29.093,31.484000000000002,32.049999999999997,"*","*","*",26.49]
["Regular smoker",29.228000000000002,18.09,"*","*","*","*","*",22.029,"*","*","*",18.96,"*",23.71,30.89,19.652999999999999,"*","*","*",20.324000000000002,30.036999999999999,25.86,20.632999999999999,"*","*","*",23.259,18.132000000000001,18.96,"*","*","*",22.53]
["Lower CI",23.366,14.16,"*","*","*","*","*",17.873000000000001,"*","*","*",15.55,"*",20.43,26.75,13.56,"*","*","*",15.882,24.986999999999998,21.02,14.279,"*","*","*",17.72,12.861000000000001,14.13,"*","*","*",21.39]
["Upper CI",35.088999999999999,22.03,"*","*","*","*","*",26.184999999999999,"*","*","*",22.36,"*",27,35.020000000000003,25.745999999999999,"*","*","*",24.765000000000001,35.085999999999999,30.71,26.986999999999998,"*","*","*",28.797999999999998,23.402000000000001,23.79,"*","*","*",23.67]
[]
["Women"]
["Never smoked, or ex-occasional",61.826000000000001,61.69,"*","*","*","*","*",56.107999999999997,"*","*","*",60.97,"*",56.95,54.91,54.265000000000001,"*","*","*",61.27,51.978999999999999,50.65,64.192999999999998,"*","*","*",53.701000000000001,58.734999999999999,59.67,"*","*","*",56.83]
["Lower CI",57.677999999999997,57.4,"*","*","*","*","*",51.197000000000003,"*","*","*",56.07,"*",53.74,50.95,47.822000000000003,"*","*","*",56.113999999999997,45.74,45.5,58.424999999999997,"*","*","*",48.381,53.747999999999998,54.11,"*","*","*",55.58]
["Upper CI",65.974000000000004,65.98,"*","*","*","*","*",61.018000000000001,"*","*","*",65.87,"*",60.16,58.87,60.709000000000003,"*","*","*",66.426000000000002,58.216999999999999,55.81,69.960999999999999,"*","*","*",59.021000000000001,63.722000000000001,65.23,"*","*","*",58.09]
["Ex-regular smoker, or occasional",18.343,21.94,"*","*","*","*","*",25.968,"*","*","*",22.81,"*",21.63,19.5,26.835999999999999,"*","*","*",22.844000000000001,26.27,26.06,22.484000000000002,"*","*","*",27.384,23.033999999999999,23.2,"*","*","*",23.1]
["Lower CI",15.189,18.399999999999999,"*","*","*","*","*",21.698,"*","*","*",18.690000000000001,"*",18.989999999999998,17.059999999999999,21.158999999999999,"*","*","*",18.942,20.902999999999999,21.95,17.651,"*","*","*",21.731999999999999,18.8,19.239999999999998,"*","*","*",22.1]
["Upper CI",21.497,25.48,"*","*","*","*","*",30.239000000000001,"*","*","*",26.92,"*",24.28,21.93,32.512,"*","*","*",26.747,31.638000000000002,30.18,27.315999999999999,"*","*","*",33.036000000000001,27.268000000000001,27.16,"*","*","*",24.1]
["Regular smoker",19.831,16.37,"*","*","*","*","*",17.923999999999999,"*","*","*",16.23,"*",21.41,25.59,18.899000000000001,"*","*","*",15.885999999999999,21.751000000000001,23.28,13.324,"*","*","*",18.914999999999999,18.231000000000002,17.13,"*","*","*",20.07]
["Lower CI",16.417999999999999,13,"*","*","*","*","*",14.193,"*","*","*",12.41,"*",18.53,22.23,13.920999999999999,"*","*","*",12.144,17.609000000000002,19.54,9.3710000000000004,"*","*","*",13.858000000000001,13.888999999999999,13.19,"*","*","*",19.079999999999998]
["Upper CI",23.244,19.739999999999998,"*","*","*","*","*",21.655999999999999,"*","*","*",20.04,"*",24.3,28.95,23.876999999999999,"*","*","*",19.628,25.893000000000001,27.03,17.277000000000001,"*","*","*",23.972000000000001,22.574000000000002,21.08,"*","*","*",21.05]
[]
["All Adults"]
["Never smoked, or ex-occasional",56.198999999999998,57.33,"*","*","*","*","*",54.25,"*","*","*",59.39,"*",53.05,51.62,52.872999999999998,"*","*","*",55.93,48.515000000000001,49.91,57.554000000000002,"*","*","*",53.526000000000003,57.002000000000002,56.77,"*","*","*",54.55]
["Lower CI",51.890999999999998,53.93,"*","*","*","*","*",49.953000000000003,"*","*","*",55.61,"*",50.52,48.53,47.128,"*","*","*",52.387999999999998,44.213000000000001,45.41,51.843000000000004,"*","*","*",49.642000000000003,53.078000000000003,52.11,"*","*","*",53.5]
["Upper CI",60.506999999999998,60.73,"*","*","*","*","*",58.548000000000002,"*","*","*",63.16,"*",55.58,54.72,58.618000000000002,"*","*","*",59.472000000000001,52.816000000000003,54.41,63.265000000000001,"*","*","*",57.411000000000001,60.926000000000002,61.42,"*","*","*",55.59]
["Ex-regular smoker, or occasional",19.518999999999998,25.47,"*","*","*","*","*",25.972999999999999,"*","*","*",22.97,"*",24.43,20.3,27.876999999999999,"*","*","*",25.972999999999999,25.812000000000001,25.62,25.471,"*","*","*",25.318000000000001,24.811,25.22,"*","*","*",24.21]
["Lower CI",17.030999999999999,22.72,"*","*","*","*","*",22.373999999999999,"*","*","*",20.12,"*",22.36,18.27,23.407,"*","*","*",22.568000000000001,22.08,21.83,21.945,"*","*","*",20.36,21.614000000000001,22.04,"*","*","*",23.43]
["Upper CI",22.007000000000001,28.22,"*","*","*","*","*",29.573,"*","*","*",25.83,"*",26.5,22.32,32.345999999999997,"*","*","*",29.378,29.545000000000002,29.41,28.998000000000001,"*","*","*",30.274999999999999,28.007999999999999,28.39,"*","*","*",24.98]
["Regular smoker",24.280999999999999,17.2,"*","*","*","*","*",19.776,"*","*","*",17.64,"*",22.52,28.08,19.25,"*","*","*",18.096,25.672999999999998,24.47,16.975000000000001,"*","*","*",21.155999999999999,18.187000000000001,18.02,"*","*","*",21.25]
["Lower CI",20.536000000000001,14.45,"*","*","*","*","*",16.492000000000001,"*","*","*",14.74,"*",20.079999999999998,25.3,15.337999999999999,"*","*","*",14.988,22.614000000000001,20.97,12.516,"*","*","*",16.963000000000001,14.619,14.35,"*","*","*",20.399999999999999]
["Upper CI",28.027000000000001,19.95,"*","*","*","*","*",23.061,"*","*","*",20.53,"*",24.97,30.86,23.161999999999999,"*","*","*",21.204000000000001,28.731999999999999,27.97,21.434000000000001,"*","*","*",25.347999999999999,21.754000000000001,21.68,"*","*","*",22.1]
[]
[]
["Bases (weighted):"]
["Men",363.02600000000001,437.36,192.61,165.798,76.662999999999997,258.50799999999998,260.44299999999998,200.98400000000001,192.75299999999999,177.209,143.898,907.05,263.80799999999999,616.07000000000005,957.2,373.375,129.29900000000001,110.048,172.20599999999999,48.037999999999997,225.798,590.9,38.805,225.547,260.51600000000002,183.85599999999999,41.798000000000002,174.24100000000001,581.66999999999996,155.99299999999999,134.17699999999999,314.46699999999998,8974.11]
["Women",403.45699999999999,468.18,214.28,154.28399999999999,87.908000000000001,267.19099999999997,280.39,244.375,185.977,197.648,160.61099999999999,848.39,271.755,660.75,1079.96,429.05200000000002,143.86000000000001,137.36699999999999,204.39400000000001,48.390999999999998,251.17599999999999,692.58,38.875,268.71300000000002,257.548,221.46,39.228000000000002,213.92099999999999,618.9,191.22499999999999,159.316,310.06200000000001,9751.2199999999993]
["All Adults",766.48299999999995,905.54,406.89,320.08100000000002,164.571,525.69899999999996,540.83299999999997,445.35899999999998,378.72899999999998,374.85599999999999,304.50900000000001,1755.44,535.56399999999996,1276.81,2037.15,802.42700000000002,273.15899999999999,247.41499999999999,376.6,96.429000000000002,476.97500000000002,1283.48,77.679000000000002,494.26,518.06399999999996,405.31599999999997,81.025999999999996,388.16199999999998,1200.57,347.21800000000002,293.49299999999999,624.529,18725.330000000002]
["Bases (unweighted)"]
["Men",425,513,134,116,48,219,159,316,148,104,114,586,158,899,651,238,98,70,191,386,340,338,234,178,185,199,246,285,355,100,98,167,8298]
["Women",540,623,163,135,66,253,192,414,177,128,145,661,196,1139,892,327,127,103,264,460,416,472,270,231,212,277,276,377,459,148,133,211,10487]
["All Adults",965,1136,297,251,114,472,351,730,325,232,259,1247,354,2038,1543,565,225,173,455,846,756,810,504,409,397,476,522,662,814,248,231,378,18785]

{"sheet":"Smoking chart","index":15,"n_rows":48,"n_cols":18,"rows_kept":48,"cut":false,"hidden":false,"merged":[[31,2,32,14]]}
[null,null,null,null,null,null,null,null,null,null,null,null,null,null,null,null,null,"INDEX"]
[]
[]
[]
[]
[]
[]
[]
[]
[]
[]
[]
[]
[]
[]
[]
[]
[]
[]
[]
[]
[]
[]
[]
[]
[]
[]
[]
[]
[]
[null,null,"Source: Scottish Health Survey"]
[]
[]
[null,null,"Aberdeen City","Aberdeenshire","East Ayrshire","Edinburgh, City of","Fife","Glasgow City","Highland","Na h-Eileanan Siar","North Ayrshire","North Lanarkshire","Orkney Islands","Shetland Islands","South Ayrshire","South Lanarkshire",null,"Scotland"]
[null,"All Adults"]
[null,"Never smoked, or ex-occasional",{"$f":"'Smoking behaviour'!B31","v":56.198999999999998},{"$f":"'Smoking behaviour'!C31","v":57.33},{"$f":"'Smoking behaviour'!I31","v":54.25},{"$f":"'Smoking behaviour'!M31","v":59.39},{"$f":"'Smoking behaviour'!O31","v":53.05},{"$f":"'Smoking behaviour'!P31","v":51.62},{"$f":"'Smoking behaviour'!Q31","v":52.872999999999998},{"$f":"'Smoking behaviour'!U31","v":55.93},{"$f":"'Smoking behaviour'!V31","v":48.515000000000001},{"$f":"'Smoking behaviour'!W31","v":49.91},{"$f":"'Smoking behaviour'!X31","v":57.554000000000002},{"$f":"'Smoking behaviour'!AB31","v":53.526000000000003},{"$f":"'Smoking behaviour'!AC31","v":57.002000000000002},{"$f":"'Smoking behaviour'!AD31","v":56.77},null,{"$f":"'Smoking behaviour'!AH31","v":54.55}]
[null,"Lower CI",{"$f":"'Smoking behaviour'!B32","v":51.890999999999998},{"$f":"'Smoking behaviour'!C32","v":53.93},{"$f":"'Smoking behaviour'!I32","v":49.953000000000003},{"$f":"'Smoking behaviour'!M32","v":55.61},{"$f":"'Smoking behaviour'!O32","v":50.52},{"$f":"'Smoking behaviour'!P32","v":48.53},{"$f":"'Smoking behaviour'!Q32","v":47.128},{"$f":"'Smoking behaviour'!U32","v":52.387999999999998},{"$f":"'Smoking behaviour'!V32","v":44.213000000000001},{"$f":"'Smoking behaviour'!W32","v":45.41},{"$f":"'Smoking behaviour'!X32","v":51.843000000000004},{"$f":"'Smoking behaviour'!AB32","v":49.642000000000003},{"$f":"'Smoking behaviour'!AC32","v":53.078000000000003},{"$f":"'Smoking behaviour'!AD32","v":52.11},null,{"$f":"'Smoking behaviour'!AH32","v":53.5}]
[null,"Upper CI",{"$f":"'Smoking behaviour'!B33","v":60.506999999999998},{"$f":"'Smoking behaviour'!C33","v":60.73},{"$f":"'Smoking behaviour'!I33","v":58.548000000000002},{"$f":"'Smoking behaviour'!M33","v":63.16},{"$f":"'Smoking behaviour'!O33","v":55.58},{"$f":"'Smoking behaviour'!P33","v":54.72},{"$f":"'Smoking behaviour'!Q33","v":58.618000000000002},{"$f":"'Smoking behaviour'!U33","v":59.472000000000001},{"$f":"'Smoking behaviour'!V33","v":52.816000000000003},{"$f":"'Smoking behaviour'!W33","v":54.41},{"$f":"'Smoking behaviour'!X33","v":63.265000000000001},{"$f":"'Smoking behaviour'!AB33","v":57.411000000000001},{"$f":"'Smoking behaviour'!AC33","v":60.926000000000002},{"$f":"'Smoking behaviour'!AD33","v":61.42},null,{"$f":"'Smoking behaviour'!AH33","v":55.59}]
[null,"Ex-regular smoker, or occasional",{"$f":"'Smoking behaviour'!B34","v":19.518999999999998},{"$f":"'Smoking behaviour'!C34","v":25.47},{"$f":"'Smoking behaviour'!I34","v":25.972999999999999},{"$f":"'Smoking behaviour'!M34","v":22.97},{"$f":"'Smoking behaviour'!O34","v":24.43},{"$f":"'Smoking behaviour'!P34","v":20.3},{"$f":"'Smoking behaviour'!Q34","v":27.876999999999999},{"$f":"'Smoking behaviour'!U34","v":25.972999999999999},{"$f":"'Smoking behaviour'!V34","v":25.812000000000001},{"$f":"'Smoking behaviour'!W34","v":25.62},{"$f":"'Smoking behaviour'!X34","v":25.471},{"$f":"'Smoking behaviour'!AB34","v":25.318000000000001},{"$f":"'Smoking behaviour'!AC34","v":24.811},{"$f":"'Smoking behaviour'!AD34","v":25.22},null,{"$f":"'Smoking behaviour'!AH34","v":24.21}]
[null,"Lower CI",{"$f":"'Smoking behaviour'!B35","v":17.030999999999999},{"$f":"'Smoking behaviour'!C35","v":22.72},{"$f":"'Smoking behaviour'!I35","v":22.373999999999999},{"$f":"'Smoking behaviour'!M35","v":20.12},{"$f":"'Smoking behaviour'!O35","v":22.36},{"$f":"'Smoking behaviour'!P35","v":18.27},{"$f":"'Smoking behaviour'!Q35","v":23.407},{"$f":"'Smoking behaviour'!U35","v":22.568000000000001},{"$f":"'Smoking behaviour'!V35","v":22.08},{"$f":"'Smoking behaviour'!W35","v":21.83},{"$f":"'Smoking behaviour'!X35","v":21.945},{"$f":"'Smoking behaviour'!AB35","v":20.36},{"$f":"'Smoking behaviour'!AC35","v":21.614000000000001},{"$f":"'Smoking behaviour'!AD35","v":22.04},null,{"$f":"'Smoking behaviour'!AH35","v":23.43}]
[null,"Upper CI",{"$f":"'Smoking behaviour'!B36","v":22.007000000000001},{"$f":"'Smoking behaviour'!C36","v":28.22},{"$f":"'Smoking behaviour'!I36","v":29.573},{"$f":"'Smoking behaviour'!M36","v":25.83},{"$f":"'Smoking behaviour'!O36","v":26.5},{"$f":"'Smoking behaviour'!P36","v":22.32},{"$f":"'Smoking behaviour'!Q36","v":32.345999999999997},{"$f":"'Smoking behaviour'!U36","v":29.378},{"$f":"'Smoking behaviour'!V36","v":29.545000000000002},{"$f":"'Smoking behaviour'!W36","v":29.41},{"$f":"'Smoking behaviour'!X36","v":28.998000000000001},{"$f":"'Smoking behaviour'!AB36","v":30.274999999999999},{"$f":"'Smoking behaviour'!AC36","v":28.007999999999999},{"$f":"'Smoking behaviour'!AD36","v":28.39},null,{"$f":"'Smoking behaviour'!AH36","v":24.98}]
[null,"Regular smoker",{"$f":"'Smoking behaviour'!B37","v":24.280999999999999},{"$f":"'Smoking behaviour'!C37","v":17.2},{"$f":"'Smoking behaviour'!I37","v":19.776},{"$f":"'Smoking behaviour'!M37","v":17.64},{"$f":"'Smoking behaviour'!O37","v":22.52},{"$f":"'Smoking behaviour'!P37","v":28.08},{"$f":"'Smoking behaviour'!Q37","v":19.25},{"$f":"'Smoking behaviour'!U37","v":18.096},{"$f":"'Smoking behaviour'!V37","v":25.672999999999998},{"$f":"'Smoking behaviour'!W37","v":24.47},{"$f":"'Smoking behaviour'!X37","v":16.975000000000001},{"$f":"'Smoking behaviour'!AB37","v":21.155999999999999},{"$f":"'Smoking behaviour'!AC37","v":18.187000000000001},{"$f":"'Smoking behaviour'!AD37","v":18.02},null,{"$f":"'Smoking behaviour'!AH37","v":21.25}]
[null,"Lower CI",{"$f":"'Smoking behaviour'!B38","v":20.536000000000001},{"$f":"'Smoking behaviour'!C38","v":14.45},{"$f":"'Smoking behaviour'!I38","v":16.492000000000001},{"$f":"'Smoking behaviour'!M38","v":14.74},{"$f":"'Smoking behaviour'!O38","v":20.079999999999998},{"$f":"'Smoking behaviour'!P38","v":25.3},{"$f":"'Smoking behaviour'!Q38","v":15.337999999999999},{"$f":"'Smoking behaviour'!U38","v":14.988},{"$f":"'Smoking behaviour'!V38","v":22.614000000000001},{"$f":"'Smoking behaviour'!W38","v":20.97},{"$f":"'Smoking behaviour'!X38","v":12.516},{"$f":"'Smoking behaviour'!AB38","v":16.963000000000001},{"$f":"'Smoking behaviour'!AC38","v":14.619},{"$f":"'Smoking behaviour'!AD38","v":14.35},null,{"$f":"'Smoking behaviour'!AH38","v":20.399999999999999}]
[null,"Upper CI",{"$f":"'Smoking behaviour'!B39","v":28.027000000000001},{"$f":"'Smoking behaviour'!C39","v":19.95},{"$f":"'Smoking behaviour'!I39","v":23.061},{"$f":"'Smoking behaviour'!M39","v":20.53},{"$f":"'Smoking behaviour'!O39","v":24.97},{"$f":"'Smoking behaviour'!P39","v":30.86},{"$f":"'Smoking behaviour'!Q39","v":23.161999999999999},{"$f":"'Smoking behaviour'!U39","v":21.204000000000001},{"$f":"'Smoking behaviour'!V39","v":28.731999999999999},{"$f":"'Smoking behaviour'!W39","v":27.97},{"$f":"'Smoking behaviour'!X39","v":21.434000000000001},{"$f":"'Smoking behaviour'!AB39","v":25.347999999999999},{"$f":"'Smoking behaviour'!AC39","v":21.754000000000001},{"$f":"'Smoking behaviour'!AD39","v":21.68},null,{"$f":"'Smoking behaviour'!AH39","v":22.1}]
[]
["CLs","Never smoked, or ex-occasional",{"$f":"C36-C37","v":4.3079999999999998},{"$f":"D36-D37","v":3.3999999999999986},{"$f":"E36-E37","v":4.296999999999997},{"$f":"F36-F37","v":3.7800000000000011},{"$f":"G36-G37","v":2.529999999999994},{"$f":"H36-H37","v":3.0899999999999963},{"$f":"I36-I37","v":5.7449999999999974},3.5420000000000016,4.3019999999999996,4.5,5.7109999999999985,3.8840000000000003,3.9239999999999995,4.6600000000000037,null,{"$f":"R36-R37","v":1.0499999999999972}]
[null,"Ex-regular smoker, or occasional",{"$f":"C39-C40","v":2.4879999999999995},{"$f":"D39-D40","v":2.75},{"$f":"E39-E40","v":3.5990000000000002},{"$f":"F39-F40","v":2.8499999999999979},{"$f":"G39-G40","v":2.0700000000000003},{"$f":"H39-H40","v":2.0300000000000011},{"$f":"I39-I40","v":4.4699999999999989},3.4049999999999976,3.7320000000000029,3.7900000000000027,3.5259999999999998,4.958000000000002,3.1969999999999992,3.1799999999999997,null,{"$f":"R39-R40","v":0.78000000000000114}]
[null,"Regular smoker",{"$f":"C42-C43","v":3.7449999999999974},{"$f":"D42-D43","v":2.75},{"$f":"E42-E43","v":3.2839999999999989},{"$f":"F42-F43","v":2.9000000000000004},{"$f":"G42-G43","v":2.4400000000000013},{"$f":"H42-H43","v":2.7799999999999976},{"$f":"I42-I43","v":3.9120000000000008},3.1080000000000005,3.0589999999999975,3.5,4.4590000000000014,4.1929999999999978,3.5680000000000014,3.67,null,{"$f":"R42-R43","v":0.85000000000000142}]

{"sheet":"Overweight","index":16,"n_rows":32,"n_cols":34,"rows_kept":32,"cut":false,"hidden":false,"merged":[[4,0,5,0],[0,0,1,0],[3,1,3,11]]}
["Prevalence of overweight (including obesity), by Local Authority and sex",null,null,null,null,null,null,null,null,null,null,null,"INDEX"]
[]
[]
["Aged 16 and over","PLEASE NOTE: Where the sample size for a Local Authority was below 500, the result has been suppressed. This is shown here by *.",null,null,null,null,null,null,null,null,null,null,null,null,null,"2013/2014/2015/2016 combined"]
["Overweight (including obese)a","Local Authority"]
[null,"Aberdeen City","Aberdeenshire","Angus","Argyll & Bute","Clackmannanshire","Dumfries & Galloway","Dundee City","East Ayrshire","East Dunbartonshire","East Lothian","East Renfrewshire","Edinburgh, City of","Falkirk","Fife","Glasgow City","Highland","Inverclyde","Midlothian","Moray","Na h-Eileanan Siar","North Ayrshire","North Lanarkshire","Orkney Islands","Perth & Kinross","Renfrewshire","Scottish Borders","Shetland Islands","South Ayrshire","South Lanarkshire","Stirling","West Dunbartonshire","West Lothian","Scotland"]
[null,"%","%","%","%","%","%","%","%","%","%","%","%","%","%","%","%","%","%","%","%","%","%","%","%","%","%","%","%","%","%","%","%","%"]
["Men"]
["Overweight (including obese)a",65.61,72.489999999999995,"*","*","*","*","*",72.233999999999995,"*","*","*",58.34,"*",71.08,61.94,"*","*","*","*",73.215000000000003,73.248999999999995,77.63,"*","*","*","*","*",73.006,71.072999999999993,"*","*","*",68.55]
["Lower CI",59.834000000000003,68.33,"*","*","*","*","*",67.153000000000006,"*","*","*",53.43,"*",66.739999999999995,57.11,"*","*","*","*",66.917000000000002,68.394000000000005,72.14,"*","*","*","*","*",67.168000000000006,65.364000000000004,"*","*","*",67.099999999999994]
["Upper CI",71.385999999999996,76.650000000000006,"*","*","*","*","*",77.313999999999993,"*","*","*",63.25,"*",75.42,66.760000000000005,"*","*","*","*",79.513999999999996,78.103999999999999,83.12,"*","*","*","*","*",78.844999999999999,76.781999999999996,"*","*","*",70.010000000000005]
[]
["Women"]
["Overweight (including obese)a",56.4,61.25,"*","*","*","*","*",66.402000000000001,"*","*","*",48.15,"*",62.58,57.88,"*","*","*","*",69.605000000000004,71.006,67.819999999999993,"*","*","*","*","*",65.143000000000001,65.680999999999997,"*","*","*",61.3]
["Lower CI",50.878999999999998,56.4,"*","*","*","*","*",62.110999999999997,"*","*","*",43.12,"*",59.49,53.7,"*","*","*","*",63.030999999999999,65.882999999999996,62.65,"*","*","*","*","*",59.540999999999997,60.420999999999999,"*","*","*",59.97]
["Upper CI",61.921999999999997,66.09,"*","*","*","*","*",70.692999999999998,"*","*","*",53.18,"*",65.67,62.07,"*","*","*","*",76.179000000000002,76.128,72.98,"*","*","*","*","*",70.745000000000005,70.941999999999993,"*","*","*",62.63]
[]
["All Adults"]
["Overweight (including obese)a",60.85,66.75,"*","*","*","*","*",69.036000000000001,"*","*","*",53.61,"*",66.77,59.87,"*","*","*","*",71.465000000000003,72.045000000000002,72.540000000000006,"*","*","*","*","*",68.489999999999995,68.373000000000005,"*","*","*",64.87]
["Lower CI",56.447000000000003,63.49,"*","*","*","*","*",66.066000000000003,"*","*","*",50.03,"*",63.99,56.34,"*","*","*","*",66.376000000000005,68.213999999999999,68.5,"*","*","*","*","*",64.356999999999999,64.742999999999995,"*","*","*",63.8]
["Upper CI",65.253,70,"*","*","*","*","*",72.006,"*","*","*",57.19,"*",69.55,63.41,"*","*","*","*",76.555000000000007,75.876999999999995,76.58,"*","*","*","*","*",72.623000000000005,72.003,"*","*","*",65.930000000000007]
[]
["Bases (weighted):"]
["Men",332.17899999999997,410.42,157.904,147.08600000000001,64.628,215.131,230.489,170.88399999999999,187.458,160.02699999999999,120.423,778.9,218.51,519.45000000000005,856.61,304.17399999999998,107.877,97.537000000000006,148.37200000000001,36.587000000000003,194,484.43,36.195999999999998,190.804,223.32400000000001,166.21,34.381999999999998,134.029,483.41,133.714,119.76600000000001,269.03399999999999,7733.94]
["Women",355.33199999999999,428.61,177.29499999999999,135.29900000000001,65.518000000000001,225.44,247.74799999999999,207.46100000000001,173.57400000000001,160.80600000000001,136.22999999999999,674.46,204.55600000000001,535.52,886.56,308.19600000000003,121.46899999999999,124.265,174.423,34.420999999999999,224.614,522.26,33.32,233.25700000000001,191.60599999999999,189.21799999999999,30.702000000000002,180.852,484.976,138.316,126.14700000000001,260.48599999999999,7992.93]
["All Adults",687.51199999999994,839.03,335.2,282.38499999999999,130.14599999999999,440.572,478.23599999999999,378.34500000000003,361.03199999999998,320.83300000000003,256.65199999999999,1453.36,423.06700000000001,1054.96,1743.17,612.37,229.346,221.803,322.79399999999998,71.007999999999996,418.61399999999998,1006.69,69.516000000000005,424.06,414.93,355.428,65.082999999999998,314.88099999999997,968.38599999999997,272.029,245.91300000000001,529.52,15726.87]
["Bases (unweighted)"]
["Men",382,480,112,103,41,182,141,267,141,96,92,501,128,747,573,187,82,62,163,306,291,279,219,150,157,178,200,219,291,83,87,141,7081]
["Women",472,568,138,117,49,208,170,351,164,107,123,534,148,926,722,234,109,94,226,338,372,363,235,203,157,240,215,320,360,110,106,174,8653]
["All Adults",854,1048,250,220,90,390,311,618,305,203,215,1035,276,1673,1295,421,191,156,389,644,663,642,454,353,314,418,415,539,651,193,193,315,15734]
[]
["a BMI 25 or higher"]

{"sheet":"Overweight chart","index":17,"n_rows":40,"n_cols":18,"rows_kept":40,"cut":false,"hidden":false,"merged":[]}
[null,null,null,null,null,null,null,null,null,null,null,null,null,null,null,null,null,"INDEX"]
[]
[]
[]
[]
[]
[]
[]
[]
[]
[]
[]
[]
[]
[]
[]
[]
[]
[]
[]
[]
[]
[]
[]
[]
[]
[]
[]
[]
[]
[null,null,"Source: Scottish Health Survey"]
[null,null,"Overweight: BMI 25+"]
[]
[null,null,"Aberdeen City","Aberdeenshire","East Ayrshire","Edinburgh, City of","Fife","Glasgow City","Na h-Eileanan Siar","North Ayrshire","North Lanarkshire","South Ayrshire","South Lanarkshire",null,"Scotland"]
[null,"All Adults"]
[null,"Overweight (including obese)a",{"$f":"Overweight!B19","v":60.85},{"$f":"Overweight!C19","v":66.75},{"$f":"Overweight!I19","v":69.036000000000001},{"$f":"Overweight!M19","v":53.61},{"$f":"Overweight!O19","v":66.77},{"$f":"Overweight!P19","v":59.87},{"$f":"Overweight!U19","v":71.465000000000003},{"$f":"Overweight!V19","v":72.045000000000002},{"$f":"Overweight!W19","v":72.540000000000006},{"$f":"Overweight!AC19","v":68.489999999999995},{"$f":"Overweight!AD19","v":68.373000000000005},null,{"$f":"Overweight!AH19","v":64.87}]
[null,"Lower CI",{"$f":"Overweight!B20","v":56.447000000000003},{"$f":"Overweight!C20","v":63.49},{"$f":"Overweight!I20","v":66.066000000000003},{"$f":"Overweight!M20","v":50.03},{"$f":"Overweight!O20","v":63.99},{"$f":"Overweight!P20","v":56.34},{"$f":"Overweight!U20","v":66.376000000000005},{"$f":"Overweight!V20","v":68.213999999999999},{"$f":"Overweight!W20","v":68.5},{"$f":"Overweight!AC20","v":64.356999999999999},{"$f":"Overweight!AD20","v":64.742999999999995},null,{"$f":"Overweight!AH20","v":63.8}]
[null,"Upper CI",{"$f":"Overweight!B21","v":65.253},{"$f":"Overweight!C21","v":70},{"$f":"Overweight!I21","v":72.006},{"$f":"Overweight!M21","v":57.19},{"$f":"Overweight!O21","v":69.55},{"$f":"Overweight!P21","v":63.41},{"$f":"Overweight!U21","v":76.555000000000007},{"$f":"Overweight!V21","v":75.876999999999995},{"$f":"Overweight!W21","v":76.58},{"$f":"Overweight!AC21","v":72.623000000000005},{"$f":"Overweight!AD21","v":72.003},null,{"$f":"Overweight!AH21","v":65.930000000000007}]
[]
["CLs",null,{"$f":"C36-C37","v":4.4029999999999987},{"$f":"D36-D37","v":3.259999999999998},{"$f":"E36-E37","v":2.9699999999999989},{"$f":"F36-F37","v":3.5799999999999983},{"$f":"G36-G37","v":2.779999999999994},{"$f":"H36-H37","v":3.529999999999994},5.0889999999999986,3.8310000000000031,4.0400000000000063,4.1329999999999956,3.6300000000000097,null,{"$f":"O36-O37","v":1.0700000000000074}]

{"sheet":"Obesity","index":18,"n_rows":32,"n_cols":34,"rows_kept":32,"cut":false,"hidden":false,"merged":[[4,0,5,0],[0,0,1,0],[3,1,3,11]]}
["Prevalence of obesity by Local Authority and sex",null,null,null,null,null,null,null,null,null,null,null,null,"INDEX"]
[]
[]
["Aged 16 and over","PLEASE NOTE: Where the sample size for a Local Authority was below 500, the result has been suppressed. This is shown here by *.",null,null,null,null,null,null,null,null,null,null,null,null,null,"2013/2014/2015/2016 combined"]
["Obesitya","Local Authority"]
[null,"Aberdeen City","Aberdeenshire","Angus","Argyll & Bute","Clackmannanshire","Dumfries & Galloway","Dundee City","East Ayrshire","East Dunbartonshire","East Lothian","East Renfrewshire","Edinburgh, City of","Falkirk","Fife","Glasgow City","Highland","Inverclyde","Midlothian","Moray","Na h-Eileanan Siar","North Ayrshire","North Lanarkshire","Orkney Islands","Perth & Kinross","Renfrewshire","Scottish Borders","Shetland Islands","South Ayrshire","South Lanarkshire","Stirling","West Dunbartonshire","West Lothian","Scotland"]
[null,"%","%","%","%","%","%","%","%","%","%","%","%","%","%","%","%","%","%","%","%","%","%","%","%","%","%","%","%","%","%","%","%","%"]
["Men"]
["Obesea",24.123999999999999,28.37,"*","*","*","*","*",32.777999999999999,"*","*","*",18.53,"*",30.7,21.67,"*","*","*","*",28.954000000000001,31.030999999999999,33.1,"*","*","*","*","*",31.54,32.920999999999999,"*","*","*",27.15]
["Lower CI",19.452000000000002,24.56,"*","*","*","*","*",25.731000000000002,"*","*","*",14.27,"*",26.83,18.14,"*","*","*","*",22.76,25.489000000000001,26.92,"*","*","*","*","*",25.027000000000001,26.670999999999999,"*","*","*",25.91]
["Upper CI",28.795999999999999,32.17,"*","*","*","*","*",39.825000000000003,"*","*","*",22.78,"*",34.57,25.19,"*","*","*","*",35.148000000000003,36.573999999999998,39.270000000000003,"*","*","*","*","*",38.052999999999997,39.170999999999999,"*","*","*",28.4]
[]
["Women"]
["Obesea",24.986999999999998,29.66,"*","*","*","*","*",35.311999999999998,"*","*","*",18.21,"*",33.15,28.99,"*","*","*","*",39.119,41.284999999999997,34.35,"*","*","*","*","*",26.742999999999999,28.928000000000001,"*","*","*",29.44]
["Lower CI",21.1,25.53,"*","*","*","*","*",29.896999999999998,"*","*","*",14.77,"*",30.21,25.56,"*","*","*","*",33.137999999999998,36.113999999999997,28.33,"*","*","*","*","*",22.355,23.460999999999999,"*","*","*",28.31]
["Upper CI",28.875,33.79,"*","*","*","*","*",40.726999999999997,"*","*","*",21.64,"*",36.1,32.42,"*","*","*","*",45.098999999999997,46.456000000000003,40.36,"*","*","*","*","*",31.132000000000001,34.393999999999998,"*","*","*",30.57]
[]
["All Adults"]
["Obesea",24.57,29.03,"*","*","*","*","*",34.167999999999999,"*","*","*",18.38,"*",31.95,25.39,"*","*","*","*",33.881,36.533000000000001,33.75,"*","*","*","*","*",28.785,30.920999999999999,"*","*","*",28.32]
["Lower CI",21.207000000000001,25.93,"*","*","*","*","*",30.286000000000001,"*","*","*",15.3,"*",29.22,22.75,"*","*","*","*",29.402000000000001,32.284999999999997,29.69,"*","*","*","*","*",25.175000000000001,26.509,"*","*","*",27.43]
["Upper CI",27.934000000000001,32.119999999999997,"*","*","*","*","*",38.048999999999999,"*","*","*",21.45,"*",34.67,28.04,"*","*","*","*",38.36,40.780999999999999,37.799999999999997,"*","*","*","*","*",32.395000000000003,35.332999999999998,"*","*","*",29.2]
[]
["Bases (weighted):"]
["Men",332.17899999999997,410.42,157.904,147.08600000000001,64.628,215.131,230.489,170.88399999999999,187.458,160.02699999999999,120.423,778.9,218.51,519.45000000000005,856.61,304.17399999999998,107.877,97.537000000000006,148.37200000000001,36.587000000000003,194,484.43,36.195999999999998,190.804,223.32400000000001,166.21,34.381999999999998,134.029,483.41,133.714,119.76600000000001,269.03399999999999,7733.94]
["Women",355.33199999999999,428.61,177.29499999999999,135.29900000000001,65.518000000000001,225.44,247.74799999999999,207.46100000000001,173.57400000000001,160.80600000000001,136.22999999999999,674.46,204.55600000000001,535.52,886.56,308.19600000000003,121.46899999999999,124.265,174.423,34.420999999999999,224.614,522.26,33.32,233.25700000000001,191.60599999999999,189.21799999999999,30.702000000000002,180.852,484.976,138.316,126.14700000000001,260.48599999999999,7992.93]
["All Adults",687.51199999999994,839.03,335.2,282.38499999999999,130.14599999999999,440.572,478.23599999999999,378.34500000000003,361.03199999999998,320.83300000000003,256.65199999999999,1453.36,423.06700000000001,1054.96,1743.17,612.37,229.346,221.803,322.79399999999998,71.007999999999996,418.61399999999998,1006.69,69.516000000000005,424.06,414.93,355.428,65.082999999999998,314.88099999999997,968.38599999999997,272.029,245.91300000000001,529.52,15726.87]
["Bases (unweighted)"]
["Men",382,480,112,103,41,182,141,267,141,96,92,501,128,747,573,187,82,62,163,306,291,279,219,150,157,178,200,219,291,83,87,141,7081]
["Women",472,568,138,117,49,208,170,351,164,107,123,534,148,926,722,234,109,94,226,338,372,363,235,203,157,240,215,320,360,110,106,174,8653]
["All Adults",854,1048,250,220,90,390,311,618,305,203,215,1035,276,1673,1295,421,191,156,389,644,663,642,454,353,314,418,415,539,651,193,193,315,15734]
[]
["a BMI 30 or higher"]

{"sheet":"Obesity chart","index":19,"n_rows":40,"n_cols":18,"rows_kept":40,"cut":false,"hidden":false,"merged":[]}
[null,null,null,null,null,null,null,null,null,null,null,null,null,null,null,null,null,"INDEX"]
[]
[]
[]
[]
[]
[]
[]
[]
[]
[]
[]
[]
[]
[]
[]
[]
[]
[]
[]
[]
[]
[]
[]
[]
[]
[]
[]
[]
[]
[null,null,"Source: Scottish Health Survey"]
[null,null,"Obese: BMI 30+"]
[]
[null,null,"Aberdeen City","Aberdeenshire","East Ayrshire","Edinburgh, City of","Fife","Glasgow City","Na h-Eileanan Siar","North Ayrshire","North Lanarkshire","South Ayrshire","South Lanarkshire",null,"Scotland"]
[null,"All Adults"]
[null,"Obesea",{"$f":"Obesity!B19","v":24.57},{"$f":"Obesity!C19","v":29.03},{"$f":"Obesity!I19","v":34.167999999999999},{"$f":"Obesity!M19","v":18.38},{"$f":"Obesity!O19","v":31.95},{"$f":"Obesity!P19","v":25.39},{"$f":"Obesity!U19","v":33.881},{"$f":"Obesity!V19","v":36.533000000000001},{"$f":"Obesity!W19","v":33.75},{"$f":"Obesity!AC19","v":28.785},{"$f":"Obesity!AD19","v":30.920999999999999},null,{"$f":"Obesity!AH19","v":28.32}]
[null,"Lower CI",{"$f":"Obesity!B20","v":21.207000000000001},{"$f":"Obesity!C20","v":25.93},{"$f":"Obesity!I20","v":30.286000000000001},{"$f":"Obesity!M20","v":15.3},{"$f":"Obesity!O20","v":29.22},{"$f":"Obesity!P20","v":22.75},{"$f":"Obesity!U20","v":29.402000000000001},{"$f":"Obesity!V20","v":32.284999999999997},{"$f":"Obesity!W20","v":29.69},{"$f":"Obesity!AC20","v":25.175000000000001},{"$f":"Obesity!AD20","v":26.509},null,{"$f":"Obesity!AH20","v":27.43}]
[null,"Upper CI",{"$f":"Obesity!B21","v":27.934000000000001},{"$f":"Obesity!C21","v":32.119999999999997},{"$f":"Obesity!I21","v":38.048999999999999},{"$f":"Obesity!M21","v":21.45},{"$f":"Obesity!O21","v":34.67},{"$f":"Obesity!P21","v":28.04},{"$f":"Obesity!U21","v":38.36},{"$f":"Obesity!V21","v":40.780999999999999},{"$f":"Obesity!W21","v":37.799999999999997},{"$f":"Obesity!AC21","v":32.395000000000003},{"$f":"Obesity!AD21","v":35.332999999999998},null,{"$f":"Obesity!AH21","v":29.2}]
[]
["CLs",null,{"$f":"C36-C37","v":3.3629999999999995},{"$f":"D36-D37","v":3.1000000000000014},{"$f":"E36-E37","v":3.8819999999999979},{"$f":"F36-F37","v":3.0799999999999983},{"$f":"G36-G37","v":2.7300000000000004},{"$f":"H36-H37","v":2.6400000000000006},4.4789999999999992,4.2480000000000047,4.0599999999999987,3.6099999999999994,4.411999999999999,null,{"$f":"O36-O37","v":0.89000000000000057}]

{"sheet":"Fruit and vegetables","index":20,"n_rows":49,"n_cols":34,"rows_kept":49,"cut":false,"hidden":false,"merged":[[4,0,5,0],[0,0,1,0],[3,1,3,11]]}
["Daily fruit and vegetable consumption, three categories, by Local Authority and sex",null,null,null,null,null,null,null,null,null,null,null,"INDEX"]
[]
[]
["Aged 16 and over","PLEASE NOTE: Where the sample size for a Local Authority was below 500, the result has been suppressed. This is shown here by *.",null,null,null,null,null,null,null,null,null,null,null,null,null,"2013/2014/2015/2016 combined"]
["Daily fruit and vegatable consumption, three categories","Local Authority"]
[null,"Aberdeen City","Aberdeenshire","Angus","Argyll & Bute","Clackmannanshire","Dumfries & Galloway","Dundee City","East Ayrshire","East Dunbartonshire","East Lothian","East Renfrewshire","Edinburgh, City of","Falkirk","Fife","Glasgow City","Highland","Inverclyde","Midlothian","Moray","Na h-Eileanan Siar","North Ayrshire","North Lanarkshire","Orkney Islands","Perth & Kinross","Renfrewshire","Scottish Borders","Shetland Islands","South Ayrshire","South Lanarkshire","Stirling","West Dunbartonshire","West Lothian","Scotland"]
[null,"%","%","%","%","%","%","%","%","%","%","%","%","%","%","%","%","%","%","%","%","%","%","%","%","%","%","%","%","%","%","%","%","%"]
["Men"]
["None",8.68,10.07,"*","*","*","*","*",16.395,"*","*","*",8.0299999999999994,"*",11.42,14.42,12.946999999999999,"*","*","*",9.9420000000000002,19.457000000000001,15.86,10.47,"*","*","*",11.811,8.6319999999999997,11.69,"*","*","*",12.47]
["Lower CI",5.99,6.88,"*","*","*","*","*",12.363,"*","*","*",5.8,"*",9.1300000000000008,11.02,8.2880000000000003,"*","*","*",6.2750000000000004,14.881,11.07,5.79,"*","*","*",7.133,4.7619999999999996,7.22,"*","*","*",11.52]
["Upper CI",11.37,13.26,"*","*","*","*","*",20.428000000000001,"*","*","*",10.25,"*",13.72,17.829999999999998,17.606000000000002,"*","*","*",13.608000000000001,24.033000000000001,20.66,15.15,"*","*","*",16.488,12.502000000000001,16.170000000000002,"*","*","*",13.41]
["Less than 5 portions",72.844999999999999,71.12,"*","*","*","*","*",69.183000000000007,"*","*","*",64.540000000000006,"*",68.84,67.73,69.603999999999999,"*","*","*",67.814999999999998,66.644000000000005,66.209999999999994,72.122,"*","*","*",69.451999999999998,73.39,67.989999999999995,"*","*","*",67.739999999999995]
["Lower CI",68.415999999999997,66.59,"*","*","*","*","*",63.917000000000002,"*","*","*",60.1,"*",65.599999999999994,63.83,63.38,"*","*","*",62.383000000000003,61.74,59.68,65.790000000000006,"*","*","*",63.054000000000002,68.343000000000004,61.98,"*","*","*",66.459999999999994]
["Upper CI",77.272999999999996,75.650000000000006,"*","*","*","*","*",74.45,"*","*","*",68.98,"*",72.08,71.63,75.828000000000003,"*","*","*",73.248000000000005,71.548000000000002,72.75,78.453999999999994,"*","*","*",75.849000000000004,78.436999999999998,74,"*","*","*",69.02]
["5 portions or more",18.475999999999999,18.809999999999999,"*","*","*","*","*",14.422000000000001,"*","*","*",27.44,"*",19.739999999999998,17.850000000000001,17.449000000000002,"*","*","*",22.242999999999999,13.898999999999999,17.920000000000002,17.408000000000001,"*","*","*",18.738,17.978000000000002,20.32,"*","*","*",19.79]
["Lower CI",14.619,15.19,"*","*","*","*","*",9.8390000000000004,"*","*","*",23.23,"*",16.79,14.35,12.346,"*","*","*",17.337,9.968,12.83,11.849,"*","*","*",11.821,13.117000000000001,15.38,"*","*","*",18.7]
["Upper CI",22.332000000000001,22.44,"*","*","*","*","*",19.004000000000001,"*","*","*",31.65,"*",22.68,21.34,22.553000000000001,"*","*","*",27.149000000000001,17.831,23.02,22.968,"*","*","*",25.655000000000001,22.84,25.26,"*","*","*",20.89]
[]
["Women"]
["None",5.5960000000000001,8.4499999999999993,"*","*","*","*","*",12.021000000000001,"*","*","*",4.67,"*",7.82,10.48,8.2330000000000005,"*","*","*",6.3860000000000001,11.817,13.29,7.1749999999999998,"*","*","*",6.7359999999999998,8.4830000000000005,8.7200000000000006,"*","*","*",8.73]
["Lower CI",3.4590000000000001,5.7,"*","*","*","*","*",9.1509999999999998,"*","*","*",3.12,"*",6.12,8.0299999999999994,5.14,"*","*","*",4,8.0359999999999996,10.18,5.1390000000000002,"*","*","*",3.746,5.9450000000000003,4.5999999999999996,"*","*","*",7.99]
["Upper CI",7.7329999999999997,11.2,"*","*","*","*","*",14.891,"*","*","*",6.23,"*",9.52,12.93,11.327,"*","*","*",8.7710000000000008,15.598000000000001,16.39,9.2110000000000003,"*","*","*",9.7270000000000003,11.021000000000001,12.83,"*","*","*",9.4600000000000009]
["Less than 5 portions",70.510999999999996,71.44,"*","*","*","*","*",72.28,"*","*","*",65.349999999999994,"*",67.349999999999994,68.61,72.024000000000001,"*","*","*",71.891999999999996,74.909000000000006,72.84,70.602999999999994,"*","*","*",70.950999999999993,74.975999999999999,71.67,"*","*","*",69.650000000000006]
["Lower CI",65.798000000000002,67.959999999999994,"*","*","*","*","*",67.555000000000007,"*","*","*",61.02,"*",64.31,65.290000000000006,66.614000000000004,"*","*","*",66.061000000000007,70.293999999999997,68.400000000000006,64.751999999999995,"*","*","*",65.88,70.503,67.290000000000006,"*","*","*",68.59]
["Upper CI",75.222999999999999,74.91,"*","*","*","*","*",77.004000000000005,"*","*","*",69.69,"*",70.400000000000006,71.92,77.433999999999997,"*","*","*",77.724000000000004,79.522999999999996,77.290000000000006,76.453999999999994,"*","*","*",76.022000000000006,79.448999999999998,76.05,"*","*","*",70.72]
["5 portions or more",23.893999999999998,20.12,"*","*","*","*","*",15.7,"*","*","*",29.97,"*",24.82,20.92,19.742999999999999,"*","*","*",21.722000000000001,13.273999999999999,13.87,22.222000000000001,"*","*","*",22.312999999999999,16.541,19.62,"*","*","*",21.62]
["Lower CI",19.439,16.309999999999999,"*","*","*","*","*",11.496,"*","*","*",25.79,"*",21.95,17.809999999999999,14.954000000000001,"*","*","*",15.843999999999999,9.8040000000000003,10.38,17.082000000000001,"*","*","*",17.260000000000002,12.704000000000001,15.85,"*","*","*",20.6]
["Upper CI",28.347999999999999,23.92,"*","*","*","*","*",19.902999999999999,"*","*","*",34.159999999999997,"*",27.7,24.02,24.532,"*","*","*",27.600999999999999,16.744,17.36,27.361999999999998,"*","*","*",27.364999999999998,20.378,23.38,"*","*","*",22.64]
[]
["All Adults"]
["None",7.0570000000000004,9.23,"*","*","*","*","*",14.004,"*","*","*",6.41,"*",9.56,12.34,10.433999999999999,"*","*","*",8.1620000000000008,15.446999999999999,14.48,8.8170000000000002,"*","*","*",9.3529999999999998,8.5500000000000007,10.16,"*","*","*",10.52]
["Lower CI",5.22,6.8,"*","*","*","*","*",11.516999999999999,"*","*","*",4.97,"*",7.96,9.91,7.8159999999999998,"*","*","*",5.9130000000000003,11.991,11.45,6.2370000000000001,"*","*","*",6.2569999999999997,6.149,6.53,"*","*","*",9.86]
["Upper CI",8.8930000000000007,11.67,"*","*","*","*","*",16.489999999999998,"*","*","*",7.85,"*",11.16,14.77,13.051,"*","*","*",10.412000000000001,18.902999999999999,17.52,11.398,"*","*","*",12.45,10.951000000000001,13.79,"*","*","*",11.19]
["Less than 5 portions",71.616,71.28,"*","*","*","*","*",70.876000000000005,"*","*","*",64.930000000000007,"*",68.069999999999993,68.19,70.894000000000005,"*","*","*",69.855000000000004,70.980999999999995,69.760000000000005,71.36,"*","*","*",70.177999999999997,74.263000000000005,69.88,"*","*","*",68.73]
["Lower CI",68.167000000000002,68.290000000000006,"*","*","*","*","*",66.766000000000005,"*","*","*",61.5,"*",65.680000000000007,65.31,66.626000000000005,"*","*","*",65.605000000000004,67.096999999999994,65.58,67.343999999999994,"*","*","*",66.168999999999997,69.915999999999997,65.930000000000007,"*","*","*",67.84]
["Upper CI",75.064999999999998,74.28,"*","*","*","*","*",74.986000000000004,"*","*","*",68.36,"*",70.459999999999994,71.069999999999993,75.162000000000006,"*","*","*",74.105000000000004,74.866,73.94,75.376000000000005,"*","*","*",74.186999999999998,78.61,73.83,"*","*","*",69.63]
["5 portions or more",21.327000000000002,19.489999999999998,"*","*","*","*","*",15.12,"*","*","*",28.66,"*",22.37,19.47,18.672000000000001,"*","*","*",21.981999999999999,13.571,15.76,19.823,"*","*","*",20.469000000000001,17.187000000000001,19.96,"*","*","*",20.74]
["Lower CI",18.492999999999999,16.55,"*","*","*","*","*",11.48,"*","*","*",25.3,"*",20.21,16.88,14.901,"*","*","*",17.515999999999998,10.632,12.5,15.762,"*","*","*",15.715,13.445,16.88,"*","*","*",19.920000000000002]
["Upper CI",24.161000000000001,22.42,"*","*","*","*","*",18.760999999999999,"*","*","*",32.020000000000003,"*",24.53,22.05,22.443999999999999,"*","*","*",26.449000000000002,16.510000000000002,19.010000000000002,23.884,"*","*","*",25.222999999999999,20.928999999999998,23.04,"*","*","*",21.57]
[]
[]
["Bases (weighted):"]
["Men",364.43299999999999,441.16,192.61,165.798,76.662999999999997,262.10599999999999,260.44299999999998,202.578,196.393,177.209,143.898,913.59,265.39,618.84,968.27,375.65699999999998,129.29900000000001,111.71299999999999,172.20599999999999,48.445999999999998,228.68799999999999,609.26,38.805,225.547,262.11,183.85599999999999,41.939,174.858,584.15,155.99299999999999,134.17699999999999,327.80200000000002,9053.8799999999992]
["Women",404.93,470,214.28,157.80199999999999,87.908000000000001,275.46600000000001,283.56700000000001,244.375,190.55699999999999,197.648,160.61099999999999,850.16,271.755,663.33,1084.0899999999999,429.05200000000002,145.267,137.36699999999999,204.39400000000001,48.518000000000001,252.57300000000001,700.46,39.048000000000002,273.34899999999999,257.548,222.27600000000001,39.383000000000003,213.92099999999999,617.70000000000005,192.86,159.316,311.15800000000002,9800.67]
["All Adults",769.36199999999997,911.16,406.89,323.60000000000002,164.571,537.572,544.01,446.95299999999997,386.95,374.85599999999999,304.50900000000001,1763.75,537.14599999999996,1282.17,2052.35,804.70799999999997,274.56599999999997,249.08099999999999,376.6,96.963999999999999,481.26100000000002,1309.72,77.852999999999994,498.89600000000002,519.65800000000002,406.13299999999998,81.322000000000003,388.779,1201.8499999999999,348.85300000000001,293.49299999999999,638.96,18854.55]
["Bases (unweighted)"]
["Men",426,516,134,116,48,221,159,318,150,104,114,589,159,902,656,239,98,71,191,387,344,343,234,178,186,199,247,286,356,100,98,171,8340]
["Women",541,624,163,136,66,258,193,414,179,128,145,662,196,1142,895,327,128,103,264,461,418,476,271,234,212,278,277,377,458,149,133,212,10520]
["All Adults",967,1140,297,252,114,479,352,732,329,232,259,1251,355,2044,1551,566,226,174,455,848,762,819,505,412,398,477,524,663,814,249,231,383,18860]

{"sheet":"Fruit and veg chart","index":21,"n_rows":48,"n_cols":18,"rows_kept":48,"cut":false,"hidden":false,"merged":[[31,2,32,14]]}
[null,null,null,null,null,null,null,null,null,null,null,null,null,null,null,null,null,"INDEX"]
[]
[]
[]
[]
[]
[]
[]
[]
[]
[]
[]
[]
[]
[]
[]
[]
[]
[]
[]
[]
[]
[]
[]
[]
[]
[]
[]
[]
[]
[null,null,"Source: Scottish Health Survey"]
[]
[]
[null,null,"Aberdeen City","Aberdeenshire","East Ayrshire","Edinburgh, City of","Fife","Glasgow City","Highland","Na h-Eileanan Siar","North Ayrshire","North Lanarkshire","Orkney Islands","Shetland Islands","South Ayrshire","South Lanarkshire",null,"Scotland"]
[null,"All Adults"]
[null,"None",{"$f":"'Fruit and vegetables'!B31","v":7.0570000000000004},{"$f":"'Fruit and vegetables'!C31","v":9.23},{"$f":"'Fruit and vegetables'!I31","v":14.004},{"$f":"'Fruit and vegetables'!M31","v":6.41},{"$f":"'Fruit and vegetables'!O31","v":9.56},{"$f":"'Fruit and vegetables'!P31","v":12.34},{"$f":"'Fruit and vegetables'!Q31","v":10.433999999999999},{"$f":"'Fruit and vegetables'!U31","v":8.1620000000000008},{"$f":"'Fruit and vegetables'!V31","v":15.446999999999999},{"$f":"'Fruit and vegetables'!W31","v":14.48},{"$f":"'Fruit and vegetables'!X31","v":8.8170000000000002},{"$f":"'Fruit and vegetables'!AB31","v":9.3529999999999998},{"$f":"'Fruit and vegetables'!AC31","v":8.5500000000000007},{"$f":"'Fruit and vegetables'!AD31","v":10.16},null,{"$f":"'Fruit and vegetables'!AH31","v":10.52}]
[null,"Lower CI",{"$f":"'Fruit and vegetables'!B32","v":5.22},{"$f":"'Fruit and vegetables'!C32","v":6.8},{"$f":"'Fruit and vegetables'!I32","v":11.516999999999999},{"$f":"'Fruit and vegetables'!M32","v":4.97},{"$f":"'Fruit and vegetables'!O32","v":7.96},{"$f":"'Fruit and vegetables'!P32","v":9.91},{"$f":"'Fruit and vegetables'!Q32","v":7.8159999999999998},{"$f":"'Fruit and vegetables'!U32","v":5.9130000000000003},{"$f":"'Fruit and vegetables'!V32","v":11.991},{"$f":"'Fruit and vegetables'!W32","v":11.45},{"$f":"'Fruit and vegetables'!X32","v":6.2370000000000001},{"$f":"'Fruit and vegetables'!AB32","v":6.2569999999999997},{"$f":"'Fruit and vegetables'!AC32","v":6.149},{"$f":"'Fruit and vegetables'!AD32","v":6.53},null,{"$f":"'Fruit and vegetables'!AH32","v":9.86}]
[null,"Upper CI",{"$f":"'Fruit and vegetables'!B33","v":8.8930000000000007},{"$f":"'Fruit and vegetables'!C33","v":11.67},{"$f":"'Fruit and vegetables'!I33","v":16.489999999999998},{"$f":"'Fruit and vegetables'!M33","v":7.85},{"$f":"'Fruit and vegetables'!O33","v":11.16},{"$f":"'Fruit and vegetables'!P33","v":14.77},{"$f":"'Fruit and vegetables'!Q33","v":13.051},{"$f":"'Fruit and vegetables'!U33","v":10.412000000000001},{"$f":"'Fruit and vegetables'!V33","v":18.902999999999999},{"$f":"'Fruit and vegetables'!W33","v":17.52},{"$f":"'Fruit and vegetables'!X33","v":11.398},{"$f":"'Fruit and vegetables'!AB33","v":12.45},{"$f":"'Fruit and vegetables'!AC33","v":10.951000000000001},{"$f":"'Fruit and vegetables'!AD33","v":13.79},null,{"$f":"'Fruit and vegetables'!AH33","v":11.19}]
[null,"Less than 5 portions",{"$f":"'Fruit and vegetables'!B34","v":71.616},{"$f":"'Fruit and vegetables'!C34","v":71.28},{"$f":"'Fruit and vegetables'!I34","v":70.876000000000005},{"$f":"'Fruit and vegetables'!M34","v":64.930000000000007},{"$f":"'Fruit and vegetables'!O34","v":68.069999999999993},{"$f":"'Fruit and vegetables'!P34","v":68.19},{"$f":"'Fruit and vegetables'!Q34","v":70.894000000000005},{"$f":"'Fruit and vegetables'!U34","v":69.855000000000004},{"$f":"'Fruit and vegetables'!V34","v":70.980999999999995},{"$f":"'Fruit and vegetables'!W34","v":69.760000000000005},{"$f":"'Fruit and vegetables'!X34","v":71.36},{"$f":"'Fruit and vegetables'!AB34","v":70.177999999999997},{"$f":"'Fruit and vegetables'!AC34","v":74.263000000000005},{"$f":"'Fruit and vegetables'!AD34","v":69.88},null,{"$f":"'Fruit and vegetables'!AH34","v":68.73}]
[null,"Lower CI",{"$f":"'Fruit and vegetables'!B35","v":68.167000000000002},{"$f":"'Fruit and vegetables'!C35","v":68.290000000000006},{"$f":"'Fruit and vegetables'!I35","v":66.766000000000005},{"$f":"'Fruit and vegetables'!M35","v":61.5},{"$f":"'Fruit and vegetables'!O35","v":65.680000000000007},{"$f":"'Fruit and vegetables'!P35","v":65.31},{"$f":"'Fruit and vegetables'!Q35","v":66.626000000000005},{"$f":"'Fruit and vegetables'!U35","v":65.605000000000004},{"$f":"'Fruit and vegetables'!V35","v":67.096999999999994},{"$f":"'Fruit and vegetables'!W35","v":65.58},{"$f":"'Fruit and vegetables'!X35","v":67.343999999999994},{"$f":"'Fruit and vegetables'!AB35","v":66.168999999999997},{"$f":"'Fruit and vegetables'!AC35","v":69.915999999999997},{"$f":"'Fruit and vegetables'!AD35","v":65.930000000000007},null,{"$f":"'Fruit and vegetables'!AH35","v":67.84}]
[null,"Upper CI",{"$f":"'Fruit and vegetables'!B36","v":75.064999999999998},{"$f":"'Fruit and vegetables'!C36","v":74.28},{"$f":"'Fruit and vegetables'!I36","v":74.986000000000004},{"$f":"'Fruit and vegetables'!M36","v":68.36},{"$f":"'Fruit and vegetables'!O36","v":70.459999999999994},{"$f":"'Fruit and vegetables'!P36","v":71.069999999999993},{"$f":"'Fruit and vegetables'!Q36","v":75.162000000000006},{"$f":"'Fruit and vegetables'!U36","v":74.105000000000004},{"$f":"'Fruit and vegetables'!V36","v":74.866},{"$f":"'Fruit and vegetables'!W36","v":73.94},{"$f":"'Fruit and vegetables'!X36","v":75.376000000000005},{"$f":"'Fruit and vegetables'!AB36","v":74.186999999999998},{"$f":"'Fruit and vegetables'!AC36","v":78.61},{"$f":"'Fruit and vegetables'!AD36","v":73.83},null,{"$f":"'Fruit and vegetables'!AH36","v":69.63}]
[null,"5 portions or more",{"$f":"'Fruit and vegetables'!B37","v":21.327000000000002},{"$f":"'Fruit and vegetables'!C37","v":19.489999999999998},{"$f":"'Fruit and vegetables'!I37","v":15.12},{"$f":"'Fruit and vegetables'!M37","v":28.66},{"$f":"'Fruit and vegetables'!O37","v":22.37},{"$f":"'Fruit and vegetables'!P37","v":19.47},{"$f":"'Fruit and vegetables'!Q37","v":18.672000000000001},{"$f":"'Fruit and vegetables'!U37","v":21.981999999999999},{"$f":"'Fruit and vegetables'!V37","v":13.571},{"$f":"'Fruit and vegetables'!W37","v":15.76},{"$f":"'Fruit and vegetables'!X37","v":19.823},{"$f":"'Fruit and vegetables'!AB37","v":20.469000000000001},{"$f":"'Fruit and vegetables'!AC37","v":17.187000000000001},{"$f":"'Fruit and vegetables'!AD37","v":19.96},null,{"$f":"'Fruit and vegetables'!AH37","v":20.74}]
[null,"Lower CI",{"$f":"'Fruit and vegetables'!B38","v":18.492999999999999},{"$f":"'Fruit and vegetables'!C38","v":16.55},{"$f":"'Fruit and vegetables'!I38","v":11.48},{"$f":"'Fruit and vegetables'!M38","v":25.3},{"$f":"'Fruit and vegetables'!O38","v":20.21},{"$f":"'Fruit and vegetables'!P38","v":16.88},{"$f":"'Fruit and vegetables'!Q38","v":14.901},{"$f":"'Fruit and vegetables'!U38","v":17.515999999999998},{"$f":"'Fruit and vegetables'!V38","v":10.632},{"$f":"'Fruit and vegetables'!W38","v":12.5},{"$f":"'Fruit and vegetables'!X38","v":15.762},{"$f":"'Fruit and vegetables'!AB38","v":15.715},{"$f":"'Fruit and vegetables'!AC38","v":13.445},{"$f":"'Fruit and vegetables'!AD38","v":16.88},null,{"$f":"'Fruit and vegetables'!AH38","v":19.920000000000002}]
[null,"Upper CI",{"$f":"'Fruit and vegetables'!B39","v":24.161000000000001},{"$f":"'Fruit and vegetables'!C39","v":22.42},{"$f":"'Fruit and vegetables'!I39","v":18.760999999999999},{"$f":"'Fruit and vegetables'!M39","v":32.020000000000003},{"$f":"'Fruit and vegetables'!O39","v":24.53},{"$f":"'Fruit and vegetables'!P39","v":22.05},{"$f":"'Fruit and vegetables'!Q39","v":22.443999999999999},{"$f":"'Fruit and vegetables'!U39","v":26.449000000000002},{"$f":"'Fruit and vegetables'!V39","v":16.510000000000002},{"$f":"'Fruit and vegetables'!W39","v":19.010000000000002},{"$f":"'Fruit and vegetables'!X39","v":23.884},{"$f":"'Fruit and vegetables'!AB39","v":25.222999999999999},{"$f":"'Fruit and vegetables'!AC39","v":20.928999999999998},{"$f":"'Fruit and vegetables'!AD39","v":23.04},null,{"$f":"'Fruit and vegetables'!AH39","v":21.57}]
[]
["CLs","None",{"$f":"C36-C37","v":1.8370000000000006},{"$f":"D36-D37","v":2.4300000000000006},{"$f":"E36-E37","v":2.4870000000000001},{"$f":"F36-F37","v":1.4400000000000004},{"$f":"G36-G37","v":1.6000000000000005},{"$f":"H36-H37","v":2.4299999999999997},2.6179999999999994,2.2490000000000006,3.4559999999999995,3.0300000000000011,2.58,3.0960000000000001,2.4010000000000007,3.63,null,{"$f":"R36-R37","v":0.66000000000000014}]
[null,"Less than 5 portions",{"$f":"C39-C40","v":3.4489999999999981},{"$f":"D39-D40","v":2.9899999999999949},{"$f":"E39-E40","v":4.1099999999999994},{"$f":"F39-F40","v":3.4300000000000068},{"$f":"G39-G40","v":2.3899999999999864},{"$f":"H39-H40","v":2.8799999999999955},4.2680000000000007,4.25,3.8840000000000003,4.1800000000000068,4.0160000000000053,4.0090000000000003,4.3470000000000084,3.9499999999999886,null,{"$f":"R39-R40","v":0.89000000000000057}]
[null,"5 portions or more",{"$f":"C42-C43","v":2.8340000000000032},{"$f":"D42-D43","v":2.9399999999999977},{"$f":"E42-E43","v":3.6399999999999988},{"$f":"F42-F43","v":3.3599999999999994},{"$f":"G42-G43","v":2.16},{"$f":"H42-H43","v":2.59},3.7710000000000008,4.4660000000000011,2.9390000000000001,3.26,4.0609999999999999,4.7540000000000013,3.7420000000000009,3.0800000000000018,null,{"$f":"R42-R43","v":0.81999999999999673}]

{"sheet":"Mean fruit and vegetables","index":22,"n_rows":29,"n_cols":34,"rows_kept":29,"cut":false,"hidden":false,"merged":[[4,0,5,0],[0,0,1,0],[3,1,3,11]]}
["Mean daily portions of fruit and vegetables, by Local Authority and sex",null,null,null,null,null,null,null,null,null,null,null,"INDEX"]
[]
[]
["Aged 16 and over","PLEASE NOTE: Where the sample size for a Local Authority was below 500, the result has been suppressed. This is shown here by *.",null,null,null,null,null,null,null,null,null,null,null,null,null,"2013/2014/2015/2016 combined"]
["Mean daily portions of fruit and vegetables","Local Authority"]
[null,"Aberdeen City","Aberdeenshire","Angus","Argyll & Bute","Clackmannanshire","Dumfries & Galloway","Dundee City","East Ayrshire","East Dunbartonshire","East Lothian","East Renfrewshire","Edinburgh, City of","Falkirk","Fife","Glasgow City","Highland","Inverclyde","Midlothian","Moray","Na h-Eileanan Siar","North Ayrshire","North Lanarkshire","Orkney Islands","Perth & Kinross","Renfrewshire","Scottish Borders","Shetland Islands","South Ayrshire","South Lanarkshire","Stirling","West Dunbartonshire","West Lothian","Scotland"]
["Men"]
["Mean",3.1560000000000001,3.07,"*","*","*","*","*",2.6179999999999999,"*","*","*",3.65,"*",3.05,2.83,3.0539999999999998,"*","*","*",3.22,2.4990000000000001,2.69,2.9649999999999999,"*","*","*",2.8860000000000001,2.9390000000000001,3,"*","*","*",3.01]
["Lower CI",2.887,2.84,"*","*","*","*","*",2.3130000000000002,"*","*","*",3.38,"*",2.86,2.61,2.6989999999999998,"*","*","*",2.94,2.214,2.36,2.6179999999999999,"*","*","*",2.5489999999999999,2.6549999999999998,2.74,"*","*","*",2.94]
["Upper CI",3.4239999999999999,3.31,"*","*","*","*","*",2.9220000000000002,"*","*","*",3.93,"*",3.25,3.06,3.4079999999999999,"*","*","*",3.4990000000000001,2.7839999999999998,3.03,3.3119999999999998,"*","*","*",3.2229999999999999,3.2229999999999999,3.27,"*","*","*",3.08]
[]
["Women"]
["Mean",3.4689999999999999,3.14,"*","*","*","*","*",2.8340000000000001,"*","*","*",3.87,"*",3.48,3.11,3.2160000000000002,"*","*","*",3.4860000000000002,2.5790000000000002,2.76,3.4,"*","*","*",3.47,2.99,3.21,"*","*","*",3.26]
["Lower CI",3.1850000000000001,2.91,"*","*","*","*","*",2.5510000000000002,"*","*","*",3.63,"*",3.3,2.9,2.976,"*","*","*",3.1190000000000002,2.351,2.5,3.1309999999999998,"*","*","*",3.0920000000000001,2.69,2.9,"*","*","*",3.2]
["Upper CI",3.754,3.37,"*","*","*","*","*",3.117,"*","*","*",4.12,"*",3.66,3.33,3.456,"*","*","*",3.8519999999999999,2.806,3.02,3.669,"*","*","*",3.8490000000000002,3.2890000000000001,3.51,"*","*","*",3.33]
[]
["All adults"]
["Mean",3.3210000000000002,3.11,"*","*","*","*","*",2.7360000000000002,"*","*","*",3.76,"*",3.27,2.98,3.14,"*","*","*",3.3530000000000002,2.5409999999999999,2.73,3.1829999999999998,"*","*","*",3.169,2.9670000000000001,3.11,"*","*","*",3.14]
["Lower CI",3.1230000000000002,2.91,"*","*","*","*","*",2.4740000000000002,"*","*","*",3.54,"*",3.12,2.81,2.911,"*","*","*",3.077,2.3199999999999998,2.5,2.9420000000000002,"*","*","*",2.871,2.7090000000000001,2.89,"*","*","*",3.09]
["Upper CI",3.5179999999999998,3.3,"*","*","*","*","*",2.9969999999999999,"*","*","*",3.98,"*",3.43,3.16,3.3690000000000002,"*","*","*",3.629,2.762,2.96,3.4249999999999998,"*","*","*",3.4670000000000001,3.2250000000000001,3.33,"*","*","*",3.2]
[]
["Bases (weighted):"]
["Men",364.43299999999999,441.16,192.61,165.798,76.662999999999997,262.10599999999999,260.44299999999998,202.578,196.393,177.209,143.898,913.59,265.39,618.84,968.27,375.65699999999998,129.29900000000001,111.71299999999999,172.20599999999999,48.445999999999998,228.68799999999999,609.26,38.805,225.547,262.11,183.85599999999999,41.939,174.858,584.15,155.99299999999999,134.17699999999999,327.80200000000002,9053.8799999999992]
["Women",404.93,470,214.28,157.80199999999999,87.908000000000001,275.46600000000001,283.56700000000001,244.375,190.55699999999999,197.648,160.61099999999999,850.16,271.755,663.33,1084.0899999999999,429.05200000000002,145.267,137.36699999999999,204.39400000000001,48.518000000000001,252.57300000000001,700.46,39.048000000000002,273.34899999999999,257.548,222.27600000000001,39.383000000000003,213.92099999999999,617.70000000000005,192.86,159.316,311.15800000000002,9800.67]
["All Adults",769.36199999999997,911.16,406.89,323.60000000000002,164.571,537.572,544.01,446.95299999999997,386.95,374.85599999999999,304.50900000000001,1763.75,537.14599999999996,1282.17,2052.35,804.70799999999997,274.56599999999997,249.08099999999999,376.6,96.963999999999999,481.26100000000002,1309.72,77.852999999999994,498.89600000000002,519.65800000000002,406.13299999999998,81.322000000000003,388.779,1201.8499999999999,348.85300000000001,293.49299999999999,638.96,18854.55]
["Bases (unweighted)"]
["Men",426,516,134,116,48,221,159,318,150,104,114,589,159,902,656,239,98,71,191,387,344,343,234,178,186,199,247,286,356,100,98,171,8340]
["Women",541,624,163,136,66,258,193,414,179,128,145,662,196,1142,895,327,128,103,264,461,418,476,271,234,212,278,277,377,458,149,133,212,10520]
["All Adults",967,1140,297,252,114,479,352,732,329,232,259,1251,355,2044,1551,566,226,174,455,848,762,819,505,412,398,477,524,663,814,249,231,383,18860]

{"sheet":"Mean fruit and veg chart","index":23,"n_rows":40,"n_cols":18,"rows_kept":40,"cut":false,"hidden":false,"merged":[]}
[null,null,null,null,null,null,null,null,null,null,null,null,null,null,null,null,null,"INDEX"]
[]
[]
[]
[]
[]
[]
[]
[]
[]
[]
[]
[]
[]
[]
[]
[]
[]
[]
[]
[]
[]
[]
[]
[]
[]
[]
[]
[]
[]
[null,null,"Source: Scottish Health Survey"]
[]
[]
[null,null,"Aberdeen City","Aberdeenshire","East Ayrshire","Edinburgh, City of","Fife","Glasgow City","Highland","Na h-Eileanan Siar","North Ayrshire","North Lanarkshire","Orkney Islands","Shetland Islands","South Ayrshire","South Lanarkshire",null,"Scotland"]
[null,"All adults"]
[null,"Mean",{"$f":"'Mean fruit and vegetables'!B18","v":3.3210000000000002},{"$f":"'Mean fruit and vegetables'!C18","v":3.11},{"$f":"'Mean fruit and vegetables'!I18","v":2.7360000000000002},{"$f":"'Mean fruit and vegetables'!M18","v":3.76},{"$f":"'Mean fruit and vegetables'!O18","v":3.27},{"$f":"'Mean fruit and vegetables'!P18","v":2.98},{"$f":"'Mean fruit and vegetables'!Q18","v":3.14},{"$f":"'Mean fruit and vegetables'!U18","v":3.3530000000000002},{"$f":"'Mean fruit and vegetables'!V18","v":2.5409999999999999},{"$f":"'Mean fruit and vegetables'!W18","v":2.73},{"$f":"'Mean fruit and vegetables'!X18","v":3.1829999999999998},{"$f":"'Mean fruit and vegetables'!AB18","v":3.169},{"$f":"'Mean fruit and vegetables'!AC18","v":2.9670000000000001},{"$f":"'Mean fruit and vegetables'!AD18","v":3.11},null,{"$f":"'Mean fruit and vegetables'!AH18","v":3.14}]
[null,"Lower CI",{"$f":"'Mean fruit and vegetables'!B19","v":3.1230000000000002},{"$f":"'Mean fruit and vegetables'!C19","v":2.91},{"$f":"'Mean fruit and vegetables'!I19","v":2.4740000000000002},{"$f":"'Mean fruit and vegetables'!M19","v":3.54},{"$f":"'Mean fruit and vegetables'!O19","v":3.12},{"$f":"'Mean fruit and vegetables'!P19","v":2.81},{"$f":"'Mean fruit and vegetables'!Q19","v":2.911},{"$f":"'Mean fruit and vegetables'!U19","v":3.077},{"$f":"'Mean fruit and vegetables'!V19","v":2.3199999999999998},{"$f":"'Mean fruit and vegetables'!W19","v":2.5},{"$f":"'Mean fruit and vegetables'!X19","v":2.9420000000000002},{"$f":"'Mean fruit and vegetables'!AB19","v":2.871},{"$f":"'Mean fruit and vegetables'!AC19","v":2.7090000000000001},{"$f":"'Mean fruit and vegetables'!AD19","v":2.89},null,{"$f":"'Mean fruit and vegetables'!AH19","v":3.09}]
[null,"Upper CI",{"$f":"'Mean fruit and vegetables'!B20","v":3.5179999999999998},{"$f":"'Mean fruit and vegetables'!C20","v":3.3},{"$f":"'Mean fruit and vegetables'!I20","v":2.9969999999999999},{"$f":"'Mean fruit and vegetables'!M20","v":3.98},{"$f":"'Mean fruit and vegetables'!O20","v":3.43},{"$f":"'Mean fruit and vegetables'!P20","v":3.16},{"$f":"'Mean fruit and vegetables'!Q20","v":3.3690000000000002},{"$f":"'Mean fruit and vegetables'!U20","v":3.629},{"$f":"'Mean fruit and vegetables'!V20","v":2.762},{"$f":"'Mean fruit and vegetables'!W20","v":2.96},{"$f":"'Mean fruit and vegetables'!X20","v":3.4249999999999998},{"$f":"'Mean fruit and vegetables'!AB20","v":3.4670000000000001},{"$f":"'Mean fruit and vegetables'!AC20","v":3.2250000000000001},{"$f":"'Mean fruit and vegetables'!AD20","v":3.33},null,{"$f":"'Mean fruit and vegetables'!AH20","v":3.2}]
[]
["CLs",null,{"$f":"C36-C37","v":0.19799999999999995},{"$f":"D36-D37","v":0.19999999999999973},{"$f":"E36-E37","v":0.26200000000000001},{"$f":"F36-F37","v":0.21999999999999975},{"$f":"G36-G37","v":0.14999999999999991},{"$f":"H36-H37","v":0.16999999999999993},0.22900000000000009,0.27600000000000025,0.22100000000000009,0.22999999999999998,0.24099999999999966,0.29800000000000004,0.25800000000000001,0.21999999999999975,null,{"$f":"R36-R37","v":5.0000000000000266E-2}]

{"sheet":"Physical activity guidelines","index":24,"n_rows":59,"n_cols":34,"rows_kept":59,"cut":false,"hidden":false,"merged":[[4,0,5,0],[0,0,1,0],[3,1,3,11]]}
["Adherence to physical activity guidelines, by Local Authority and sex",null,null,null,null,null,null,null,null,null,null,null,null,"INDEX"]
[]
[]
["Aged 16 and over","PLEASE NOTE: Where the sample size for a Local Authority was below 500, the result has been suppressed. This is shown here by *.",null,null,null,null,null,null,null,null,null,null,null,null,null,"2013/2014/2015/2016 combined"]
["Physical activity guidelinesa","Local Authority"]
[null,"Aberdeen City","Aberdeenshire","Angus","Argyll & Bute","Clackmannanshire","Dumfries & Galloway","Dundee City","East Ayrshire","East Dunbartonshire","East Lothian","East Renfrewshire","Edinburgh, City of","Falkirk","Fife","Glasgow City","Highland","Inverclyde","Midlothian","Moray","Na h-Eileanan Siar","North Ayrshire","North Lanarkshire","Orkney Islands","Perth & Kinross","Renfrewshire","Scottish Borders","Shetland Islands","South Ayrshire","South Lanarkshire","Stirling","West Dunbartonshire","West Lothian","Scotland"]
[null,"%","%","%","%","%","%","%","%","%","%","%","%","%","%","%","%","%","%","%","%","%","%","%","%","%","%","%","%","%","%","%","%","%"]
["Men"]
["Meets guidelines",70.650999999999996,68.209999999999994,"*","*","*","*","*",63.896000000000001,"*","*","*",75.540000000000006,"*",70.88,68.400000000000006,66.284000000000006,"*","*","*",69.805000000000007,65.805999999999997,61.53,"*","*","*","*",69.734999999999999,69.132999999999996,68.14,"*","*","*",68.599999999999994]
["Lower CI",66.143000000000001,64.040000000000006,"*","*","*","*","*",57.881,"*","*","*",71.02,"*",67.47,64.56,58.088999999999999,"*","*","*",64.977999999999994,61.652000000000001,55.92,"*","*","*","*",62.488,62.521000000000001,63.17,"*","*","*",67.33]
["Upper CI",75.16,72.39,"*","*","*","*","*",69.911000000000001,"*","*","*",80.069999999999993,"*",74.290000000000006,72.23,74.478999999999999,"*","*","*",74.632000000000005,69.959000000000003,67.14,"*","*","*","*",76.981999999999999,75.744,73.11,"*","*","*",69.86]
["Some activity",6.3339999999999996,9.89,"*","*","*","*","*",7.4020000000000001,"*","*","*",8.2799999999999994,"*",6.47,8.15,13.420999999999999,"*","*","*",9.9909999999999997,6.88,11.11,"*","*","*","*",9.4659999999999993,9.1519999999999992,8.8699999999999992,"*","*","*",9.1300000000000008]
["Lower CI",3.9820000000000002,7.2,"*","*","*","*","*",3.911,"*","*","*",5.9,"*",4.87,5.91,9.1739999999999995,"*","*","*",6.7060000000000004,4.1509999999999998,6.77,"*","*","*","*",5.6210000000000004,5.8390000000000004,5.5,"*","*","*",8.34]
["Upper CI",8.6859999999999999,12.59,"*","*","*","*","*",10.893000000000001,"*","*","*",10.66,"*",8.07,10.4,17.667999999999999,"*","*","*",13.276999999999999,9.609,15.46,"*","*","*","*",13.311,12.465999999999999,12.24,"*","*","*",9.92]
["Low activity",4.4169999999999998,3.24,"*","*","*","*","*",4.1100000000000003,"*","*","*",3.77,"*",3.86,3.88,3.169,"*","*","*",3.1619999999999999,2.7229999999999999,3.97,"*","*","*","*",5.2709999999999999,1.8779999999999999,4.04,"*","*","*",3.69]
["Lower CI",2.4569999999999999,1.47,"*","*","*","*","*",2.0009999999999999,"*","*","*",2.2000000000000002,"*",2.41,2.3199999999999998,1.105,"*","*","*",1.292,1.2769999999999999,2.06,"*","*","*","*",1.254,0.56999999999999995,1.8,"*","*","*",3.22]
["Upper CI",6.3780000000000001,5.01,"*","*","*","*","*",6.22,"*","*","*",5.35,"*",5.3,5.43,5.234,"*","*","*",5.032,4.1680000000000001,5.88,"*","*","*","*",9.2880000000000003,3.1850000000000001,6.29,"*","*","*",4.16]
["Very low activity",18.597999999999999,18.649999999999999,"*","*","*","*","*",24.591999999999999,"*","*","*",12.4,"*",18.8,19.57,17.125,"*","*","*",17.042000000000002,24.591999999999999,23.39,"*","*","*","*",15.528,19.837,18.95,"*","*","*",18.579999999999998]
["Lower CI",15.298999999999999,15.33,"*","*","*","*","*",19.190999999999999,"*","*","*",9.43,"*",16.010000000000002,16.36,10.786,"*","*","*",13.420999999999999,20.492000000000001,18.18,"*","*","*","*",10.093,14.065,15.09,"*","*","*",17.54]
["Upper CI",21.896000000000001,21.97,"*","*","*","*","*",29.992999999999999,"*","*","*",15.37,"*",21.58,22.79,23.465,"*","*","*",20.663,28.690999999999999,28.59,"*","*","*","*",20.963999999999999,25.609000000000002,22.81,"*","*","*",19.62]
[]
["Women"]
["Meets guidelines",64.864999999999995,58.79,"*","*","*","*","*",53.097000000000001,"*","*","*",66.56,"*",58.98,53.96,56.875999999999998,"*","*","*",59.152999999999999,52.4,55.88,"*","*","*","*",60.765000000000001,58.698,61.11,"*","*","*",58.79]
["Lower CI",59.512999999999998,54.13,"*","*","*","*","*",47.481999999999999,"*","*","*",61.69,"*",55.86,50.34,51.704999999999998,"*","*","*",54.04,46.756999999999998,50.73,"*","*","*","*",54.816000000000003,54.204000000000001,56.25,"*","*","*",57.6]
["Upper CI",70.218000000000004,63.44,"*","*","*","*","*",58.712000000000003,"*","*","*",71.430000000000007,"*",62.1,57.58,62.046999999999997,"*","*","*",64.265000000000001,58.042999999999999,61.03,"*","*","*","*",66.712999999999994,63.191000000000003,65.98,"*","*","*",59.99]
["Some activity",11.942,14.99,"*","*","*","*","*",13.625999999999999,"*","*","*",9.74,"*",13.75,10.82,15.750999999999999,"*","*","*",11.532,14.332000000000001,12.93,"*","*","*","*",13.039,11.694000000000001,12.14,"*","*","*",12.97]
["Lower CI",8.9169999999999998,11.54,"*","*","*","*","*",9.0909999999999993,"*","*","*",6.87,"*",11.68,8.74,12.465,"*","*","*",7.8440000000000003,10.202999999999999,10.01,"*","*","*","*",9.5869999999999997,8.3640000000000008,9.36,"*","*","*",12.23]
["Upper CI",14.967000000000001,18.440000000000001,"*","*","*","*","*",18.161999999999999,"*","*","*",12.61,"*",15.83,12.9,19.036999999999999,"*","*","*",15.22,18.46,15.84,"*","*","*","*",16.492000000000001,15.023999999999999,14.93,"*","*","*",13.72]
["Low activity",3.3769999999999998,5.09,"*","*","*","*","*",4.74,"*","*","*",4.1500000000000004,"*",4.8600000000000003,5.62,3.6190000000000002,"*","*","*",4.5590000000000002,4.95,5.01,"*","*","*","*",6.7960000000000003,3.8980000000000001,4.72,"*","*","*",4.93]
["Lower CI",1.91,3.42,"*","*","*","*","*",2.95,"*","*","*",2.5499999999999998,"*",3.7,3.95,1.43,"*","*","*",2.5960000000000001,2.4529999999999998,2.61,"*","*","*","*",3.6890000000000001,2.1309999999999998,2.75,"*","*","*",4.4400000000000004]
["Upper CI",4.8440000000000003,6.77,"*","*","*","*","*",6.5289999999999999,"*","*","*",5.76,"*",6.03,7.29,5.8070000000000004,"*","*","*",6.5220000000000002,7.4470000000000001,7.41,"*","*","*","*",9.9039999999999999,5.665,6.69,"*","*","*",5.42]
["Very low activity",19.815999999999999,21.13,"*","*","*","*","*",28.536999999999999,"*","*","*",19.54,"*",22.41,29.6,23.754000000000001,"*","*","*",24.756,28.318999999999999,26.19,"*","*","*","*",19.399999999999999,25.71,22.02,"*","*","*",23.3]
["Lower CI",15.933,17.72,"*","*","*","*","*",24.725000000000001,"*","*","*",16.329999999999998,"*",19.82,26.18,19.088999999999999,"*","*","*",21.248999999999999,23.33,21.48,"*","*","*","*",14.755000000000001,20.96,18.350000000000001,"*","*","*",22.32]
["Upper CI",23.699000000000002,24.53,"*","*","*","*","*",32.348999999999997,"*","*","*",22.75,"*",24.99,33.020000000000003,28.419,"*","*","*",28.263000000000002,33.307000000000002,30.9,"*","*","*","*",24.044,30.46,25.7,"*","*","*",24.28]
[]
["All Adults"]
["Meets guidelines",67.614999999999995,63.35,"*","*","*","*","*",57.991999999999997,"*","*","*",71.2,"*",64.72,60.79,61.296999999999997,"*","*","*",64.486000000000004,58.755000000000003,58.5,"*","*","*","*",65.358999999999995,63.390999999999998,64.53,"*","*","*",63.5]
["Lower CI",63.588000000000001,59.97,"*","*","*","*","*",53.35,"*","*","*",67.36,"*",62.4,57.84,56.344999999999999,"*","*","*",61.456000000000003,54.71,54.1,"*","*","*","*",60.06,58.938000000000002,60.79,"*","*","*",62.51]
["Upper CI",71.643000000000001,66.739999999999995,"*","*","*","*","*",62.633000000000003,"*","*","*",75.040000000000006,"*",67.040000000000006,63.74,66.248999999999995,"*","*","*",67.515000000000001,62.801000000000002,62.9,"*","*","*","*",70.659000000000006,67.843999999999994,68.28,"*","*","*",64.5]
["Some activity",9.2759999999999998,12.52,"*","*","*","*","*",10.805,"*","*","*",8.99,"*",10.24,9.56,14.656000000000001,"*","*","*",10.760999999999999,10.798999999999999,12.09,"*","*","*","*",11.209,10.551,10.55,"*","*","*",11.13]
["Lower CI",7.14,10.26,"*","*","*","*","*",7.6859999999999999,"*","*","*",6.81,"*",8.92,8.07,11.936999999999999,"*","*","*",8.2260000000000009,8.1199999999999992,9.32,"*","*","*","*",8.0250000000000004,8.0890000000000004,8.2100000000000009,"*","*","*",10.56]
["Upper CI",11.412000000000001,14.78,"*","*","*","*","*",13.923999999999999,"*","*","*",11.16,"*",11.55,11.05,17.376000000000001,"*","*","*",13.295,13.478,14.85,"*","*","*","*",14.393000000000001,13.013,12.89,"*","*","*",11.7]
["Low activity",3.871,4.2,"*","*","*","*","*",4.4539999999999997,"*","*","*",3.96,"*",4.38,4.8,3.407,"*","*","*",3.86,3.8940000000000001,4.5199999999999996,"*","*","*","*",6.0149999999999997,2.99,4.3899999999999997,"*","*","*",4.33]
["Lower CI",2.754,2.71,"*","*","*","*","*",3.2530000000000001,"*","*","*",2.87,"*",3.37,3.6,1.9319999999999999,"*","*","*",2.544,2.2799999999999998,3.01,"*","*","*","*",3.4039999999999999,1.6639999999999999,2.98,"*","*","*",3.99]
["Upper CI",4.9889999999999999,5.68,"*","*","*","*","*",5.6559999999999997,"*","*","*",5.05,"*",5.39,5.99,4.883,"*","*","*",5.1749999999999998,5.508,6.04,"*","*","*","*",8.6259999999999994,4.3150000000000004,5.81,"*","*","*",4.68]
["Very low activity",19.236999999999998,19.93,"*","*","*","*","*",26.748999999999999,"*","*","*",15.85,"*",20.66,24.85,20.638999999999999,"*","*","*",20.893999999999998,26.552,24.89,"*","*","*","*",17.417000000000002,23.068000000000001,20.53,"*","*","*",21.03]
["Lower CI",16.568000000000001,17.13,"*","*","*","*","*",23.396999999999998,"*","*","*",13.48,"*",18.78,22.17,16.344000000000001,"*","*","*",18.501999999999999,22.863,20.62,"*","*","*","*",13.569000000000001,18.86,17.64,"*","*","*",20.23]
["Upper CI",21.905999999999999,22.73,"*","*","*","*","*",30.100999999999999,"*","*","*",18.23,"*",22.55,27.53,24.934999999999999,"*","*","*",23.286000000000001,30.241,29.16,"*","*","*","*",21.265000000000001,27.277000000000001,23.42,"*","*","*",21.84]
[]
["Bases (weighted):"]
["Men ",364.43299999999999,439.85,191.68600000000001,163.666,75.528000000000006,259.76600000000002,259.43200000000002,202.578,196.393,177.209,143.898,907.6,263.91300000000001,616.11,965.48,372.41300000000001,127.14100000000001,111.71299999999999,167.84299999999999,48.377000000000002,227.68700000000001,601.20000000000005,37.500999999999998,224.625,260.928,183.215,41.04,174.858,581.88,155.99299999999999,132.92699999999999,326.56200000000001,9003.43]
["Women",402.25299999999999,468.29,214.28,155.30799999999999,87.908000000000001,273.40499999999997,279.62599999999998,244.375,190.55699999999999,197.648,160.61099999999999,849.17,271.59699999999998,660.46,1075.1199999999999,420.10700000000003,145.267,136.154,201.83,48.252000000000002,252.57300000000001,694.73,37.853999999999999,272.32,254.05,221.565,39.087000000000003,213.92099999999999,614.21,191.78899999999999,159.316,310.06200000000001,9743.7099999999991]
["All Adults",766.68499999999995,908.15,405.96499999999997,318.97300000000001,163.43600000000001,533.17100000000005,539.05799999999999,446.95299999999997,386.95,374.85599999999999,304.50900000000001,1756.76,535.51099999999997,1276.57,2040.6,792.52,272.40800000000002,247.86699999999999,369.673,96.63,480.26,1295.93,75.355999999999995,496.94400000000002,514.97799999999995,404.78,80.126999999999995,388.779,1196.0899999999999,347.78199999999998,292.24299999999999,636.62400000000002,18747.14]
["Bases (unweighted)"]
["Men ",426,514,133,114,47,219,158,318,150,104,114,584,158,898,654,237,97,71,186,386,342,339,227,177,185,198,242,286,355,100,97,170,8286]
["Women",538,622,163,134,66,256,191,414,179,128,145,661,196,1137,888,320,128,102,262,459,418,472,264,233,209,277,275,377,456,148,133,211,10462]
["All Adults",964,1136,296,248,113,475,349,732,329,232,259,1245,354,2035,1542,557,225,173,448,845,760,811,491,410,394,475,517,663,811,248,230,381,18748]
[]
["a Meets moderate / vigorous physical activity (MVPA) guidelines:at least 150 minutes of moderately intensive physical activity or 75 minutes vigorous activity per week or an equivalent combination of both. Some activity:  60-149 minutes of moderate activity or 30-74 minutes of vigorous activity or an equivalent combination of these. Low activity:   30-59 minutes of moderate activity or 15-29 minutes of vigorous activity or an equivalent combination of these. Very low activity: Less than 30 minutes of moderate activity or less than 15 minutes of vigorous activity or an equivalent combination of these.   "]

{"sheet":"Physical activity chart","index":25,"n_rows":52,"n_cols":18,"rows_kept":52,"cut":false,"hidden":false,"merged":[[31,2,32,14]]}
[null,null,null,null,null,null,null,null,null,null,null,null,null,null,null,null,null,"INDEX"]
[]
[]
[]
[]
[]
[]
[]
[]
[]
[]
[]
[]
[]
[]
[]
[]
[]
[]
[]
[]
[]
[]
[]
[]
[]
[]
[]
[]
[]
[null,null,"Source: Scottish Health Survey"]
[null,null,"Meets moderate / vigorous physical activity (MVPA) guidelines:at least 150 minutes of moderately intensive physical activity or 75 minutes vigorous activity per week or an equivalent combination of both. Some activity:  60-149 minutes of moderate activity or 30-74 minutes of vigorous activity or an equivalent combination of these. Low activity:   30-59 minutes of moderate activity or 15-29 minutes of vigorous activity or an equivalent combination of these. Very low activity: Less than 30 minutes of moderate activity or less than 15 minutes of vigorous activity or an equivalent combination of these.   \n"]
[]
[null,null,"Aberdeen City","Aberdeenshire","East Ayrshire","Edinburgh, City of","Fife","Glasgow City","Highland","Na h-Eileanan Siar","North Ayrshire","North Lanarkshire","Shetland Islands","South Ayrshire","South Lanarkshire",null,"Scotland"]
[null,"All Adults"]
[null,"Meets guidelines",{"$f":"'Physical activity guidelines'!B37","v":67.614999999999995},{"$f":"'Physical activity guidelines'!C37","v":63.35},{"$f":"'Physical activity guidelines'!I37","v":57.991999999999997},{"$f":"'Physical activity guidelines'!M37","v":71.2},{"$f":"'Physical activity guidelines'!O37","v":64.72},{"$f":"'Physical activity guidelines'!P37","v":60.79},{"$f":"'Physical activity guidelines'!Q37","v":61.296999999999997},{"$f":"'Physical activity guidelines'!U37","v":64.486000000000004},{"$f":"'Physical activity guidelines'!V37","v":58.755000000000003},{"$f":"'Physical activity guidelines'!W37","v":58.5},{"$f":"'Physical activity guidelines'!AB37","v":65.358999999999995},{"$f":"'Physical activity guidelines'!AC37","v":63.390999999999998},{"$f":"'Physical activity guidelines'!AD37","v":64.53},null,{"$f":"'Physical activity guidelines'!AH37","v":63.5}]
[null,"Lower CI",{"$f":"'Physical activity guidelines'!B38","v":63.588000000000001},{"$f":"'Physical activity guidelines'!C38","v":59.97},{"$f":"'Physical activity guidelines'!I38","v":53.35},{"$f":"'Physical activity guidelines'!M38","v":67.36},{"$f":"'Physical activity guidelines'!O38","v":62.4},{"$f":"'Physical activity guidelines'!P38","v":57.84},{"$f":"'Physical activity guidelines'!Q38","v":56.344999999999999},{"$f":"'Physical activity guidelines'!U38","v":61.456000000000003},{"$f":"'Physical activity guidelines'!V38","v":54.71},{"$f":"'Physical activity guidelines'!W38","v":54.1},{"$f":"'Physical activity guidelines'!AB38","v":60.06},{"$f":"'Physical activity guidelines'!AC38","v":58.938000000000002},{"$f":"'Physical activity guidelines'!AD38","v":60.79},null,{"$f":"'Physical activity guidelines'!AH38","v":62.51}]
[null,"Upper CI",{"$f":"'Physical activity guidelines'!B39","v":71.643000000000001},{"$f":"'Physical activity guidelines'!C39","v":66.739999999999995},{"$f":"'Physical activity guidelines'!I39","v":62.633000000000003},{"$f":"'Physical activity guidelines'!M39","v":75.040000000000006},{"$f":"'Physical activity guidelines'!O39","v":67.040000000000006},{"$f":"'Physical activity guidelines'!P39","v":63.74},{"$f":"'Physical activity guidelines'!Q39","v":66.248999999999995},{"$f":"'Physical activity guidelines'!U39","v":67.515000000000001},{"$f":"'Physical activity guidelines'!V39","v":62.801000000000002},{"$f":"'Physical activity guidelines'!W39","v":62.9},{"$f":"'Physical activity guidelines'!AB39","v":70.659000000000006},{"$f":"'Physical activity guidelines'!AC39","v":67.843999999999994},{"$f":"'Physical activity guidelines'!AD39","v":68.28},null,{"$f":"'Physical activity guidelines'!AH39","v":64.5}]
[null,"Some activity",{"$f":"'Physical activity guidelines'!B40","v":9.2759999999999998},{"$f":"'Physical activity guidelines'!C40","v":12.52},{"$f":"'Physical activity guidelines'!I40","v":10.805},{"$f":"'Physical activity guidelines'!M40","v":8.99},{"$f":"'Physical activity guidelines'!O40","v":10.24},{"$f":"'Physical activity guidelines'!P40","v":9.56},{"$f":"'Physical activity guidelines'!Q40","v":14.656000000000001},{"$f":"'Physical activity guidelines'!U40","v":10.760999999999999},{"$f":"'Physical activity guidelines'!V40","v":10.798999999999999},{"$f":"'Physical activity guidelines'!W40","v":12.09},{"$f":"'Physical activity guidelines'!AB40","v":11.209},{"$f":"'Physical activity guidelines'!AC40","v":10.551},{"$f":"'Physical activity guidelines'!AD40","v":10.55},null,{"$f":"'Physical activity guidelines'!AH40","v":11.13}]
[null,"Lower CI",{"$f":"'Physical activity guidelines'!B41","v":7.14},{"$f":"'Physical activity guidelines'!C41","v":10.26},{"$f":"'Physical activity guidelines'!I41","v":7.6859999999999999},{"$f":"'Physical activity guidelines'!M41","v":6.81},{"$f":"'Physical activity guidelines'!O41","v":8.92},{"$f":"'Physical activity guidelines'!P41","v":8.07},{"$f":"'Physical activity guidelines'!Q41","v":11.936999999999999},{"$f":"'Physical activity guidelines'!U41","v":8.2260000000000009},{"$f":"'Physical activity guidelines'!V41","v":8.1199999999999992},{"$f":"'Physical activity guidelines'!W41","v":9.32},{"$f":"'Physical activity guidelines'!AB41","v":8.0250000000000004},{"$f":"'Physical activity guidelines'!AC41","v":8.0890000000000004},{"$f":"'Physical activity guidelines'!AD41","v":8.2100000000000009},null,{"$f":"'Physical activity guidelines'!AH41","v":10.56}]
[null,"Upper CI",{"$f":"'Physical activity guidelines'!B42","v":11.412000000000001},{"$f":"'Physical activity guidelines'!C42","v":14.78},{"$f":"'Physical activity guidelines'!I42","v":13.923999999999999},{"$f":"'Physical activity guidelines'!M42","v":11.16},{"$f":"'Physical activity guidelines'!O42","v":11.55},{"$f":"'Physical activity guidelines'!P42","v":11.05},{"$f":"'Physical activity guidelines'!Q42","v":17.376000000000001},{"$f":"'Physical activity guidelines'!U42","v":13.295},{"$f":"'Physical activity guidelines'!V42","v":13.478},{"$f":"'Physical activity guidelines'!W42","v":14.85},{"$f":"'Physical activity guidelines'!AB42","v":14.393000000000001},{"$f":"'Physical activity guidelines'!AC42","v":13.013},{"$f":"'Physical activity guidelines'!AD42","v":12.89},null,{"$f":"'Physical activity guidelines'!AH42","v":11.7}]
[null,"Low activity",{"$f":"'Physical activity guidelines'!B43","v":3.871},{"$f":"'Physical activity guidelines'!C43","v":4.2},{"$f":"'Physical activity guidelines'!I43","v":4.4539999999999997},{"$f":"'Physical activity guidelines'!M43","v":3.96},{"$f":"'Physical activity guidelines'!O43","v":4.38},{"$f":"'Physical activity guidelines'!P43","v":4.8},{"$f":"'Physical activity guidelines'!Q43","v":3.407},{"$f":"'Physical activity guidelines'!U43","v":3.86},{"$f":"'Physical activity guidelines'!V43","v":3.8940000000000001},{"$f":"'Physical activity guidelines'!W43","v":4.5199999999999996},{"$f":"'Physical activity guidelines'!AB43","v":6.0149999999999997},{"$f":"'Physical activity guidelines'!AC43","v":2.99},{"$f":"'Physical activity guidelines'!AD43","v":4.3899999999999997},null,{"$f":"'Physical activity guidelines'!AH43","v":4.33}]
[null,"Lower CI",{"$f":"'Physical activity guidelines'!B44","v":2.754},{"$f":"'Physical activity guidelines'!C44","v":2.71},{"$f":"'Physical activity guidelines'!I44","v":3.2530000000000001},{"$f":"'Physical activity guidelines'!M44","v":2.87},{"$f":"'Physical activity guidelines'!O44","v":3.37},{"$f":"'Physical activity guidelines'!P44","v":3.6},{"$f":"'Physical activity guidelines'!Q44","v":1.9319999999999999},{"$f":"'Physical activity guidelines'!U44","v":2.544},{"$f":"'Physical activity guidelines'!V44","v":2.2799999999999998},{"$f":"'Physical activity guidelines'!W44","v":3.01},{"$f":"'Physical activity guidelines'!AB44","v":3.4039999999999999},{"$f":"'Physical activity guidelines'!AC44","v":1.6639999999999999},{"$f":"'Physical activity guidelines'!AD44","v":2.98},null,{"$f":"'Physical activity guidelines'!AH44","v":3.99}]
[null,"Upper CI",{"$f":"'Physical activity guidelines'!B45","v":4.9889999999999999},{"$f":"'Physical activity guidelines'!C45","v":5.68},{"$f":"'Physical activity guidelines'!I45","v":5.6559999999999997},{"$f":"'Physical activity guidelines'!M45","v":5.05},{"$f":"'Physical activity guidelines'!O45","v":5.39},{"$f":"'Physical activity guidelines'!P45","v":5.99},{"$f":"'Physical activity guidelines'!Q45","v":4.883},{"$f":"'Physical activity guidelines'!U45","v":5.1749999999999998},{"$f":"'Physical activity guidelines'!V45","v":5.508},{"$f":"'Physical activity guidelines'!W45","v":6.04},{"$f":"'Physical activity guidelines'!AB45","v":8.6259999999999994},{"$f":"'Physical activity guidelines'!AC45","v":4.3150000000000004},{"$f":"'Physical activity guidelines'!AD45","v":5.81},null,{"$f":"'Physical activity guidelines'!AH45","v":4.68}]
[null,"Very low activity",{"$f":"'Physical activity guidelines'!B46","v":19.236999999999998},{"$f":"'Physical activity guidelines'!C46","v":19.93},{"$f":"'Physical activity guidelines'!I46","v":26.748999999999999},{"$f":"'Physical activity guidelines'!M46","v":15.85},{"$f":"'Physical activity guidelines'!O46","v":20.66},{"$f":"'Physical activity guidelines'!P46","v":24.85},{"$f":"'Physical activity guidelines'!Q46","v":20.638999999999999},{"$f":"'Physical activity guidelines'!U46","v":20.893999999999998},{"$f":"'Physical activity guidelines'!V46","v":26.552},{"$f":"'Physical activity guidelines'!W46","v":24.89},{"$f":"'Physical activity guidelines'!AB46","v":17.417000000000002},{"$f":"'Physical activity guidelines'!AC46","v":23.068000000000001},{"$f":"'Physical activity guidelines'!AD46","v":20.53},null,{"$f":"'Physical activity guidelines'!AH46","v":21.03}]
[null,"Lower CI",{"$f":"'Physical activity guidelines'!B47","v":16.568000000000001},{"$f":"'Physical activity guidelines'!C47","v":17.13},{"$f":"'Physical activity guidelines'!I47","v":23.396999999999998},{"$f":"'Physical activity guidelines'!M47","v":13.48},{"$f":"'Physical activity guidelines'!O47","v":18.78},{"$f":"'Physical activity guidelines'!P47","v":22.17},{"$f":"'Physical activity guidelines'!Q47","v":16.344000000000001},{"$f":"'Physical activity guidelines'!U47","v":18.501999999999999},{"$f":"'Physical activity guidelines'!V47","v":22.863},{"$f":"'Physical activity guidelines'!W47","v":20.62},{"$f":"'Physical activity guidelines'!AB47","v":13.569000000000001},{"$f":"'Physical activity guidelines'!AC47","v":18.86},{"$f":"'Physical activity guidelines'!AD47","v":17.64},null,{"$f":"'Physical activity guidelines'!AH47","v":20.23}]
[null,"Upper CI",{"$f":"'Physical activity guidelines'!B48","v":21.905999999999999},{"$f":"'Physical activity guidelines'!C48","v":22.73},{"$f":"'Physical activity guidelines'!I48","v":30.100999999999999},{"$f":"'Physical activity guidelines'!M48","v":18.23},{"$f":"'Physical activity guidelines'!O48","v":22.55},{"$f":"'Physical activity guidelines'!P48","v":27.53},{"$f":"'Physical activity guidelines'!Q48","v":24.934999999999999},{"$f":"'Physical activity guidelines'!U48","v":23.286000000000001},{"$f":"'Physical activity guidelines'!V48","v":30.241},{"$f":"'Physical activity guidelines'!W48","v":29.16},{"$f":"'Physical activity guidelines'!AB48","v":21.265000000000001},{"$f":"'Physical activity guidelines'!AC48","v":27.277000000000001},{"$f":"'Physical activity guidelines'!AD48","v":23.42},null,{"$f":"'Physical activity guidelines'!AH48","v":21.84}]
[]
["CLs","Meets guidelines",{"$f":"C36-C37","v":4.0269999999999939},{"$f":"D36-D37","v":3.3800000000000026},{"$f":"E36-E37","v":4.6419999999999959},{"$f":"F36-F37","v":3.8400000000000034},{"$f":"G36-G37","v":2.3200000000000003},{"$f":"H36-H37","v":2.9499999999999957},4.9519999999999982,3.0300000000000011,4.0450000000000017,4.3999999999999986,5.2989999999999924,4.4529999999999959,3.740000000000002,null,{"$f":"Q36-Q37","v":0.99000000000000199}]
[null,"Some activity",{"$f":"C39-C40","v":2.1360000000000001},{"$f":"D39-D40","v":2.2599999999999998},{"$f":"E39-E40","v":3.1189999999999998},{"$f":"F39-F40","v":2.1800000000000006},{"$f":"G39-G40","v":1.3200000000000003},{"$f":"H39-H40","v":1.4900000000000002},2.7190000000000012,2.5349999999999984,2.6790000000000003,2.7699999999999996,3.1839999999999993,2.4619999999999997,2.34,null,{"$f":"Q39-Q40","v":0.57000000000000028}]
[null,"Low activity",{"$f":"C42-C43","v":1.117},{"$f":"D42-D43","v":1.4900000000000002},{"$f":"E42-E43","v":1.2009999999999996},{"$f":"F42-F43","v":1.0899999999999999},{"$f":"G42-G43","v":1.0099999999999998},{"$f":"H42-H43","v":1.1999999999999997},1.4750000000000001,1.3159999999999998,1.6140000000000003,1.5099999999999998,2.6109999999999998,1.3260000000000003,1.4099999999999997,null,{"$f":"Q42-Q43","v":0.33999999999999986}]
[null,"Very low activity",{"$f":"C45-C46","v":2.6689999999999969},{"$f":"D45-D46","v":2.8000000000000007},{"$f":"E45-E46","v":3.3520000000000003},{"$f":"F45-F46","v":2.3699999999999992},{"$f":"G45-G46","v":1.879999999999999},{"$f":"H45-H46","v":2.6799999999999997},4.2949999999999982,2.3919999999999995,3.6890000000000001,4.2699999999999996,3.8480000000000008,4.208000000000002,2.8900000000000006,null,{"$f":"Q45-Q46","v":0.80000000000000071}]

{"sheet":"CVD","index":26,"n_rows":30,"n_cols":34,"rows_kept":30,"cut":false,"hidden":false,"merged":[[0,0,1,0],[4,0,5,0],[3,1,3,11]]}
["Prevalence of cardiovascular (CVD) conditions by Local Authority and sex",null,null,null,null,null,null,null,null,null,null,null,"INDEX"]
[]
[]
["Aged 16 and over","PLEASE NOTE: Where the sample size for a Local Authority was below 500, the result has been suppressed. This is shown here by *.",null,null,null,null,null,null,null,null,null,null,null,null,null,"2013/2014/2015/2016 combined"]
["CVD","Local Authority"]
[null,"Aberdeen City","Aberdeenshire","Angus","Argyll & Bute","Clackmannanshire","Dumfries & Galloway","Dundee City","East Ayrshire","East Dunbartonshire","East Lothian","East Renfrewshire","Edinburgh, City of","Falkirk","Fife","Glasgow City","Highland","Inverclyde","Midlothian","Moray","Na h-Eileanan Siar","North Ayrshire","North Lanarkshire","Orkney Islands","Perth & Kinross","Renfrewshire","Scottish Borders","Shetland Islands","South Ayrshire","South Lanarkshire","Stirling","West Dunbartonshire","West Lothian","Scotland"]
[null,"%","%","%","%","%","%","%","%","%","%","%","%","%","%","%","%","%","%","%","%","%","%","%","%","%","%","%","%","%","%","%","%","%"]
["Men"]
["Has a cardiovascular condition",15.638,17.260000000000002,"*","*","*","*","*",18.690999999999999,"*","*","*",12.58,"*",16.989999999999998,15.15,16.981000000000002,"*","*","*",14.704000000000001,22.128,16.829999999999998,17.489999999999998,"*","*","*",13.667999999999999,18.832000000000001,17.21,"*","*","*",16.47]
["Lower CI",11.503,13.99,"*","*","*","*","*",14.023,"*","*","*",9.83,"*",14.41,12.3,11.224,"*","*","*",11.083,17.623999999999999,12.53,13.048,"*","*","*",8.048,15.018000000000001,11.61,"*","*","*",15.55]
["Upper CI",19.771999999999998,20.52,"*","*","*","*","*",23.36,"*","*","*",15.33,"*",19.57,17.989999999999998,22.739000000000001,"*","*","*",18.324999999999999,26.632999999999999,21.14,21.933,"*","*","*",19.286999999999999,22.646999999999998,22.81,"*","*","*",17.39]
[]
["Women"]
["Has a cardiovascular condition",14.103,12.84,"*","*","*","*","*",16.73,"*","*","*",12.32,"*",17.489999999999998,16.78,14.483000000000001,"*","*","*",14.756,19.126000000000001,13.85,17.648,"*","*","*",12.843999999999999,21.483000000000001,11.79,"*","*","*",14.7]
["Lower CI",10.750999999999999,10.44,"*","*","*","*","*",12.988,"*","*","*",9.75,"*",15.21,14.06,10.840999999999999,"*","*","*",10.696,15.852,10.81,12.801,"*","*","*",8.7680000000000007,17.654,8.5500000000000007,"*","*","*",13.91]
["Upper CI",17.454000000000001,15.25,"*","*","*","*","*",20.471,"*","*","*",14.9,"*",19.77,19.5,18.125,"*","*","*",18.815999999999999,22.4,16.899999999999999,22.495000000000001,"*","*","*",16.920999999999999,25.312999999999999,15.02,"*","*","*",15.49]
[]
["All Adults"]
["Has a cardiovascular condition",14.831,14.98,"*","*","*","*","*",17.62,"*","*","*",12.46,"*",17.25,16.010000000000002,15.648999999999999,"*","*","*",14.73,20.553000000000001,15.24,17.57,"*","*","*",13.27,20.291,14.42,"*","*","*",15.55]
["Lower CI",11.88,12.95,"*","*","*","*","*",14.428000000000001,"*","*","*",10.49,"*",15.53,13.87,12.253,"*","*","*",12.057,17.614000000000001,12.57,14.186999999999999,"*","*","*",10.044,17.734000000000002,11.36,"*","*","*",14.91]
["Upper CI",17.782,17.010000000000002,"*","*","*","*","*",20.812000000000001,"*","*","*",14.42,"*",18.96,18.149999999999999,19.045999999999999,"*","*","*",17.402999999999999,23.492000000000001,17.91,20.952999999999999,"*","*","*",16.495999999999999,22.847999999999999,17.48,"*","*","*",16.18]
[]
["Bases (weighted):"]
["Men",364.43299999999999,441.84,192.61,165.798,76.662999999999997,262.10599999999999,260.44299999999998,202.578,196.393,177.209,143.898,916.64,267.75200000000001,619.4,970.19,375.65699999999998,130.626,111.71299999999999,171.55,48.445999999999998,228.68799999999999,609.26,38.664000000000001,225.547,262.11,183.602,41.939,174.858,585.54,155.99299999999999,134.17699999999999,330.149,9066.4699999999993]
["Women",403.964,470,214.28,157.80199999999999,87.908000000000001,275.46600000000001,283.56700000000001,243.60599999999999,190.55699999999999,197.648,160.61099999999999,850.16,272.99,663.33,1084.0899999999999,429.05200000000002,145.267,137.36699999999999,204.39400000000001,48.420999999999999,252.26300000000001,698.82,39.048000000000002,273.34899999999999,257.548,221.46100000000001,39.247999999999998,213.92099999999999,618.9,192.86,159.316,311.15800000000002,9798.3799999999992]
["All Adults",768.39700000000005,911.85,406.89,323.60000000000002,164.571,537.572,544.01,446.18299999999999,386.95,374.85599999999999,304.50900000000001,1766.8,540.74199999999996,1282.73,2054.2800000000002,804.70799999999997,275.89299999999997,249.08099999999999,375.94400000000002,96.867000000000004,480.95,1308.07,77.712999999999994,498.89600000000002,519.65800000000002,405.06299999999999,81.186000000000007,388.779,1204.45,348.85300000000001,293.49299999999999,641.30700000000002,18864.849999999999]
["Bases (unweighted)"]
["Men",426,517,134,116,48,221,159,318,150,104,114,591,160,902,657,239,99,71,190,387,344,343,233,178,186,199,247,286,357,100,98,172,8346]
["Women",540,624,163,136,66,258,193,413,179,128,145,662,197,1142,895,327,128,103,264,460,417,475,271,234,212,277,276,377,459,149,133,212,10515]
["All Adults",966,1141,297,252,114,479,352,731,329,232,259,1253,357,2044,1552,566,227,174,454,847,761,818,504,412,398,476,523,663,816,249,231,384,18861]

{"sheet":"CVD chart","index":27,"n_rows":40,"n_cols":18,"rows_kept":40,"cut":false,"hidden":false,"merged":[]}
[null,null,null,null,null,null,null,null,null,null,null,null,null,null,null,null,null,"INDEX"]
[]
[]
[]
[]
[]
[]
[]
[]
[]
[]
[]
[]
[]
[]
[]
[]
[]
[]
[]
[]
[]
[]
[]
[]
[]
[]
[]
[]
[]
[null,null,"Source: Scottish Health Survey"]
[]
[]
[null,null,"Aberdeen City","Aberdeenshire","East Ayrshire","Edinburgh, City of","Fife","Glasgow City","Highland","Na h-Eileanan Siar","North Ayrshire","North Lanarkshire","Orkney Islands","Shetland Islands","South Ayrshire","South Lanarkshire",null,"Scotland"]
[null,"All Adults"]
[null,"Has a cardiovascular condition",{"$f":"CVD!B19","v":14.831},{"$f":"CVD!C19","v":14.98},{"$f":"CVD!I19","v":17.62},{"$f":"CVD!M19","v":12.46},{"$f":"CVD!O19","v":17.25},{"$f":"CVD!P19","v":16.010000000000002},{"$f":"CVD!Q19","v":15.648999999999999},{"$f":"CVD!U19","v":14.73},{"$f":"CVD!V19","v":20.553000000000001},{"$f":"CVD!W19","v":15.24},{"$f":"CVD!X19","v":17.57},{"$f":"CVD!AB19","v":13.27},{"$f":"CVD!AC19","v":20.291},{"$f":"CVD!AD19","v":14.42},null,{"$f":"CVD!AH19","v":15.55}]
[null,"Lower CI",{"$f":"CVD!B20","v":11.88},{"$f":"CVD!C20","v":12.95},{"$f":"CVD!I20","v":14.428000000000001},{"$f":"CVD!M20","v":10.49},{"$f":"CVD!O20","v":15.53},{"$f":"CVD!P20","v":13.87},{"$f":"CVD!Q20","v":12.253},{"$f":"CVD!U20","v":12.057},{"$f":"CVD!V20","v":17.614000000000001},{"$f":"CVD!W20","v":12.57},{"$f":"CVD!X20","v":14.186999999999999},{"$f":"CVD!AB20","v":10.044},{"$f":"CVD!AC20","v":17.734000000000002},{"$f":"CVD!AD20","v":11.36},null,{"$f":"CVD!AH20","v":14.91}]
[null,"Upper CI",{"$f":"CVD!B21","v":17.782},{"$f":"CVD!C21","v":17.010000000000002},{"$f":"CVD!I21","v":20.812000000000001},{"$f":"CVD!M21","v":14.42},{"$f":"CVD!O21","v":18.96},{"$f":"CVD!P21","v":18.149999999999999},{"$f":"CVD!Q21","v":19.045999999999999},{"$f":"CVD!U21","v":17.402999999999999},{"$f":"CVD!V21","v":23.492000000000001},{"$f":"CVD!W21","v":17.91},{"$f":"CVD!X21","v":20.952999999999999},{"$f":"CVD!AB21","v":16.495999999999999},{"$f":"CVD!AC21","v":22.847999999999999},{"$f":"CVD!AD21","v":17.48},null,{"$f":"CVD!AH21","v":16.18}]
[]
["CLs",null,{"$f":"C36-C37","v":2.9509999999999987},2.0300000000000011,{"$f":"E36-E37","v":3.1920000000000002},{"$f":"F36-F37","v":1.9700000000000006},{"$f":"G36-G37","v":1.7200000000000006},{"$f":"H36-H37","v":2.1400000000000023},3.395999999999999,2.673,2.9390000000000001,2.67,3.3830000000000009,3.2259999999999991,2.5569999999999986,3.0600000000000005,null,{"$f":"R36-R37","v":0.64000000000000057}]