{"text_format":"1","workbook":"xlsx","n_sheets":41,"sheets":["INDEX","Summary By NHS Board","Self-assessed general health","SAH data","SAH chart","WEMWBS","wemwbs data","WEMWBS chart ","GHQ-12 scores","GHQ data","GHQ-12 chart","Long-term illness","limit data","Long-term illness chart","Alcohol guidelines","Alc guide data","Alcohol guidelines chart","Mean alcohol units","meanunit data","Mean units chart","Smoking behaviour","smk data","Smoking chart","Overweight","ovwt data","Overweight chart","Obesity","obesity data","Obesity chart","Fruit and vegetables","frtveg data","Fruit and veg chart","Mean fruit and vegetables","meanfrtveg data","Mean fruit and veg chart","Physical activity guidelines","PA data","Physical activity chart","CVD","CVD data","CVD chart"],"not_rendered":{"charts":26,"images":1,"macros":1,"external_links":0,"defined_names":46,"comments":0,"pivot_tables":0},"unopened":[],"bounds":{"document_bytes":16777216,"sheet_cells":100000,"rows_first":2000,"rows_last":500,"rows_between":2000,"halvings":0,"cell_chars":16384,"cell_head_chars":4096},"cells_cut":0,"cells_raw":0,"read":"whole","date_system":"1900"}

{"sheet":"INDEX","index":0,"n_rows":21,"n_cols":17,"rows_kept":21,"cut":false,"hidden":false,"merged":[[4,1,4,4],[17,1,17,4],[9,1,9,6],[11,1,11,4],[12,1,12,2],[14,1,14,6],[15,1,15,7],[16,1,16,2],[5,1,5,4],[6,1,6,4],[7,1,7,6],[8,1,8,3],[10,1,10,5]]}
[]
[null,"The Scottish Health Survey (SHeS)"]
[null,"Health board results 2013-2016"]
[]
[null,"Summary by NHS Board"]
[null,"Self-assessed general health",null,null,null,null,null,null,"CHART"]
[null,"WEMWBS mean scores",null,null,null,null,null,null,"CHART"]
[null,"General Health Questionnaire (GHQ-12) scores",null,null,null,null,null,null,"CHART"]
[null,"Long-term illness",null,null,null,null,null,null,"CHART"]
[null,"Alcohol consumption- weekly drinking guidelines",null,null,null,null,null,null,"CHART"]
[null,"Alcohol consumption- mean weekly units",null,null,null,null,null,null,"CHART"]
[null,"Smoking behaviour",null,null,null,null,null,null,"CHART"]
[null,"Overweight",null,null,null,null,null,null,"CHART"]
[null,"Obesity",null,null,null,null,null,null,"CHART"]
[null,"Fruit and vegetable consumption- by category",null,null,null,null,null,null,"CHART"]
[null,"Fruit and vegetable consumption- mean daily portions",null,null,null,null,null,null,"CHART"]
[null,"Physical activity",null,null,null,null,null,null,"CHART",null,null,null,null,null,null,null," "]
[null,"Cardiovascular (CVD) conditions",null,null,null,null,null,null,"CHART"]
[]
[null,"More information about these topics can be found in the latest Scottish Health Survey report:"]
[null,"http://www.gov.scot/Topics/Statistics/Browse/Health/scottish-health-survey"]

{"sheet":"Summary By NHS Board","index":1,"n_rows":196,"n_cols":29,"rows_kept":196,"cut":false,"hidden":false,"merged":[[13,12,13,13],[12,12,12,13],[11,12,11,13],[10,12,10,13],[6,8,6,13],[7,8,7,13],[21,8,21,13],[22,8,22,13],[17,8,17,9],[15,8,15,9],[16,8,16,9],[14,8,14,9],[9,12,9,13],[17,10,17,11],[16,10,16,11],[15,10,15,11],[14,10,14,11],[13,10,13,11],[12,10,12,11],[11,10,11,11],[10,10,10,11],[9,10,9,11],[8,10,8,11],[8,12,8,13],[17,12,17,13],[16,12,16,13],[15,12,15,13],[14,12,14,13],[25,10,25,11],[25,12,25,13],[26,10,26,11],[26,12,26,13],[27,10,27,11],[27,12,27,13],[23,10,23,11],[23,12,23,13],[24,10,24,11],[24,12,24,13],[32,12,32,13],[31,12,31,13],[32,10,32,11],[31,10,31,11],[28,10,28,11],[28,12,28,13],[29,10,29,11],[29,12,29,13],[30,10,30,11],[30,12,30,13],[32,26,32,27],[32,28,32,29],[32,23,32,25],[31,23,31,25],[30,23,30,25],[29,23,29,25],[29,26,29,27],[29,28,29,29],[30,26,30,27],[30,28,30,29],[31,26,31,27],[31,28,31,29],[7,23,7,28],[6,23,6,28],[10,25,10,26],[11,25,11,26],[11,27,11,28],[10,27,10,28],[28,23,28,25],[27,23,27,25],[26,23,26,25],[25,23,25,25],[24,23,24,25],[26,26,26,27],[26,28,26,29],[27,26,27,27],[27,28,27,29],[28,26,28,27],[28,28,28,29],[23,26,23,27],[23,28,23,29],[24,26,24,27],[24,28,24,29],[25,26,25,27],[25,28,25,29],[16,26,16,27],[9,27,9,28],[9,25,9,26],[8,25,8,26],[8,27,8,28],[11,23,11,24],[10,23,10,24],[9,23,9,24],[21,23,21,29],[22,23,22,29],[16,28,16,29],[17,26,17,27],[17,28,17,29],[13,26,13,27],[13,28,13,29],[14,26,14,27],[14,28,14,29],[15,26,15,27],[15,28,15,29],[12,26,12,27],[12,28,12,29],[32,8,32,9],[31,8,31,9],[30,8,30,9],[29,8,29,9],[28,8,28,9],[46,10,46,11],[46,12,46,13],[47,10,47,11],[47,12,47,13],[38,8,38,13],[46,8,46,9],[45,8,45,9],[44,8,44,9],[43,10,43,11],[43,12,43,13],[44,10,44,11],[44,12,44,13],[45,10,45,11],[45,12,45,13],[40,10,40,11],[40,12,40,13],[41,10,41,11],[41,12,41,13],[42,10,42,11],[27,8,27,9],[26,8,26,9],[25,8,25,9],[24,8,24,9],[13,8,13,9],[12,8,12,9],[11,8,11,9],[10,8,10,9],[9,8,9,9],[43,8,43,9],[42,8,42,9],[41,8,41,9],[40,8,40,9],[55,8,55,13],[54,8,54,13],[48,8,48,9],[47,8,47,9],[65,11,65,12],[64,11,64,12],[63,11,63,12],[62,11,62,12],[61,11,61,12],[60,11,60,12],[59,11,59,12],[58,11,58,12],[57,13,57,14],[57,11,57,12],[56,13,56,14],[48,10,48,11],[48,12,48,13],[42,12,42,13],[57,8,57,10],[60,8,60,10],[37,23,37,28],[38,23,38,28],[39,25,39,26],[56,11,56,12],[65,13,65,14],[64,13,64,14],[63,13,63,14],[62,13,62,14],[61,13,61,14],[60,13,60,14],[59,13,59,14],[58,13,58,14],[37,8,37,13],[39,10,39,11],[39,12,39,13],[39,27,39,28],[40,23,40,24],[40,25,40,26],[40,27,40,28],[41,23,41,24],[41,25,41,26],[41,27,41,28],[42,23,42,24],[42,25,42,26],[42,27,42,28],[58,23,58,24],[59,23,59,24],[54,23,54,28],[55,23,55,28],[56,28,56,29],[56,26,56,27],[59,28,59,29],[58,28,58,29],[57,28,57,29],[59,26,59,27],[58,26,58,27],[57,26,57,27],[57,23,57,25],[74,8,74,9],[74,10,74,11],[74,12,74,13],[75,8,75,9],[75,10,75,11],[75,12,75,13],[70,8,70,13],[71,8,71,13],[72,10,72,11],[72,12,72,13],[73,8,73,9],[73,10,73,11],[73,12,73,13],[90,8,90,9],[90,10,90,11],[90,12,90,13],[91,8,91,9],[91,10,91,11],[91,12,91,13],[86,8,86,13],[87,8,87,13],[88,10,88,11],[88,12,88,13],[89,8,89,9],[89,10,89,11],[89,12,89,13],[74,23,74,24],[74,25,74,26],[74,27,74,28],[75,23,75,24],[75,25,75,26],[75,27,75,28],[70,23,70,28],[71,23,71,28],[72,25,72,26],[72,27,72,28],[73,23,73,24],[73,25,73,26],[73,27,73,28],[78,23,78,24],[78,25,78,26],[78,27,78,28],[79,23,79,24],[79,25,79,26],[79,27,79,28],[76,23,76,24],[76,25,76,26],[76,27,76,28],[77,23,77,24],[77,25,77,26],[77,27,77,28],[87,23,87,28],[89,25,89,26],[89,27,89,28],[90,23,90,24],[90,25,90,26],[90,27,90,28],[80,23,80,24],[80,25,80,26],[80,27,80,28],[81,23,81,24],[81,25,81,26],[81,27,81,28],[93,23,93,24],[93,25,93,26],[93,27,93,28],[94,23,94,24],[94,25,94,26],[94,27,94,28],[91,23,91,24],[91,25,91,26],[91,27,91,28],[92,23,92,24],[92,25,92,26],[92,27,92,28],[100,25,100,26],[99,27,99,28],[99,25,99,26],[103,8,103,13],[104,8,104,13],[86,23,86,28],[88,25,88,26],[88,27,88,28],[89,23,89,24],[100,23,100,24],[99,23,99,24],[100,27,100,28],[97,23,97,24],[97,25,97,26],[97,27,97,28],[98,23,98,24],[98,25,98,26],[98,27,98,28],[95,23,95,24],[95,25,95,26],[95,27,95,28],[96,23,96,24],[96,25,96,26],[96,27,96,28],[106,13,106,14],[108,11,108,12],[107,11,107,12],[106,11,106,12],[105,13,105,14],[105,11,105,12],[108,13,108,14],[107,13,107,14],[108,8,108,10],[107,8,107,10],[106,8,106,10]]}
[]
[null,"Choose an NHS Board to update charts and compare against overall Scotland figures"]
[]
[]
[]
[]
[null,null,null,null,null,null,null,null,"Self-assessed general health ",null,null,null,null,null,null,null,null,null,null,null,null,null,null,"WEMWBS mean scores"]
[null,null,null,null,null,null,null,null,"All adults, 2013-2016 combined",null,null,null,null,null,null,null,null,null,null,null,null,null,null,"All adults, 2013-2016 combined"]
[null,null,null,null,null,null,null,null,null,null,"Scotland",null,{"$f":"$A$128","v":"Ayrshire & Arran "},null,null,null,null,null,null,null,null,null,null,null,null,"Scotland",null,{"$f":"$A$128","v":"Ayrshire & Arran "}]
[null,null,null,null,null,null,null,null,{"$f":"'SAH chart'!B36","v":"Very good/good"},null,{"$f":"'SAH chart'!R36","v":73.78},null,{"$f":"D130","v":69.69},null,null,null,null,null,null,null,null,null,null,{"$f":"F130","v":"Mean"},null,{"$f":"G130","v":49.94},null,{"$f":"H130","v":49.19}]
[null,null,null,null,null,null,null,null,{"$f":"'SAH chart'!B37","v":"Lower CI"},null,{"$f":"'SAH chart'!R37","v":72.900000000000006},null,{"$f":"D131","v":66.84},null,null,null,null,null,null,null,null,null,null,{"$f":"F131","v":"Lower CI"},null,{"$f":"G131","v":49.76},null,{"$f":"H131","v":48.72}]
[null,null,null,null,null,null,null,null,{"$f":"'SAH chart'!B38","v":"Upper CI"},null,{"$f":"'SAH chart'!R38","v":74.66},null,{"$f":"D132","v":72.55},null,null,null,null,null,null,null,null,null,null,{"$f":"F132","v":"Upper CI"},null,{"$f":"G132","v":50.12},null,{"$f":"H132","v":49.67}]
[null,null,null,null,null,null,null,null,{"$f":"'SAH chart'!B39","v":"Fair"},null,{"$f":"'SAH chart'!R39","v":17.97},null,20.14]
[null,null,null,null,null,null,null,null,{"$f":"'SAH chart'!B40","v":"Lower CI"},null,{"$f":"'SAH chart'!R40","v":17.28},null,17.690000000000001]
[null,null,null,null,null,null,null,null,{"$f":"'SAH chart'!B41","v":"Upper CI"},null,{"$f":"'SAH chart'!R41","v":18.649999999999999},null,22.6]
[null,null,null,null,null,null,null,null,{"$f":"'SAH chart'!B42","v":"Bad/very bad"},null,{"$f":"'SAH chart'!R42","v":8.25},null,10.17]
[null,null,null,null,null,null,null,null,{"$f":"'SAH chart'!B43","v":"Lower CI"},null,{"$f":"'SAH chart'!R43","v":7.75},null,8.84]
[null,null,null,null,null,null,null,null,{"$f":"'SAH chart'!B44","v":"Upper CI"},null,{"$f":"'SAH chart'!R44","v":8.76},null,11.5]
[]
[]
[]
[null,null,null,null,null,null,null,null,"GHQ-12 scores\n",null,null,null,null,null,null,null,null,null,null,null,null,null,null,"Long-term illness"]
[null,null,null,null,null,null,null,null,"All adults, 2013-2016 combined",null,null,null,null,null,null,null,null,null,null,null,null,null,null,"All adults, 2013-2016 combined"]
[null,null,null,null,null,null,null,null,null,null,"Scotland",null,{"$f":"$A$128","v":"Ayrshire & Arran "},null,null,null,null,null,null,null,null,null,null,null,null,null,"Scotland",null,{"$f":"$A$128","v":"Ayrshire & Arran "}]
[null,null,null,null,null,null,null,null,{"$f":"J130","v":"Score 0"},null,{"$f":"K130","v":60.64},null,{"$f":"L130","v":60.95},null,null,null,null,null,null,null,null,null,null,{"$f":"B147","v":"Limiting long-term illness"},null,null,{"$f":"C147","v":31.77},null,{"$f":"D147","v":44.41}]
[null,null,null,null,null,null,null,null,{"$f":"J131","v":"Lower CI"},null,{"$f":"K131","v":59.63},null,{"$f":"L131","v":58.46},null,null,null,null,null,null,null,null,null,null,"Lower CI",null,null,{"$f":"C148","v":30.82},null,{"$f":"D148","v":41.11}]
[null,null,null,null,null,null,null,null,"Upper CI",null,{"$f":"K132","v":61.64},null,{"$f":"L132","v":63.44},null,null,null,null,null,null,null,null,null,null,"Upper CI",null,null,{"$f":"C149","v":32.72},null,{"$f":"D149","v":47.71}]
[null,null,null,null,null,null,null,null,"Score 1-3",null,{"$f":"K133","v":23.86},null,{"$f":"L133","v":22.62},null,null,null,null,null,null,null,null,null,null,"Non-limiting long-term illness",null,null,14.03,null,9.92]
[null,null,null,null,null,null,null,null,"Lower CI",null,23,null,20.82,null,null,null,null,null,null,null,null,null,null,"Lower CI",null,null,13.37,null,8.57]
[null,null,null,null,null,null,null,null,"Upper CI",null,24.71,null,24.43,null,null,null,null,null,null,null,null,null,null,"Upper CI",null,null,14.68,null,11.27]
[null,null,null,null,null,null,null,null,"Score 4+",null,15.51,null,16.43,null,null,null,null,null,null,null,null,null,null,"No long-term illness",null,null,54.2,null,45.67]
[null,null,null,null,null,null,null,null,"Lower CI",null,14.81,null,14.46,null,null,null,null,null,null,null,null,null,null,"Lower CI",null,null,53.19,null,42.71]
[null,null,null,null,null,null,null,null,"Upper CI",null,16.2,null,18.39,null,null,null,null,null,null,null,null,null,null,"Upper CI",null,null,55.21,null,48.63]
[]
[]
[]
[]
[null,null,null,null,null,null,null,null,"Adherence to weekly drinking advice",null,null,null,null,null,null,null,null,null,null,null,null,null,null,"Weekly mean alcohol units"]
[null,null,null,null,null,null,null,null,"All adults, 2013-2016 combined",null,null,null,null,null,null,null,null,null,null,null,null,null,null,"All adults, 2013-2016 combined"]
[null,null,null,null,null,null,null,null,null,null,"Scotland",null,{"$f":"$A$128","v":"Ayrshire & Arran "},null,null,null,null,null,null,null,null,null,null,null,null,"Scotland",null,{"$f":"$A$128","v":"Ayrshire & Arran "}]
[null,null,null,null,null,null,null,null,{"$f":"F147","v":"Non drinker"},null,{"$f":"G147","v":16.11},null,{"$f":"H147","v":16.14},null,null,null,null,null,null,null,null,null,null,{"$f":"J147","v":"Weekly mean units"},null,{"$f":"K147","v":12.57},null,{"$f":"L147","v":13.58}]
[null,null,null,null,null,null,null,null,{"$f":"F148","v":"Lower CI"},null,{"$f":"G148","v":15.35},null,{"$f":"H148","v":14.12},null,null,null,null,null,null,null,null,null,null,{"$f":"J148","v":"Lower CI"},null,{"$f":"K148","v":12.2},null,{"$f":"L148","v":12.45}]
[null,null,null,null,null,null,null,null,{"$f":"F149","v":"Upper CI"},null,{"$f":"G149","v":16.86},null,{"$f":"H149","v":18.170000000000002},null,null,null,null,null,null,null,null,null,null,"Upper CI",null,12.94,null,14.71]
[null,null,null,null,null,null,null,null,"Moderate",null,58.56,null,57.96]
[null,null,null,null,null,null,null,null,"Lower CI",null,57.62,null,55.61]
[null,null,null,null,null,null,null,null,"Upper CI",null,59.51,null,60.32]
[null,null,null,null,null,null,null,null,"Hazardous/harmful",null,25.33,null,25.89]
[null,null,null,null,null,null,null,null,"Lower CI",null,24.47,null,23.78]
[null,null,null,null,null,null,null,null,"Upper CI",null,26.19,null,28.01]
[]
[]
[]
[]
[]
[null,null,null,null,null,null,null,null,"Smoking behaviour",null,null,null,null,null,null,null,null,null,null,null,null,null,null,"Prevalence of overweight (including obesity)"]
[null,null,null,null,null,null,null,null,"All adults, 2013-2016 combined",null,null,null,null,null,null,null,null,null,null,null,null,null,null,"All adults, 2013-2016 combined"]
[null,null,null,null,null,null,null,null,null,null,null,"Scotland",null,{"$f":"$A$128","v":"Ayrshire & Arran "},null,null,null,null,null,null,null,null,null,null,null,null,"Scotland",null,{"$f":"$A$128","v":"Ayrshire & Arran "}]
[null,null,null,null,null,null,null,null,{"$f":"B163","v":"Never smoked, or ex-occasional"},null,null,{"$f":"C163","v":54.55},null,{"$f":"D163","v":52.98},null,null,null,null,null,null,null,null,null,{"$f":"F163","v":"Overweight (including obese)"},null,null,{"$f":"G163","v":64.87},null,{"$f":"H163","v":70.010000000000005}]
[null,null,null,null,null,null,null,null,{"$f":"B164","v":"Lower CI"},null,null,{"$f":"C164","v":53.5},null,{"$f":"D164","v":50.42},null,null,null,null,null,null,null,null,null,{"$f":"F164","v":"Lower CI"},null,null,{"$f":"G164","v":63.8},null,{"$f":"H164","v":67.849999999999994}]
[null,null,null,null,null,null,null,null,"Upper CI",null,null,{"$f":"C165","v":55.59},null,{"$f":"D165","v":55.54},null,null,null,null,null,null,null,null,null,"Upper CI",null,null,{"$f":"G165","v":65.930000000000007},null,{"$f":"H165","v":72.17}]
[null,null,null,null,null,null,null,null,"Ex-regular smoker, or occasional",null,null,24.21,null,25.57]
[null,null,null,null,null,null,null,null,"Lower CI",null,null,23.43,null,23.56]
[null,null,null,null,null,null,null,null,"Upper CI",null,null,24.98,null,27.58]
[null,null,null,null,null,null,null,null,"Regular smoker",null,null,21.25,null,21.45]
[null,null,null,null,null,null,null,null,"Lower CI",null,null,20.399999999999999,null,19.46]
[null,null,null,null,null,null,null,null,"Upper CI",null,null,22.1,null,23.44]
[]
[]
[]
[]
[null,null,null,null,null,null,null,null,"Prevalence of obesity",null,null,null,null,null,null,null,null,null,null,null,null,null,null,"Daily fruit and vegetable consumption"]
[null,null,null,null,null,null,null,null,"All adults, 2013-2016 combined",null,null,null,null,null,null,null,null,null,null,null,null,null,null,"All adults, 2013-2016 combined"]
[null,null,null,null,null,null,null,null,null,null,"Scotland",null,{"$f":"$A$128","v":"Ayrshire & Arran "},null,null,null,null,null,null,null,null,null,null,null,null,"Scotland",null,{"$f":"$A$128","v":"Ayrshire & Arran "}]
[null,null,null,null,null,null,null,null,{"$f":"F172","v":"Obese"},null,{"$f":"G172","v":28.32},null,{"$f":"H172","v":33.53},null,null,null,null,null,null,null,null,null,null,{"$f":"J163","v":"None"},null,{"$f":"K163","v":10.52},null,{"$f":"L163","v":12.92}]
[null,null,null,null,null,null,null,null,{"$f":"F173","v":"Lower CI"},null,{"$f":"G173","v":27.43},null,{"$f":"H173","v":31.26},null,null,null,null,null,null,null,null,null,null,{"$f":"J164","v":"Lower CI"},null,{"$f":"K164","v":9.86},null,{"$f":"L164","v":11.23}]
[null,null,null,null,null,null,null,null,"Upper CI",null,29.2,null,35.81,null,null,null,null,null,null,null,null,null,null,"Upper CI",null,{"$f":"K165","v":11.19},null,{"$f":"L165","v":14.62}]
[null,null,null,null,null,null,null,null,null,null,null,null,null,null,null,null,null,null,null,null,null,null,null,"Less than 5 portions",null,68.73,null,71.91]
[null,null,null,null,null,null,null,null,null,null,null,null,null,null,null,null,null,null,null,null,null,null,null,"Lower CI",null,67.84,null,69.59]
[null,null,null,null,null,null,null,null,null,null,null,null,null,null,null,null,null,null,null,null,null,null,null,"Upper CI",null,69.63,null,74.239999999999995]
[null,null,null,null,null,null,null,null,null,null,null,null,null,null,null,null,null,null,null,null,null,null,null,"5 portions or more",null,20.74,null,15.16]
[null,null,null,null,null,null,null,null,null,null,null,null,null,null,null,null,null,null,null,null,null,null,null,"Lower CI",null,19.920000000000002,null,13.21]
[null,null,null,null,null,null,null,null,null,null,null,null,null,null,null,null,null,null,null,null,null,null,null,"Upper CI",null,21.57,null,17.12]
[]
[]
[]
[]
[null,null,null,null,null,null,null,null,"Mean daily portions of fruit and vegetables",null,null,null,null,null,null,null,null,null,null,null,null,null,null,"Physical activity"]
[null,null,null,null,null,null,null,null,"All adults, 2013-2016 combined",null,null,null,null,null,null,null,null,null,null,null,null,null,null,"All adults, 2013-2016 combined"]
[null,null,null,null,null,null,null,null,null,null,"Scotland",null,{"$f":"$A$128","v":"Ayrshire & Arran "},null,null,null,null,null,null,null,null,null,null,null,null,"Scotland",null,{"$f":"$A$128","v":"Ayrshire & Arran "}]
[null,null,null,null,null,null,null,null,{"$f":"B180","v":"Mean"},null,{"$f":"C180","v":3.14},null,{"$f":"D180","v":2.73},null,null,null,null,null,null,null,null,null,null,{"$f":"F180","v":"Meets guidelines"},null,{"$f":"G180","v":63.5},null,{"$f":"H180","v":59.87}]
[null,null,null,null,null,null,null,null,{"$f":"B181","v":"Lower CI"},null,{"$f":"C181","v":3.09},null,{"$f":"D181","v":2.59},null,null,null,null,null,null,null,null,null,null,{"$f":"F181","v":"Lower CI"},null,{"$f":"G181","v":62.51},null,{"$f":"H181","v":57.29}]
[null,null,null,null,null,null,null,null,{"$f":"B182","v":"Upper CI"},null,{"$f":"C182","v":3.2},null,{"$f":"D182","v":2.88},null,null,null,null,null,null,null,null,null,null,"Upper CI",null,{"$f":"G182","v":64.5},null,{"$f":"H182","v":62.44}]
[null,null,null,null,null,null,null,null,null,null,null,null,null,null,null,null,null,null,null,null,null,null,null,"Some activity",null,11.13,null,10.73]
[null,null,null,null,null,null,null,null,null,null,null,null,null,null,null,null,null,null,null,null,null,null,null,"Lower CI",null,10.56,null,9.1]
[null,null,null,null,null,null,null,null,null,null,null,null,null,null,null,null,null,null,null,null,null,null,null,"Upper CI",null,11.7,null,12.35]
[null,null,null,null,null,null,null,null,null,null,null,null,null,null,null,null,null,null,null,null,null,null,null,"Low activity",null,4.33,null,3.82]
[null,null,null,null,null,null,null,null,null,null,null,null,null,null,null,null,null,null,null,null,null,null,null,"Lower CI",null,3.99,null,2.96]
[null,null,null,null,null,null,null,null,null,null,null,null,null,null,null,null,null,null,null,null,null,null,null,"Upper CI",null,4.68,null,4.68]
[null,null,null,null,null,null,null,null,null,null,null,null,null,null,null,null,null,null,null,null,null,null,null,"Very low activity",null,21.03,null,25.59]
[null,null,null,null,null,null,null,null,null,null,null,null,null,null,null,null,null,null,null,null,null,null,null,"Lower CI",null,20.23,null,23.42]
[null,null,null,null,null,null,null,null,null,null,null,null,null,null,null,null,null,null,null,null,null,null,null,"Upper CI",null,21.84,null,27.76]
[]
[]
[null,null,null,null,null,null,null,null,"Prevalence of cardiovascular (CVD) conditions"]
[null,null,null,null,null,null,null,null,"All adults, 2013-2016 combined"]
[null,null,null,null,null,null,null,null,null,null,null,"Scotland",null,{"$f":"$A$128","v":"Ayrshire & Arran "}]
[null,null,null,null,null,null,null,null,{"$f":"J180","v":"Has a cardiovascular condition"},null,null,{"$f":"K180","v":15.55},null,{"$f":"L180","v":19.48}]
[null,null,null,null,null,null,null,null,{"$f":"J181","v":"Lower CI"},null,null,{"$f":"K181","v":14.91},null,{"$f":"L181","v":17.75}]
[null,null,null,null,null,null,null,null,"Upper CI",null,null,16.18,null,21.21]
[]
[]
[]
[]
[]
[]
[]
[]
[]
[]
[]
[]
[]
[]
[]
[]
[]
[]
["Ayrshire & Arran ",null,"Scotland",{"$f":"A128","v":"Ayrshire & Arran "},null,null,"Scotland",{"$f":"A128","v":"Ayrshire & Arran "},null,null,"Scotland",{"$f":"A128","v":"Ayrshire & Arran "}]
["Ayrshire & Arran ","SAH",null,null,null,"WEMWBS",null,null,null,"GHQ-12"]
["Borders","Very good/good",{"$f":"'SAH chart'!R36","v":73.78},{"$f":"INDEX('SAH chart'!$C$34:$P$48, 3, MATCH('Summary By NHS Board'!$A$128,'SAH chart'!$C$34:$P$34, 0))","v":69.69},null,"Mean",{"$f":"'WEMWBS chart '!R36","v":49.94},{"$f":"INDEX('WEMWBS chart '!$C$34:$P$40, 3, MATCH('Summary By NHS Board'!$H$128, 'WEMWBS chart '!$C$34:$P$34, 0))","v":49.19},null,"Score 0",{"$f":"'GHQ-12 chart'!R36","v":60.64},{"$f":"INDEX('GHQ-12 chart'!$C$34:$P$48, 3, MATCH('Summary By NHS Board'!$L$128, 'GHQ-12 chart'!$C$34:$P$34, 0))","v":60.95}]
["Dumfries & Galloway","Lower CI",{"$f":"'SAH chart'!R37","v":72.900000000000006},{"$f":"INDEX('SAH chart'!$C$34:$P$48, 4, MATCH('Summary By NHS Board'!$A$128,'SAH chart'!$C$34:$P$34, 0))","v":66.84},null,"Lower CI",{"$f":"'WEMWBS chart '!R37","v":49.76},{"$f":"INDEX('WEMWBS chart '!$C$34:$P$40, 4, MATCH('Summary By NHS Board'!$H$128, 'WEMWBS chart '!$C$34:$P$34, 0))","v":48.72},null,"Lower CI",{"$f":"'GHQ-12 chart'!R37","v":59.63},{"$f":"INDEX('GHQ-12 chart'!$C$34:$P$48, 4, MATCH('Summary By NHS Board'!$L$128, 'GHQ-12 chart'!$C$34:$P$34, 0))","v":58.46}]
["Fife","Upper CI",{"$f":"'SAH chart'!R38","v":74.66},{"$f":"INDEX('SAH chart'!$C$34:$P$48, 5, MATCH('Summary By NHS Board'!$A$128,'SAH chart'!$C$34:$P$34, 0))","v":72.55},null,"Upper CI",{"$f":"'WEMWBS chart '!R38","v":50.12},{"$f":"INDEX('WEMWBS chart '!$C$34:$P$40, 5, MATCH('Summary By NHS Board'!$H$128, 'WEMWBS chart '!$C$34:$P$34, 0))","v":49.67},null,"Upper CI",{"$f":"'GHQ-12 chart'!R38","v":61.64},{"$f":"INDEX('GHQ-12 chart'!$C$34:$P$48, 5, MATCH('Summary By NHS Board'!$L$128, 'GHQ-12 chart'!$C$34:$P$34, 0))","v":63.44}]
["Forth Valley","Fair",{"$f":"'SAH chart'!R39","v":17.97},{"$f":"INDEX('SAH chart'!$C$34:$P$48, 6, MATCH('Summary By NHS Board'!$A$128,'SAH chart'!$C$34:$P$34, 0))","v":20.14},null,null,null,null,null,"Score 1-3",{"$f":"'GHQ-12 chart'!R39","v":23.86},{"$f":"INDEX('GHQ-12 chart'!$C$34:$P$48, 6, MATCH('Summary By NHS Board'!$L$128, 'GHQ-12 chart'!$C$34:$P$34, 0))","v":22.62}]
["Grampian","Lower CI",{"$f":"'SAH chart'!R40","v":17.28},{"$f":"INDEX('SAH chart'!$C$34:$P$48, 7, MATCH('Summary By NHS Board'!$A$128,'SAH chart'!$C$34:$P$34, 0))","v":17.690000000000001},null,"CLS",{"$f":"G130-G131","v":0.17999999999999972},{"$f":"INDEX('WEMWBS chart '!$C$34:$P$40, 7, MATCH('Summary By NHS Board'!$H$128, 'WEMWBS chart '!$C$34:$P$34, 0))","v":0.46999999999999886},null,"Lower CI",{"$f":"'GHQ-12 chart'!R40","v":23},{"$f":"INDEX('GHQ-12 chart'!$C$34:$P$48, 7, MATCH('Summary By NHS Board'!$L$128, 'GHQ-12 chart'!$C$34:$P$34, 0))","v":20.82}]
["Greater Glasgow & Clyde","Upper CI",{"$f":"'SAH chart'!R41","v":18.649999999999999},{"$f":"INDEX('SAH chart'!$C$34:$P$48, 8, MATCH('Summary By NHS Board'!$A$128,'SAH chart'!$C$34:$P$34, 0))","v":22.6},null,null,null,null,null,"Upper CI",{"$f":"'GHQ-12 chart'!R41","v":24.71},{"$f":"INDEX('GHQ-12 chart'!$C$34:$P$48, 8, MATCH('Summary By NHS Board'!$L$128, 'GHQ-12 chart'!$C$34:$P$34, 0))","v":24.43}]
["Highland","Bad/very bad",{"$f":"'SAH chart'!R42","v":8.25},{"$f":"INDEX('SAH chart'!$C$34:$P$48, 9, MATCH('Summary By NHS Board'!$A$128,'SAH chart'!$C$34:$P$34, 0))","v":10.17},null,null,null,null,null,"Score 4+",{"$f":"'GHQ-12 chart'!R42","v":15.51},{"$f":"INDEX('GHQ-12 chart'!$C$34:$P$48, 9, MATCH('Summary By NHS Board'!$L$128, 'GHQ-12 chart'!$C$34:$P$34, 0))","v":16.43}]
["Lanarkshire","Lower CI",{"$f":"'SAH chart'!R43","v":7.75},{"$f":"INDEX('SAH chart'!$C$34:$P$48, 10, MATCH('Summary By NHS Board'!$A$128,'SAH chart'!$C$34:$P$34, 0))","v":8.84},null,null,null,null,null,"Lower CI",{"$f":"'GHQ-12 chart'!R43","v":14.81},{"$f":"INDEX('GHQ-12 chart'!$C$34:$P$48, 10, MATCH('Summary By NHS Board'!$L$128, 'GHQ-12 chart'!$C$34:$P$34, 0))","v":14.46}]
["Lothian","Upper CI",{"$f":"'SAH chart'!R44","v":8.76},{"$f":"INDEX('SAH chart'!$C$34:$P$48, 11, MATCH('Summary By NHS Board'!$A$128,'SAH chart'!$C$34:$P$34, 0))","v":11.5},null,null,null,null,null,"Upper CI",{"$f":"'GHQ-12 chart'!R44","v":16.2},{"$f":"INDEX('GHQ-12 chart'!$C$34:$P$48, 11, MATCH('Summary By NHS Board'!$L$128, 'GHQ-12 chart'!$C$34:$P$34, 0))","v":18.39}]
["Orkney",null,null,{"$f":"INDEX('SAH chart'!$C$34:$P$48, 12, MATCH('Summary By NHS Board'!$A$128,'SAH chart'!$C$34:$P$34, 0))","v":0}]
["Shetland","Very good",{"$f":"'SAH chart'!R46","v":0.87999999999999545},{"$f":"INDEX('SAH chart'!$C$34:$P$48, 13, MATCH('Summary By NHS Board'!$A$128,'SAH chart'!$C$34:$P$34, 0))","v":2.8499999999999943},null,null,null,null,null,"Score 0",{"$f":"K130-K131","v":1.009999999999998},{"$f":"INDEX('GHQ-12 chart'!$C$34:$P$48, 13, MATCH('Summary By NHS Board'!$L$128, 'GHQ-12 chart'!$C$34:$P$34, 0))","v":2.490000000000002}]
["Tayside","Fair",{"$f":"'SAH chart'!R47","v":0.68999999999999773},{"$f":"INDEX('SAH chart'!$C$34:$P$48, 14, MATCH('Summary By NHS Board'!$A$128,'SAH chart'!$C$34:$P$34, 0))","v":2.4499999999999993},null,null,null,null,null,"Score 1-3",{"$f":"K133-K134","v":0.85999999999999943},{"$f":"INDEX('GHQ-12 chart'!$C$34:$P$48, 14, MATCH('Summary By NHS Board'!$L$128, 'GHQ-12 chart'!$C$34:$P$34, 0))","v":1.8000000000000007}]
["Western Isles","Bad/ very bad",{"$f":"'SAH chart'!R48","v":0.5},{"$f":"INDEX('SAH chart'!$C$34:$P$48, 15, MATCH('Summary By NHS Board'!$A$128,'SAH chart'!$C$34:$P$34, 0))","v":1.33},null,null,null,null,null,"Score 4+",{"$f":"K136-K137","v":0.69999999999999929},{"$f":"INDEX('GHQ-12 chart'!$C$34:$P$48, 15, MATCH('Summary By NHS Board'!$L$128, 'GHQ-12 chart'!$C$34:$P$34, 0))","v":1.9699999999999989}]
[]
[null,null,"Scotland",{"$f":"A128","v":"Ayrshire & Arran "},null,null,"Scotland",{"$f":"A128","v":"Ayrshire & Arran "},null,null,"Scotland",{"$f":"A128","v":"Ayrshire & Arran "}]
[null,"Longterm illness",null,null,null,"Alcohol guidelines",null,null,null,"Mean units"]
[null,"All Adults"]
[null,"Limiting long-term illness",{"$f":"'Long-term illness chart'!R36","v":31.77},{"$f":"INDEX( 'Long-term illness chart'!$C$34:$P$48, 3, MATCH('Summary By NHS Board'!$D$144, 'Long-term illness chart'!$C$34:$P$34, 0 ))","v":44.41},null,"Non drinker",{"$f":"'Alcohol guidelines chart'!R34","v":16.11},{"$f":"INDEX('Alcohol guidelines chart'!$C$32:$P$46, 3, MATCH('Summary By NHS Board'!$H$144, 'Alcohol guidelines chart'!$C$32:$P$32, 0))","v":16.14},null,"Weekly mean units",{"$f":"'Mean units chart'!R36","v":12.57},{"$f":"INDEX('Mean units chart'!$C$34:$P$40,3,MATCH('Summary By NHS Board'!$L$144,'Mean units chart'!$C$34:$P$34,0))","v":13.58}]
[null,"Lower CI",{"$f":"'Long-term illness chart'!R37","v":30.82},{"$f":"INDEX( 'Long-term illness chart'!$C$34:$P$48, 4, MATCH('Summary By NHS Board'!$D$144, 'Long-term illness chart'!$C$34:$P$34, 0 ))","v":41.11},null,"Lower CI",{"$f":"'Alcohol guidelines chart'!R35","v":15.35},{"$f":"INDEX('Alcohol guidelines chart'!$C$32:$P$46, 4, MATCH('Summary By NHS Board'!$H$144, 'Alcohol guidelines chart'!$C$32:$P$32, 0))","v":14.12},null,"Lower CI",{"$f":"'Mean units chart'!R37","v":12.2},{"$f":"INDEX('Mean units chart'!$C$34:$P$40,4,MATCH('Summary By NHS Board'!$L$144,'Mean units chart'!$C$34:$P$34,0))","v":12.45}]
[null,"Upper CI",{"$f":"'Long-term illness chart'!R38","v":32.72},{"$f":"INDEX( 'Long-term illness chart'!$C$34:$P$48, 5, MATCH('Summary By NHS Board'!$D$144, 'Long-term illness chart'!$C$34:$P$34, 0 ))","v":47.71},null,"Upper CI",{"$f":"'Alcohol guidelines chart'!R36","v":16.86},{"$f":"INDEX('Alcohol guidelines chart'!$C$32:$P$46, 5, MATCH('Summary By NHS Board'!$H$144, 'Alcohol guidelines chart'!$C$32:$P$32, 0))","v":18.170000000000002},null,"Upper CI",{"$f":"'Mean units chart'!R38","v":12.94},{"$f":"INDEX('Mean units chart'!$C$34:$P$40,5,MATCH('Summary By NHS Board'!$L$144,'Mean units chart'!$C$34:$P$34,0))","v":14.71}]
[null,"Non-limiting long-term illness",{"$f":"'Long-term illness chart'!R39","v":14.03},{"$f":"INDEX( 'Long-term illness chart'!$C$34:$P$48, 6, MATCH('Summary By NHS Board'!$D$144, 'Long-term illness chart'!$C$34:$P$34, 0 ))","v":9.92},null,"Moderate",{"$f":"'Alcohol guidelines chart'!R37","v":58.56},{"$f":"INDEX('Alcohol guidelines chart'!$C$32:$P$46, 6, MATCH('Summary By NHS Board'!$H$144, 'Alcohol guidelines chart'!$C$32:$P$32, 0))","v":57.96}]
[null,"Lower CI",{"$f":"'Long-term illness chart'!R40","v":13.37},{"$f":"INDEX( 'Long-term illness chart'!$C$34:$P$48, 7, MATCH('Summary By NHS Board'!$D$144, 'Long-term illness chart'!$C$34:$P$34, 0 ))","v":8.57},null,"Lower CI",{"$f":"'Alcohol guidelines chart'!R38","v":57.62},{"$f":"INDEX('Alcohol guidelines chart'!$C$32:$P$46, 7, MATCH('Summary By NHS Board'!$H$144, 'Alcohol guidelines chart'!$C$32:$P$32, 0))","v":55.61},null,"CLs",{"$f":"K147-K148","v":0.37000000000000099},{"$f":"INDEX('Mean units chart'!$C$34:$P$40,7,MATCH('Summary By NHS Board'!$L$144,'Mean units chart'!$C$34:$P$34,0))","v":1.1300000000000008}]
[null,"Upper CI",{"$f":"'Long-term illness chart'!R41","v":14.68},{"$f":"INDEX( 'Long-term illness chart'!$C$34:$P$48, 8, MATCH('Summary By NHS Board'!$D$144, 'Long-term illness chart'!$C$34:$P$34, 0 ))","v":11.27},null,"Upper CI",{"$f":"'Alcohol guidelines chart'!R39","v":59.51},{"$f":"INDEX('Alcohol guidelines chart'!$C$32:$P$46, 8, MATCH('Summary By NHS Board'!$H$144, 'Alcohol guidelines chart'!$C$32:$P$32, 0))","v":60.32}]
[null,"No long-term illness",{"$f":"'Long-term illness chart'!R42","v":54.2},{"$f":"INDEX( 'Long-term illness chart'!$C$34:$P$48, 9, MATCH('Summary By NHS Board'!$D$144, 'Long-term illness chart'!$C$34:$P$34, 0 ))","v":45.67},null,"Hazardous/harmful",{"$f":"'Alcohol guidelines chart'!R40","v":25.33},{"$f":"INDEX('Alcohol guidelines chart'!$C$32:$P$46, 9, MATCH('Summary By NHS Board'!$H$144, 'Alcohol guidelines chart'!$C$32:$P$32, 0))","v":25.89}]
[null,"Lower CI",{"$f":"'Long-term illness chart'!R43","v":53.19},{"$f":"INDEX( 'Long-term illness chart'!$C$34:$P$48, 10, MATCH('Summary By NHS Board'!$D$144, 'Long-term illness chart'!$C$34:$P$34, 0 ))","v":42.71},null,"Lower CI",{"$f":"'Alcohol guidelines chart'!R41","v":24.47},{"$f":"INDEX('Alcohol guidelines chart'!$C$32:$P$46, 10, MATCH('Summary By NHS Board'!$H$144, 'Alcohol guidelines chart'!$C$32:$P$32, 0))","v":23.78}]
[null,"Upper CI",{"$f":"'Long-term illness chart'!R44","v":55.21},{"$f":"INDEX( 'Long-term illness chart'!$C$34:$P$48, 11, MATCH('Summary By NHS Board'!$D$144, 'Long-term illness chart'!$C$34:$P$34, 0 ))","v":48.63},null,"Upper CI",{"$f":"'Alcohol guidelines chart'!R42","v":26.19},{"$f":"INDEX('Alcohol guidelines chart'!$C$32:$P$46, 11, MATCH('Summary By NHS Board'!$H$144, 'Alcohol guidelines chart'!$C$32:$P$32, 0))","v":28.01}]
[]
[null,"Limiting long-term illness",{"$f":"C147-C148","v":0.94999999999999929},{"$f":"INDEX( 'Long-term illness chart'!$C$34:$P$48, 13, MATCH('Summary By NHS Board'!$D$144, 'Long-term illness chart'!$C$34:$P$34, 0 ))","v":3.2999999999999972},null,"Non drinker",{"$f":"G147-G148","v":0.75999999999999979},{"$f":"INDEX('Alcohol guidelines chart'!$C$32:$P$46, 13, MATCH('Summary By NHS Board'!$H$144, 'Alcohol guidelines chart'!$C$32:$P$32, 0))","v":2.0200000000000014}]
[null,"Non-limiting long-term illness",{"$f":"C150-C151","v":0.66000000000000014},{"$f":"INDEX( 'Long-term illness chart'!$C$34:$P$48, 14, MATCH('Summary By NHS Board'!$D$144, 'Long-term illness chart'!$C$34:$P$34, 0 ))","v":1.3499999999999996},null,"Moderate",{"$f":"G150-G151","v":0.94000000000000483},{"$f":"INDEX('Alcohol guidelines chart'!$C$32:$P$46, 14, MATCH('Summary By NHS Board'!$H$144, 'Alcohol guidelines chart'!$C$32:$P$32, 0))","v":2.3500000000000014}]
[null,"No long-term illness",{"$f":"C153-C154","v":1.0100000000000051},{"$f":"INDEX( 'Long-term illness chart'!$C$34:$P$48, 15, MATCH('Summary By NHS Board'!$D$144, 'Long-term illness chart'!$C$34:$P$34, 0 ))","v":2.9600000000000009},null,"Hazardous/harmful",{"$f":"G153-G154","v":0.85999999999999943},{"$f":"INDEX('Alcohol guidelines chart'!$C$32:$P$46, 15, MATCH('Summary By NHS Board'!$H$144, 'Alcohol guidelines chart'!$C$32:$P$32, 0))","v":2.1099999999999994}]
[]
[null,null,"Scotland",{"$f":"A128","v":"Ayrshire & Arran "},null,null,"Scotland",{"$f":"A128","v":"Ayrshire & Arran "},null,null,"Scotland",{"$f":"A128","v":"Ayrshire & Arran "}]
[null,"Smoking",null,null,null,"Overweight",null,null,null,"Fruit & Veg"]
[null,"Never smoked, or ex-occasional",{"$f":"'Smoking chart'!R36","v":54.55},{"$f":"INDEX( 'Smoking chart'!$C$34:$P$48, 3, MATCH('Summary By NHS Board'!$D$161, 'Smoking chart'!$C$34:$P$34, 0))","v":52.98},null,"Overweight (including obese)",{"$f":"'Overweight chart'!R36","v":64.87},{"$f":"INDEX('Overweight chart'!$C$34:$P$40, 3, MATCH('Summary By NHS Board'!$H$161, 'Overweight chart'!$C$34:$P$34, 0))","v":70.010000000000005},null,"None",{"$f":"'Fruit and veg chart'!R36","v":10.52},{"$f":"INDEX('Fruit and veg chart'!$C$34:$P$48, 3, MATCH('Summary By NHS Board'!$L$161, 'Fruit and veg chart'!$C$34:$P$34, 0))","v":12.92}]
[null,"Lower CI",{"$f":"'Smoking chart'!R37","v":53.5},{"$f":"INDEX( 'Smoking chart'!$C$34:$P$48, 4, MATCH('Summary By NHS Board'!$D$161, 'Smoking chart'!$C$34:$P$34, 0))","v":50.42},null,"Lower CI",{"$f":"'Overweight chart'!R37","v":63.8},{"$f":"INDEX('Overweight chart'!$C$34:$P$40, 4, MATCH('Summary By NHS Board'!$H$161, 'Overweight chart'!$C$34:$P$34, 0))","v":67.849999999999994},null,"Lower CI",{"$f":"'Fruit and veg chart'!R37","v":9.86},{"$f":"INDEX('Fruit and veg chart'!$C$34:$P$48, 4, MATCH('Summary By NHS Board'!$L$161, 'Fruit and veg chart'!$C$34:$P$34, 0))","v":11.23}]
[null,"Upper CI",{"$f":"'Smoking chart'!R38","v":55.59},{"$f":"INDEX( 'Smoking chart'!$C$34:$P$48, 5, MATCH('Summary By NHS Board'!$D$161, 'Smoking chart'!$C$34:$P$34, 0))","v":55.54},null,"Upper CI",{"$f":"'Overweight chart'!R38","v":65.930000000000007},{"$f":"INDEX('Overweight chart'!$C$34:$P$40, 5, MATCH('Summary By NHS Board'!$H$161, 'Overweight chart'!$C$34:$P$34, 0))","v":72.17},null,"Upper CI",{"$f":"'Fruit and veg chart'!R38","v":11.19},{"$f":"INDEX('Fruit and veg chart'!$C$34:$P$48, 5, MATCH('Summary By NHS Board'!$L$161, 'Fruit and veg chart'!$C$34:$P$34, 0))","v":14.62}]
[null,"Ex-regular smoker, or occasional",{"$f":"'Smoking chart'!R39","v":24.21},{"$f":"INDEX( 'Smoking chart'!$C$34:$P$48, 6, MATCH('Summary By NHS Board'!$D$161, 'Smoking chart'!$C$34:$P$34, 0))","v":25.57},null,null,null,null,null,"Less than 5 portions",{"$f":"'Fruit and veg chart'!R39","v":68.73},{"$f":"INDEX('Fruit and veg chart'!$C$34:$P$48, 6, MATCH('Summary By NHS Board'!$L$161, 'Fruit and veg chart'!$C$34:$P$34, 0))","v":71.91}]
[null,"Lower CI",{"$f":"'Smoking chart'!R40","v":23.43},{"$f":"INDEX( 'Smoking chart'!$C$34:$P$48, 7, MATCH('Summary By NHS Board'!$D$161, 'Smoking chart'!$C$34:$P$34, 0))","v":23.56},null,"CLs",{"$f":"'Overweight chart'!R40","v":1.0700000000000074},{"$f":"INDEX('Overweight chart'!$C$34:$P$40, 7, MATCH('Summary By NHS Board'!$H$161, 'Overweight chart'!$C$34:$P$34, 0))","v":2.1600000000000108},null,"Lower CI",{"$f":"'Fruit and veg chart'!R40","v":67.84},{"$f":"INDEX('Fruit and veg chart'!$C$34:$P$48, 7, MATCH('Summary By NHS Board'!$L$161, 'Fruit and veg chart'!$C$34:$P$34, 0))","v":69.59}]
[null,"Upper CI",{"$f":"'Smoking chart'!R41","v":24.98},{"$f":"INDEX( 'Smoking chart'!$C$34:$P$48, 8, MATCH('Summary By NHS Board'!$D$161, 'Smoking chart'!$C$34:$P$34, 0))","v":27.58},null,null,null,null,null,"Upper CI",{"$f":"'Fruit and veg chart'!R41","v":69.63},{"$f":"INDEX('Fruit and veg chart'!$C$34:$P$48, 8, MATCH('Summary By NHS Board'!$L$161, 'Fruit and veg chart'!$C$34:$P$34, 0))","v":74.239999999999995}]
[null,"Regular smoker",{"$f":"'Smoking chart'!R42","v":21.25},{"$f":"INDEX( 'Smoking chart'!$C$34:$P$48, 9, MATCH('Summary By NHS Board'!$D$161, 'Smoking chart'!$C$34:$P$34, 0))","v":21.45},null,null,null,null,null,"5 portions or more",{"$f":"'Fruit and veg chart'!R42","v":20.74},{"$f":"INDEX('Fruit and veg chart'!$C$34:$P$48, 9, MATCH('Summary By NHS Board'!$L$161, 'Fruit and veg chart'!$C$34:$P$34, 0))","v":15.16}]
[null,"Lower CI",{"$f":"'Smoking chart'!R43","v":20.399999999999999},{"$f":"INDEX( 'Smoking chart'!$C$34:$P$48, 10, MATCH('Summary By NHS Board'!$D$161, 'Smoking chart'!$C$34:$P$34, 0))","v":19.46},null,null,"Scotland",{"$f":"A128","v":"Ayrshire & Arran "},null,"Lower CI",{"$f":"'Fruit and veg chart'!R43","v":19.920000000000002},{"$f":"INDEX('Fruit and veg chart'!$C$34:$P$48, 10, MATCH('Summary By NHS Board'!$L$161, 'Fruit and veg chart'!$C$34:$P$34, 0))","v":13.21}]
[null,"Upper CI",{"$f":"'Smoking chart'!R44","v":22.1},{"$f":"INDEX( 'Smoking chart'!$C$34:$P$48, 11, MATCH('Summary By NHS Board'!$D$161, 'Smoking chart'!$C$34:$P$34, 0))","v":23.44},null,"Obesity",null,null,null,"Upper CI",{"$f":"'Fruit and veg chart'!R44","v":21.57},{"$f":"INDEX('Fruit and veg chart'!$C$34:$P$48, 11, MATCH('Summary By NHS Board'!$L$161, 'Fruit and veg chart'!$C$34:$P$34, 0))","v":17.12}]
[null,null,null,null,null,"Obese",{"$f":"'Obesity chart'!R36","v":28.32},{"$f":"INDEX('Obesity chart'!$C$34:$P$40, 3, MATCH('Summary By NHS Board'!$H$170, 'Obesity chart'!$C$34:$P$34, 0))","v":33.53}]
[null,"Never smoked, or ex-occasional",{"$f":"'Smoking chart'!R46","v":1.0499999999999972},{"$f":"INDEX( 'Smoking chart'!$C$34:$P$48, 13, MATCH('Summary By NHS Board'!$D$161, 'Smoking chart'!$C$34:$P$34, 0))","v":2.5599999999999952},null,"Lower CI",{"$f":"'Obesity chart'!R37","v":27.43},{"$f":"INDEX('Obesity chart'!$C$34:$P$40, 4, MATCH('Summary By NHS Board'!$H$170, 'Obesity chart'!$C$34:$P$34, 0))","v":31.26},null,"None",{"$f":"'Fruit and veg chart'!R46","v":0.66000000000000014},{"$f":"INDEX('Fruit and veg chart'!$C$34:$P$48, 13, MATCH('Summary By NHS Board'!$L$161, 'Fruit and veg chart'!$C$34:$P$34, 0))","v":1.6899999999999995}]
[null,"Ex-regular smoker, or occasional",{"$f":"'Smoking chart'!R47","v":0.78000000000000114},{"$f":"INDEX( 'Smoking chart'!$C$34:$P$48, 14, MATCH('Summary By NHS Board'!$D$161, 'Smoking chart'!$C$34:$P$34, 0))","v":2.0100000000000016},null,"Upper CI",{"$f":"'Obesity chart'!R38","v":29.2},{"$f":"INDEX('Obesity chart'!$C$34:$P$40, 5, MATCH('Summary By NHS Board'!$H$170, 'Obesity chart'!$C$34:$P$34, 0))","v":35.81},null,"Less than 5 portions",{"$f":"'Fruit and veg chart'!R47","v":0.89000000000000057},{"$f":"INDEX('Fruit and veg chart'!$C$34:$P$48, 14, MATCH('Summary By NHS Board'!$L$161, 'Fruit and veg chart'!$C$34:$P$34, 0))","v":2.3199999999999932}]
[null,"Regular smoker",{"$f":"'Smoking chart'!R48","v":0.85000000000000142},{"$f":"INDEX( 'Smoking chart'!$C$34:$P$48, 15, MATCH('Summary By NHS Board'!$D$161, 'Smoking chart'!$C$34:$P$34, 0))","v":1.9899999999999984},null,null,null,null,null,"5 portions or more",{"$f":"'Fruit and veg chart'!R48","v":0.81999999999999673},{"$f":"INDEX('Fruit and veg chart'!$C$34:$P$48, 15, MATCH('Summary By NHS Board'!$L$161, 'Fruit and veg chart'!$C$34:$P$34, 0))","v":1.9499999999999993}]
[null,null,null,null,null,"CLs",{"$f":"'Obesity chart'!R40","v":0.89000000000000057},{"$f":"INDEX('Obesity chart'!$C$34:$P$40, 7, MATCH('Summary By NHS Board'!$H$170, 'Obesity chart'!$C$34:$P$34, 0))","v":2.2699999999999996}]
[]
[null,null,"Scotland",{"$f":"A128","v":"Ayrshire & Arran "},null,null,"Scotland",{"$f":"A128","v":"Ayrshire & Arran "},null,null,"Scotland",{"$f":"A128","v":"Ayrshire & Arran "}]
[null,"Mean Fruit & Veg",null,null,null,"Phys Act",null,null,null,"CVD"]
[null,"Mean",{"$f":"'Mean fruit and veg chart'!R36","v":3.14},{"$f":"INDEX( 'Mean fruit and veg chart'!$C$34:$P$40, 3, MATCH('Summary By NHS Board'!$D$178, 'Mean fruit and veg chart'!$C$34:$P$34, 0 ))","v":2.73},null,"Meets guidelines",{"$f":"'Physical activity chart'!R36","v":63.5},{"$f":"INDEX('Physical activity chart'!$C$34:$P$52, 3, MATCH('Summary By NHS Board'!$H$178, 'Physical activity chart'!$C$34:$P$34, 0))","v":59.87},null,"Has a cardiovascular condition",{"$f":"'CVD chart'!R36","v":15.55},{"$f":"INDEX('CVD chart'!$C$34:$P$40, 3, MATCH('Summary By NHS Board'!$L$178, 'CVD chart'!$C$34:$P$34, 0))","v":19.48}]
[null,"Lower CI",{"$f":"'Mean fruit and veg chart'!R37","v":3.09},{"$f":"INDEX( 'Mean fruit and veg chart'!$C$34:$P$40, 4, MATCH('Summary By NHS Board'!$D$178, 'Mean fruit and veg chart'!$C$34:$P$34, 0 ))","v":2.59},null,"Lower CI",{"$f":"'Physical activity chart'!R37","v":62.51},{"$f":"INDEX('Physical activity chart'!$C$34:$P$52, 4, MATCH('Summary By NHS Board'!$H$178, 'Physical activity chart'!$C$34:$P$34, 0))","v":57.29},null,"Lower CI",{"$f":"'CVD chart'!R37","v":14.91},{"$f":"INDEX('CVD chart'!$C$34:$P$40, 4, MATCH('Summary By NHS Board'!$L$178, 'CVD chart'!$C$34:$P$34, 0))","v":17.75}]
[null,"Upper CI",{"$f":"'Mean fruit and veg chart'!R38","v":3.2},{"$f":"INDEX( 'Mean fruit and veg chart'!$C$34:$P$40, 5, MATCH('Summary By NHS Board'!$D$178, 'Mean fruit and veg chart'!$C$34:$P$34, 0 ))","v":2.88},null,"Upper CI",{"$f":"'Physical activity chart'!R38","v":64.5},{"$f":"INDEX('Physical activity chart'!$C$34:$P$52, 5, MATCH('Summary By NHS Board'!$H$178, 'Physical activity chart'!$C$34:$P$34, 0))","v":62.44},null,"Upper CI",{"$f":"'CVD chart'!R38","v":16.18},{"$f":"INDEX('CVD chart'!$C$34:$P$40, 5, MATCH('Summary By NHS Board'!$L$178, 'CVD chart'!$C$34:$P$34, 0))","v":21.21}]
[null,null,null,null,null,"Some activity",{"$f":"'Physical activity chart'!R39","v":11.13},{"$f":"INDEX('Physical activity chart'!$C$34:$P$52, 6, MATCH('Summary By NHS Board'!$H$178, 'Physical activity chart'!$C$34:$P$34, 0))","v":10.73}]
[null,"CLs",{"$f":"'Mean fruit and veg chart'!R40","v":5.0000000000000266E-2},{"$f":"INDEX( 'Mean fruit and veg chart'!$C$34:$P$40, 7, MATCH('Summary By NHS Board'!$D$178, 'Mean fruit and veg chart'!$C$34:$P$34, 0 ))","v":0.14000000000000012},null,"Lower CI",{"$f":"'Physical activity chart'!R40","v":10.56},{"$f":"INDEX('Physical activity chart'!$C$34:$P$52, 7, MATCH('Summary By NHS Board'!$H$178, 'Physical activity chart'!$C$34:$P$34, 0))","v":9.1},null,"CLs",{"$f":"'CVD chart'!R40","v":0.64000000000000057},{"$f":"INDEX('CVD chart'!$C$34:$P$40, 7, MATCH('Summary By NHS Board'!$L$178, 'CVD chart'!$C$34:$P$34, 0))","v":1.7300000000000004}]
[null,null,null,null,null,"Upper CI",{"$f":"'Physical activity chart'!R41","v":11.7},{"$f":"INDEX('Physical activity chart'!$C$34:$P$52, 8, MATCH('Summary By NHS Board'!$H$178, 'Physical activity chart'!$C$34:$P$34, 0))","v":12.35}]
[null,null,null,null,null,"Low activity",{"$f":"'Physical activity chart'!R42","v":4.33},{"$f":"INDEX('Physical activity chart'!$C$34:$P$52, 9, MATCH('Summary By NHS Board'!$H$178, 'Physical activity chart'!$C$34:$P$34, 0))","v":3.82}]
[null,null,null,null,null,"Lower CI",{"$f":"'Physical activity chart'!R43","v":3.99},{"$f":"INDEX('Physical activity chart'!$C$34:$P$52, 10, MATCH('Summary By NHS Board'!$H$178, 'Physical activity chart'!$C$34:$P$34, 0))","v":2.96}]
[null,null,null,null,null,"Upper CI",{"$f":"'Physical activity chart'!R44","v":4.68},{"$f":"INDEX('Physical activity chart'!$C$34:$P$52, 11, MATCH('Summary By NHS Board'!$H$178, 'Physical activity chart'!$C$34:$P$34, 0))","v":4.68}]
[null,null,null,null,null,"Very low activity",{"$f":"'Physical activity chart'!R45","v":21.03},{"$f":"INDEX('Physical activity chart'!$C$34:$P$52, 12, MATCH('Summary By NHS Board'!$H$178, 'Physical activity chart'!$C$34:$P$34, 0))","v":25.59}]
[null,null,null,null,null,"Lower CI",{"$f":"'Physical activity chart'!R46","v":20.23},{"$f":"INDEX('Physical activity chart'!$C$34:$P$52, 13, MATCH('Summary By NHS Board'!$H$178, 'Physical activity chart'!$C$34:$P$34, 0))","v":23.42}]
[null,null,null,null,null,"Upper CI",{"$f":"'Physical activity chart'!R47","v":21.84},{"$f":"INDEX('Physical activity chart'!$C$34:$P$52, 14, MATCH('Summary By NHS Board'!$H$178, 'Physical activity chart'!$C$34:$P$34, 0))","v":27.76}]
[]
[null,null,null,null,null,"Meets guidelines",{"$f":"'Physical activity chart'!R49","v":0.99000000000000199},{"$f":"INDEX('Physical activity chart'!$C$34:$P$52, 16, MATCH('Summary By NHS Board'!$H$178, 'Physical activity chart'!$C$34:$P$34, 0))","v":2.5799999999999983}]
[null,null,null,null,null,"Some activity",{"$f":"'Physical activity chart'!R50","v":0.57000000000000028},{"$f":"INDEX('Physical activity chart'!$C$34:$P$52, 17, MATCH('Summary By NHS Board'!$H$178, 'Physical activity chart'!$C$34:$P$34, 0))","v":1.6300000000000008}]
[null,null,null,null,null,"Low activity",{"$f":"'Physical activity chart'!R51","v":0.33999999999999986},{"$f":"INDEX('Physical activity chart'!$C$34:$P$52, 18, MATCH('Summary By NHS Board'!$H$178, 'Physical activity chart'!$C$34:$P$34, 0))","v":0.85999999999999988}]
[null,null,null,null,null,"Very low activity",{"$f":"'Physical activity chart'!R52","v":0.80000000000000071},{"$f":"INDEX('Physical activity chart'!$C$34:$P$52, 19, MATCH('Summary By NHS Board'!$H$178, 'Physical activity chart'!$C$34:$P$34, 0))","v":2.1699999999999982}]

{"sheet":"Self-assessed general health","index":2,"n_rows":49,"n_cols":16,"rows_kept":49,"cut":false,"hidden":false,"merged":[[4,0,5,0],[0,0,1,0]]}
["Self-assessed general health, by NHS Board and sex",null,null,null,null,null,null,null,null,null,null,null,null,"INDEX"]
[]
[]
["Aged 16 and over",null,null,null,null,null,null,null,null,null,null,null,null,null,null,"2013/2014/2015/2016 combined"]
["Self-assessed general health","NHS Board"]
[null,"Ayrshire & Arran ","Borders","Dumfries & Galloway","Fife","Forth Valley","Grampian","Greater Glasgow & Clyde","Highland","Lanarkshire","Lothian","Orkney","Shetland","Tayside","Western Isles","Scotland"]
[null,"%","%","%","%","%","%","%","%","%","%","%","%","%","%","%"]
["Men"]
["Very good/good",{"$f":"'SAH data'!D2","v":70.92},{"$f":"'SAH data'!E2","v":80.13},{"$f":"'SAH data'!F2","v":65.998999999999995},{"$f":"'SAH data'!G2","v":72.599999999999994},{"$f":"'SAH data'!H2","v":77.209999999999994},{"$f":"'SAH data'!I2","v":78.41},{"$f":"'SAH data'!J2","v":70.7},{"$f":"'SAH data'!K2","v":75.790000000000006},{"$f":"'SAH data'!L2","v":71.81},{"$f":"'SAH data'!M2","v":78.489999999999995},{"$f":"'SAH data'!N2","v":83.034000000000006},{"$f":"'SAH data'!O2","v":75.088999999999999},{"$f":"'SAH data'!P2","v":72.739999999999995},{"$f":"'SAH data'!Q2","v":71.558000000000007},{"$f":"'SAH data'!R2","v":74.08}]
["Lower CI",{"$f":"'SAH data'!D3","v":67.38},{"$f":"'SAH data'!E3","v":73.585999999999999},{"$f":"'SAH data'!F3","v":59.429000000000002},{"$f":"'SAH data'!G3","v":69.44},{"$f":"'SAH data'!H3","v":71.66},{"$f":"'SAH data'!I3","v":75.62},{"$f":"'SAH data'!J3","v":67.67},{"$f":"'SAH data'!K3","v":71.040000000000006},{"$f":"'SAH data'!L3","v":68.099999999999994},{"$f":"'SAH data'!M3","v":75.489999999999995},{"$f":"'SAH data'!N3","v":79.429000000000002},{"$f":"'SAH data'!O3","v":69.557000000000002},{"$f":"'SAH data'!P3","v":67.930000000000007},{"$f":"'SAH data'!Q3","v":65.674000000000007},{"$f":"'SAH data'!R3","v":72.88}]
["Upper CI",{"$f":"'SAH data'!D4","v":74.459999999999994},{"$f":"'SAH data'!E4","v":86.673000000000002},{"$f":"'SAH data'!F4","v":72.569000000000003},{"$f":"'SAH data'!G4","v":75.760000000000005},{"$f":"'SAH data'!H4","v":82.77},{"$f":"'SAH data'!I4","v":81.19},{"$f":"'SAH data'!J4","v":73.73},{"$f":"'SAH data'!K4","v":80.540000000000006},{"$f":"'SAH data'!L4","v":75.52},{"$f":"'SAH data'!M4","v":81.5},{"$f":"'SAH data'!N4","v":86.638999999999996},{"$f":"'SAH data'!O4","v":80.620999999999995},{"$f":"'SAH data'!P4","v":77.540000000000006},{"$f":"'SAH data'!Q4","v":77.441999999999993},{"$f":"'SAH data'!R4","v":75.290000000000006}]
["Fair",{"$f":"'SAH data'!D5","v":20.52},{"$f":"'SAH data'!E5","v":13.135},{"$f":"'SAH data'!F5","v":27.274000000000001},{"$f":"'SAH data'!G5","v":18.510000000000002},{"$f":"'SAH data'!H5","v":16.2},{"$f":"'SAH data'!I5","v":15.1},{"$f":"'SAH data'!J5","v":19.649999999999999},{"$f":"'SAH data'!K5","v":16.600000000000001},{"$f":"'SAH data'!L5","v":17.989999999999998},{"$f":"'SAH data'!M5","v":16.07},{"$f":"'SAH data'!N5","v":13.661},{"$f":"'SAH data'!O5","v":17.649999999999999},{"$f":"'SAH data'!P5","v":18.43},{"$f":"'SAH data'!Q5","v":23.289000000000001},{"$f":"'SAH data'!R5","v":17.93}]
["Lower CI",{"$f":"'SAH data'!D6","v":17.41},{"$f":"'SAH data'!E6","v":8.3989999999999991},{"$f":"'SAH data'!F6","v":21.172000000000001},{"$f":"'SAH data'!G6","v":15.99},{"$f":"'SAH data'!H6","v":11.93},{"$f":"'SAH data'!I6","v":13.01},{"$f":"'SAH data'!J6","v":17.12},{"$f":"'SAH data'!K6","v":12.41},{"$f":"'SAH data'!L6","v":15.18},{"$f":"'SAH data'!M6","v":13.48},{"$f":"'SAH data'!N6","v":9.6839999999999993},{"$f":"'SAH data'!O6","v":12.593999999999999},{"$f":"'SAH data'!P6","v":14.11},{"$f":"'SAH data'!Q6","v":17.288},{"$f":"'SAH data'!R6","v":16.93}]
["Upper CI",{"$f":"'SAH data'!D7","v":23.63},{"$f":"'SAH data'!E7","v":17.87},{"$f":"'SAH data'!F7","v":33.375},{"$f":"'SAH data'!G7","v":21.03},{"$f":"'SAH data'!H7","v":20.47},{"$f":"'SAH data'!I7","v":17.18},{"$f":"'SAH data'!J7","v":22.18},{"$f":"'SAH data'!K7","v":20.8},{"$f":"'SAH data'!L7","v":20.79},{"$f":"'SAH data'!M7","v":18.66},{"$f":"'SAH data'!N7","v":17.638000000000002},{"$f":"'SAH data'!O7","v":22.707000000000001},{"$f":"'SAH data'!P7","v":22.75},{"$f":"'SAH data'!Q7","v":29.29},{"$f":"'SAH data'!R7","v":18.940000000000001}]
["Bad/very bad",{"$f":"'SAH data'!D8","v":8.56},{"$f":"'SAH data'!E8","v":6.7359999999999998},{"$f":"'SAH data'!F8","v":6.7270000000000003},{"$f":"'SAH data'!G8","v":8.89},{"$f":"'SAH data'!H8","v":6.59},{"$f":"'SAH data'!I8","v":6.5},{"$f":"'SAH data'!J8","v":9.65},{"$f":"'SAH data'!K8","v":7.61},{"$f":"'SAH data'!L8","v":10.199999999999999},{"$f":"'SAH data'!M8","v":5.44},{"$f":"'SAH data'!N8","v":3.3050000000000002},{"$f":"'SAH data'!O8","v":7.2610000000000001},{"$f":"'SAH data'!P8","v":8.83},{"$f":"'SAH data'!Q8","v":5.1529999999999996},{"$f":"'SAH data'!R8","v":7.98}]
["Lower CI",{"$f":"'SAH data'!D9","v":6.76},{"$f":"'SAH data'!E9","v":2.7389999999999999},{"$f":"'SAH data'!F9","v":3.2629999999999999},{"$f":"'SAH data'!G9","v":7.05},{"$f":"'SAH data'!H9","v":3.67},{"$f":"'SAH data'!I9","v":4.92},{"$f":"'SAH data'!J9","v":7.99},{"$f":"'SAH data'!K9","v":4.71},{"$f":"'SAH data'!L9","v":7.52},{"$f":"'SAH data'!M9","v":3.92},{"$f":"'SAH data'!N9","v":1.2470000000000001},{"$f":"'SAH data'!O9","v":3.5089999999999999},{"$f":"'SAH data'!P9","v":5.96},{"$f":"'SAH data'!Q9","v":2.8980000000000001},{"$f":"'SAH data'!R9","v":7.29}]
["Upper CI",{"$f":"'SAH data'!D10","v":10.37},{"$f":"'SAH data'!E10","v":10.731999999999999},{"$f":"'SAH data'!F10","v":10.191000000000001},{"$f":"'SAH data'!G10","v":10.74},{"$f":"'SAH data'!H10","v":9.51},{"$f":"'SAH data'!I10","v":8.08},{"$f":"'SAH data'!J10","v":11.3},{"$f":"'SAH data'!K10","v":10.5},{"$f":"'SAH data'!L10","v":12.88},{"$f":"'SAH data'!M10","v":6.95},{"$f":"'SAH data'!N10","v":5.3639999999999999},{"$f":"'SAH data'!O10","v":11.012},{"$f":"'SAH data'!P10","v":11.7},{"$f":"'SAH data'!Q10","v":7.407},{"$f":"'SAH data'!R10","v":8.67}]
[]
["Women"]
["Very good/good",{"$f":"'SAH data'!D11","v":68.650000000000006},{"$f":"'SAH data'!E11","v":76.298000000000002},{"$f":"'SAH data'!F11","v":71.941999999999993},{"$f":"'SAH data'!G11","v":70.59},{"$f":"'SAH data'!H11","v":72.260000000000005},{"$f":"'SAH data'!I11","v":77.81},{"$f":"'SAH data'!J11","v":69.53},{"$f":"'SAH data'!K11","v":76.45},{"$f":"'SAH data'!L11","v":72.86},{"$f":"'SAH data'!M11","v":78.849999999999994},{"$f":"'SAH data'!N11","v":82.483000000000004},{"$f":"'SAH data'!O11","v":76.597999999999999},{"$f":"'SAH data'!P11","v":73.37},{"$f":"'SAH data'!Q11","v":73.831000000000003},{"$f":"'SAH data'!R11","v":73.489999999999995}]
["Lower CI",{"$f":"'SAH data'!D12","v":65.42},{"$f":"'SAH data'!E12","v":71.106999999999999},{"$f":"'SAH data'!F12","v":66.757000000000005},{"$f":"'SAH data'!G12","v":67.81},{"$f":"'SAH data'!H12","v":67.650000000000006},{"$f":"'SAH data'!I12","v":75.489999999999995},{"$f":"'SAH data'!J12","v":67.03},{"$f":"'SAH data'!K12","v":71.790000000000006},{"$f":"'SAH data'!L12","v":69.61},{"$f":"'SAH data'!M12","v":76.36},{"$f":"'SAH data'!N12","v":77.179000000000002},{"$f":"'SAH data'!O12","v":70.944999999999993},{"$f":"'SAH data'!P12","v":69.19},{"$f":"'SAH data'!Q12","v":70.031999999999996},{"$f":"'SAH data'!R12","v":72.459999999999994}]
["Upper CI",{"$f":"'SAH data'!D13","v":71.88},{"$f":"'SAH data'!E13","v":81.488},{"$f":"'SAH data'!F13","v":77.126999999999995},{"$f":"'SAH data'!G13","v":73.38},{"$f":"'SAH data'!H13","v":76.87},{"$f":"'SAH data'!I13","v":80.13},{"$f":"'SAH data'!J13","v":72.03},{"$f":"'SAH data'!K13","v":81.11},{"$f":"'SAH data'!L13","v":76.11},{"$f":"'SAH data'!M13","v":81.33},{"$f":"'SAH data'!N13","v":87.787000000000006},{"$f":"'SAH data'!O13","v":82.251000000000005},{"$f":"'SAH data'!P13","v":77.55},{"$f":"'SAH data'!Q13","v":77.63},{"$f":"'SAH data'!R13","v":74.53}]
["Fair",{"$f":"'SAH data'!D14","v":19.82},{"$f":"'SAH data'!E14","v":17.943999999999999},{"$f":"'SAH data'!F14","v":18.190000000000001},{"$f":"'SAH data'!G14","v":20.49},{"$f":"'SAH data'!H14","v":16.68},{"$f":"'SAH data'!I14","v":16.87},{"$f":"'SAH data'!J14","v":19.309999999999999},{"$f":"'SAH data'!K14","v":16.28},{"$f":"'SAH data'!L14","v":18.62},{"$f":"'SAH data'!M14","v":15.39},{"$f":"'SAH data'!N14","v":12.616},{"$f":"'SAH data'!O14","v":16.419},{"$f":"'SAH data'!P14","v":18.8},{"$f":"'SAH data'!Q14","v":19.481000000000002},{"$f":"'SAH data'!R14","v":18}]
["Lower CI",{"$f":"'SAH data'!D15","v":17.13},{"$f":"'SAH data'!E15","v":13.026999999999999},{"$f":"'SAH data'!F15","v":13.667},{"$f":"'SAH data'!G15","v":18.04},{"$f":"'SAH data'!H15","v":12.92},{"$f":"'SAH data'!I15","v":14.69},{"$f":"'SAH data'!J15","v":17.39},{"$f":"'SAH data'!K15","v":12.11},{"$f":"'SAH data'!L15","v":15.98},{"$f":"'SAH data'!M15","v":13.17},{"$f":"'SAH data'!N15","v":8.9410000000000007},{"$f":"'SAH data'!O15","v":11.202999999999999},{"$f":"'SAH data'!P15","v":15.46},{"$f":"'SAH data'!Q15","v":15.564},{"$f":"'SAH data'!R15","v":17.149999999999999}]
["Upper CI",{"$f":"'SAH data'!D16","v":22.5},{"$f":"'SAH data'!E16","v":22.861999999999998},{"$f":"'SAH data'!F16","v":22.713000000000001},{"$f":"'SAH data'!G16","v":22.95},{"$f":"'SAH data'!H16","v":20.45},{"$f":"'SAH data'!I16","v":19.059999999999999},{"$f":"'SAH data'!J16","v":21.22},{"$f":"'SAH data'!K16","v":20.46},{"$f":"'SAH data'!L16","v":21.25},{"$f":"'SAH data'!M16","v":17.600000000000001},{"$f":"'SAH data'!N16","v":16.291},{"$f":"'SAH data'!O16","v":21.635000000000002},{"$f":"'SAH data'!P16","v":22.14},{"$f":"'SAH data'!Q16","v":23.396999999999998},{"$f":"'SAH data'!R16","v":18.850000000000001}]
["Bad/very bad",{"$f":"'SAH data'!D17","v":11.53},{"$f":"'SAH data'!E17","v":5.758},{"$f":"'SAH data'!F17","v":9.8680000000000003},{"$f":"'SAH data'!G17","v":8.91},{"$f":"'SAH data'!H17","v":11.05},{"$f":"'SAH data'!I17","v":5.32},{"$f":"'SAH data'!J17","v":11.16},{"$f":"'SAH data'!K17","v":7.27},{"$f":"'SAH data'!L17","v":8.52},{"$f":"'SAH data'!M17","v":5.77},{"$f":"'SAH data'!N17","v":4.9009999999999998},{"$f":"'SAH data'!O17","v":6.9829999999999997},{"$f":"'SAH data'!P17","v":7.83},{"$f":"'SAH data'!Q17","v":6.6890000000000001},{"$f":"'SAH data'!R17","v":8.5}]
["Lower CI",{"$f":"'SAH data'!D18","v":9.67},{"$f":"'SAH data'!E18","v":2.173},{"$f":"'SAH data'!F18","v":5.484},{"$f":"'SAH data'!G18","v":7.32},{"$f":"'SAH data'!H18","v":8.2100000000000009},{"$f":"'SAH data'!I18","v":4.18},{"$f":"'SAH data'!J18","v":9.48},{"$f":"'SAH data'!K18","v":4.93},{"$f":"'SAH data'!L18","v":6.61},{"$f":"'SAH data'!M18","v":4.3},{"$f":"'SAH data'!N18","v":2.0990000000000002},{"$f":"'SAH data'!O18","v":4.0090000000000003},{"$f":"'SAH data'!P18","v":5.33},{"$f":"'SAH data'!Q18","v":4.5129999999999999},{"$f":"'SAH data'!R18","v":7.87}]
["Upper CI",{"$f":"'SAH data'!D19","v":13.39},{"$f":"'SAH data'!E19","v":9.343},{"$f":"'SAH data'!F19","v":14.250999999999999},{"$f":"'SAH data'!G19","v":10.51},{"$f":"'SAH data'!H19","v":13.89},{"$f":"'SAH data'!I19","v":6.45},{"$f":"'SAH data'!J19","v":12.85},{"$f":"'SAH data'!K19","v":9.6},{"$f":"'SAH data'!L19","v":10.43},{"$f":"'SAH data'!M19","v":7.23},{"$f":"'SAH data'!N19","v":7.7030000000000003},{"$f":"'SAH data'!O19","v":9.9580000000000002},{"$f":"'SAH data'!P19","v":10.33},{"$f":"'SAH data'!Q19","v":8.8640000000000008},{"$f":"'SAH data'!R19","v":9.14}]
[]
["All Adults"]
["Very good/good",{"$f":"'SAH data'!D20","v":69.69},{"$f":"'SAH data'!E20","v":78.033000000000001},{"$f":"'SAH data'!F20","v":69.045000000000002},{"$f":"'SAH data'!G20","v":71.56},{"$f":"'SAH data'!H20","v":74.599999999999994},{"$f":"'SAH data'!I20","v":78.09},{"$f":"'SAH data'!J20","v":70.09},{"$f":"'SAH data'!K20","v":76.13},{"$f":"'SAH data'!L20","v":72.36},{"$f":"'SAH data'!M20","v":78.67},{"$f":"'SAH data'!N20","v":82.757000000000005},{"$f":"'SAH data'!O20","v":75.819999999999993},{"$f":"'SAH data'!P20","v":73.069999999999993},{"$f":"'SAH data'!Q20","v":72.694999999999993},{"$f":"'SAH data'!R20","v":73.78}]
["Lower CI",{"$f":"'SAH data'!D21","v":66.84},{"$f":"'SAH data'!E21","v":73.680000000000007},{"$f":"'SAH data'!F21","v":64.822000000000003},{"$f":"'SAH data'!G21","v":69.290000000000006},{"$f":"'SAH data'!H21","v":70.959999999999994},{"$f":"'SAH data'!I21","v":76.010000000000005},{"$f":"'SAH data'!J21","v":67.819999999999993},{"$f":"'SAH data'!K21","v":72.319999999999993},{"$f":"'SAH data'!L21","v":69.92},{"$f":"'SAH data'!M21","v":76.47},{"$f":"'SAH data'!N21","v":79.182000000000002},{"$f":"'SAH data'!O21","v":71.655000000000001},{"$f":"'SAH data'!P21","v":69.430000000000007},{"$f":"'SAH data'!Q21","v":68.811000000000007},{"$f":"'SAH data'!R21","v":72.900000000000006}]
["Upper CI",{"$f":"'SAH data'!D22","v":72.55},{"$f":"'SAH data'!E22","v":82.385000000000005},{"$f":"'SAH data'!F22","v":73.266999999999996},{"$f":"'SAH data'!G22","v":73.84},{"$f":"'SAH data'!H22","v":78.25},{"$f":"'SAH data'!I22","v":80.17},{"$f":"'SAH data'!J22","v":72.36},{"$f":"'SAH data'!K22","v":79.95},{"$f":"'SAH data'!L22","v":74.8},{"$f":"'SAH data'!M22","v":80.87},{"$f":"'SAH data'!N22","v":86.332999999999998},{"$f":"'SAH data'!O22","v":79.984999999999999},{"$f":"'SAH data'!P22","v":76.72},{"$f":"'SAH data'!Q22","v":76.58},{"$f":"'SAH data'!R22","v":74.66}]
["Fair",{"$f":"'SAH data'!D23","v":20.14},{"$f":"'SAH data'!E23","v":15.766999999999999},{"$f":"'SAH data'!F23","v":22.619},{"$f":"'SAH data'!G23","v":19.54},{"$f":"'SAH data'!H23","v":16.46},{"$f":"'SAH data'!I23","v":16.03},{"$f":"'SAH data'!J23","v":19.47},{"$f":"'SAH data'!K23","v":16.440000000000001},{"$f":"'SAH data'!L23","v":18.32},{"$f":"'SAH data'!M23","v":15.73},{"$f":"'SAH data'!N23","v":13.137},{"$f":"'SAH data'!O23","v":17.053999999999998},{"$f":"'SAH data'!P23","v":18.63},{"$f":"'SAH data'!Q23","v":21.382999999999999},{"$f":"'SAH data'!R23","v":17.97}]
["Lower CI",{"$f":"'SAH data'!D24","v":17.690000000000001},{"$f":"'SAH data'!E24","v":12.1},{"$f":"'SAH data'!F24","v":19.152999999999999},{"$f":"'SAH data'!G24","v":17.809999999999999},{"$f":"'SAH data'!H24","v":13.78},{"$f":"'SAH data'!I24","v":14.39},{"$f":"'SAH data'!J24","v":17.77},{"$f":"'SAH data'!K24","v":13.2},{"$f":"'SAH data'!L24","v":16.37},{"$f":"'SAH data'!M24","v":13.89},{"$f":"'SAH data'!N24","v":10.061},{"$f":"'SAH data'!O24","v":13.159000000000001},{"$f":"'SAH data'!P24","v":15.86},{"$f":"'SAH data'!Q24","v":17.288},{"$f":"'SAH data'!R24","v":17.28}]
["Upper CI",{"$f":"'SAH data'!D25","v":22.6},{"$f":"'SAH data'!E25","v":19.434000000000001},{"$f":"'SAH data'!F25","v":26.085999999999999},{"$f":"'SAH data'!G25","v":21.27},{"$f":"'SAH data'!H25","v":19.14},{"$f":"'SAH data'!I25","v":17.670000000000002},{"$f":"'SAH data'!J25","v":21.17},{"$f":"'SAH data'!K25","v":19.670000000000002},{"$f":"'SAH data'!L25","v":20.27},{"$f":"'SAH data'!M25","v":17.579999999999998},{"$f":"'SAH data'!N25","v":16.213000000000001},{"$f":"'SAH data'!O25","v":20.949000000000002},{"$f":"'SAH data'!P25","v":21.4},{"$f":"'SAH data'!Q25","v":25.478999999999999},{"$f":"'SAH data'!R25","v":18.649999999999999}]
["Bad/very bad",{"$f":"'SAH data'!D26","v":10.17},{"$f":"'SAH data'!E26","v":6.2},{"$f":"'SAH data'!F26","v":8.3360000000000003},{"$f":"'SAH data'!G26","v":8.9},{"$f":"'SAH data'!H26","v":8.94},{"$f":"'SAH data'!I26","v":5.88},{"$f":"'SAH data'!J26","v":10.44},{"$f":"'SAH data'!K26","v":7.43},{"$f":"'SAH data'!L26","v":9.32},{"$f":"'SAH data'!M26","v":5.6},{"$f":"'SAH data'!N26","v":4.1059999999999999},{"$f":"'SAH data'!O26","v":7.1260000000000003},{"$f":"'SAH data'!P26","v":8.3000000000000007},{"$f":"'SAH data'!Q26","v":5.9210000000000003},{"$f":"'SAH data'!R26","v":8.25}]
["Lower CI",{"$f":"'SAH data'!D27","v":8.84},{"$f":"'SAH data'!E27","v":3.08},{"$f":"'SAH data'!F27","v":5.609},{"$f":"'SAH data'!G27","v":7.54},{"$f":"'SAH data'!H27","v":6.74},{"$f":"'SAH data'!I27","v":4.83},{"$f":"'SAH data'!J27","v":9.09},{"$f":"'SAH data'!K27","v":5.42},{"$f":"'SAH data'!L27","v":7.6},{"$f":"'SAH data'!M27","v":4.4800000000000004},{"$f":"'SAH data'!N27","v":2.31},{"$f":"'SAH data'!O27","v":4.4889999999999999},{"$f":"'SAH data'!P27","v":6.29},{"$f":"'SAH data'!Q27","v":4.2539999999999996},{"$f":"'SAH data'!R27","v":7.75}]
["Upper CI",{"$f":"'SAH data'!D28","v":11.5},{"$f":"'SAH data'!E28","v":9.3209999999999997},{"$f":"'SAH data'!F28","v":11.064},{"$f":"'SAH data'!G28","v":10.27},{"$f":"'SAH data'!H28","v":11.14},{"$f":"'SAH data'!I28","v":6.93},{"$f":"'SAH data'!J28","v":11.79},{"$f":"'SAH data'!K28","v":9.44},{"$f":"'SAH data'!L28","v":11.04},{"$f":"'SAH data'!M28","v":6.72},{"$f":"'SAH data'!N28","v":5.9009999999999998},{"$f":"'SAH data'!O28","v":9.7629999999999999},{"$f":"'SAH data'!P28","v":10.31},{"$f":"'SAH data'!Q28","v":7.5880000000000001},{"$f":"'SAH data'!R28","v":8.76}]
[]
[]
["Bases (weighted):"]
["Men",{"$f":"'SAH data'!D29","v":606.12},{"$f":"'SAH data'!E29","v":183.85599999999999},{"$f":"'SAH data'!F29","v":262.10599999999999},{"$f":"'SAH data'!G29","v":619.88},{"$f":"'SAH data'!H29","v":497.09},{"$f":"'SAH data'!I29","v":978.48},{"$f":"'SAH data'!J29","v":1880.15},{"$f":"'SAH data'!K29","v":541.45000000000005},{"$f":"'SAH data'!L29","v":1147.4000000000001},{"$f":"'SAH data'!M29","v":1534.61},{"$f":"'SAH data'!N29","v":38.805},{"$f":"'SAH data'!O29","v":41.939},{"$f":"'SAH data'!P29","v":681.92},{"$f":"'SAH data'!Q29","v":48.445999999999998},{"$f":"'SAH data'!R29","v":9062.26}]
["Women",{"$f":"'SAH data'!D30","v":710.35},{"$f":"'SAH data'!E30","v":222.27600000000001},{"$f":"'SAH data'!F30","v":275.46600000000001},{"$f":"'SAH data'!G30","v":662.81},{"$f":"'SAH data'!H30","v":553.76},{"$f":"'SAH data'!I30","v":1079.33},{"$f":"'SAH data'!J30","v":2051.62},{"$f":"'SAH data'!K30","v":586.85},{"$f":"'SAH data'!L30","v":1265.1300000000001},{"$f":"'SAH data'!M30","v":1496.34},{"$f":"'SAH data'!N30","v":39.048000000000002},{"$f":"'SAH data'!O30","v":39.383000000000003},{"$f":"'SAH data'!P30","v":771.2},{"$f":"'SAH data'!Q30","v":48.518000000000001},{"$f":"'SAH data'!R30","v":9802.07}]
["All Adults",{"$f":"'SAH data'!D31","v":1316.47},{"$f":"'SAH data'!E31","v":406.13299999999998},{"$f":"'SAH data'!F31","v":537.572},{"$f":"'SAH data'!G31","v":1282.69},{"$f":"'SAH data'!H31","v":1050.8499999999999},{"$f":"'SAH data'!I31","v":2057.81},{"$f":"'SAH data'!J31","v":3931.77},{"$f":"'SAH data'!K31","v":1128.31},{"$f":"'SAH data'!L31","v":2412.5300000000002},{"$f":"'SAH data'!M31","v":3030.94},{"$f":"'SAH data'!N31","v":77.852999999999994},{"$f":"'SAH data'!O31","v":81.322000000000003},{"$f":"'SAH data'!P31","v":1453.11},{"$f":"'SAH data'!Q31","v":96.963999999999999},{"$f":"'SAH data'!R31","v":18864.34}]
["Bases (unweighted)"]
["Men",{"$f":"'SAH data'!D32","v":948},{"$f":"'SAH data'!E32","v":199},{"$f":"'SAH data'!F32","v":221},{"$f":"'SAH data'!G32","v":902},{"$f":"'SAH data'!H32","v":307},{"$f":"'SAH data'!I32","v":1134},{"$f":"'SAH data'!J32","v":1341},{"$f":"'SAH data'!K32","v":355},{"$f":"'SAH data'!L32","v":660},{"$f":"'SAH data'!M32","v":937},{"$f":"'SAH data'!N32","v":234},{"$f":"'SAH data'!O32","v":247},{"$f":"'SAH data'!P32","v":472},{"$f":"'SAH data'!Q32","v":387},{"$f":"'SAH data'!R32","v":8344}]
["Women",{"$f":"'SAH data'!D33","v":1208},{"$f":"'SAH data'!E33","v":278},{"$f":"'SAH data'!F33","v":258},{"$f":"'SAH data'!G33","v":1141},{"$f":"'SAH data'!H33","v":412},{"$f":"'SAH data'!I33","v":1429},{"$f":"'SAH data'!J33","v":1748},{"$f":"'SAH data'!K33","v":463},{"$f":"'SAH data'!L33","v":879},{"$f":"'SAH data'!M33","v":1105},{"$f":"'SAH data'!N33","v":271},{"$f":"'SAH data'!O33","v":277},{"$f":"'SAH data'!P33","v":590},{"$f":"'SAH data'!Q33","v":461},{"$f":"'SAH data'!R33","v":10520}]
["All Adults",{"$f":"'SAH data'!D34","v":2156},{"$f":"'SAH data'!E34","v":477},{"$f":"'SAH data'!F34","v":479},{"$f":"'SAH data'!G34","v":2043},{"$f":"'SAH data'!H34","v":719},{"$f":"'SAH data'!I34","v":2563},{"$f":"'SAH data'!J34","v":3089},{"$f":"'SAH data'!K34","v":818},{"$f":"'SAH data'!L34","v":1539},{"$f":"'SAH data'!M34","v":2042},{"$f":"'SAH data'!N34","v":505},{"$f":"'SAH data'!O34","v":524},{"$f":"'SAH data'!P34","v":1062},{"$f":"'SAH data'!Q34","v":848},{"$f":"'SAH data'!R34","v":18864}]

{"sheet":"SAH data","index":3,"n_rows":34,"n_cols":18,"rows_kept":34,"cut":false,"hidden":true,"merged":[]}
["F_sex","F_genhelf2","_NAME_","Ayrshire & Arran","Borders","Dumfries & Galloway","Fife","Forth Valley","Grampian","Greater Glasgow","Highland","Lanarkshire","Lothian","Orkney","Shetland","Tayside","Western Isles","Scotland"]
["Male","Very good/good","RowPercent",70.92,80.13,65.998999999999995,72.599999999999994,77.209999999999994,78.41,70.7,75.790000000000006,71.81,78.489999999999995,83.034000000000006,75.088999999999999,72.739999999999995,71.558000000000007,74.08]
["Male","Very good/good","RowLowerCL",67.38,73.585999999999999,59.429000000000002,69.44,71.66,75.62,67.67,71.040000000000006,68.099999999999994,75.489999999999995,79.429000000000002,69.557000000000002,67.930000000000007,65.674000000000007,72.88]
["Male","Very good/good","RowUpperCL",74.459999999999994,86.673000000000002,72.569000000000003,75.760000000000005,82.77,81.19,73.73,80.540000000000006,75.52,81.5,86.638999999999996,80.620999999999995,77.540000000000006,77.441999999999993,75.290000000000006]
["Male","Fair","RowPercent",20.52,13.135,27.274000000000001,18.510000000000002,16.2,15.1,19.649999999999999,16.600000000000001,17.989999999999998,16.07,13.661,17.649999999999999,18.43,23.289000000000001,17.93]
["Male","Fair","RowLowerCL",17.41,8.3989999999999991,21.172000000000001,15.99,11.93,13.01,17.12,12.41,15.18,13.48,9.6839999999999993,12.593999999999999,14.11,17.288,16.93]
["Male","Fair","RowUpperCL",23.63,17.87,33.375,21.03,20.47,17.18,22.18,20.8,20.79,18.66,17.638000000000002,22.707000000000001,22.75,29.29,18.940000000000001]
["Male","Bad/very bad","RowPercent",8.56,6.7359999999999998,6.7270000000000003,8.89,6.59,6.5,9.65,7.61,10.199999999999999,5.44,3.3050000000000002,7.2610000000000001,8.83,5.1529999999999996,7.98]
["Male","Bad/very bad","RowLowerCL",6.76,2.7389999999999999,3.2629999999999999,7.05,3.67,4.92,7.99,4.71,7.52,3.92,1.2470000000000001,3.5089999999999999,5.96,2.8980000000000001,7.29]
["Male","Bad/very bad","RowUpperCL",10.37,10.731999999999999,10.191000000000001,10.74,9.51,8.08,11.3,10.5,12.88,6.95,5.3639999999999999,11.012,11.7,7.407,8.67]
["Female","Very good/good","RowPercent",68.650000000000006,76.298000000000002,71.941999999999993,70.59,72.260000000000005,77.81,69.53,76.45,72.86,78.849999999999994,82.483000000000004,76.597999999999999,73.37,73.831000000000003,73.489999999999995]
["Female","Very good/good","RowLowerCL",65.42,71.106999999999999,66.757000000000005,67.81,67.650000000000006,75.489999999999995,67.03,71.790000000000006,69.61,76.36,77.179000000000002,70.944999999999993,69.19,70.031999999999996,72.459999999999994]
["Female","Very good/good","RowUpperCL",71.88,81.488,77.126999999999995,73.38,76.87,80.13,72.03,81.11,76.11,81.33,87.787000000000006,82.251000000000005,77.55,77.63,74.53]
["Female","Fair","RowPercent",19.82,17.943999999999999,18.190000000000001,20.49,16.68,16.87,19.309999999999999,16.28,18.62,15.39,12.616,16.419,18.8,19.481000000000002,18]
["Female","Fair","RowLowerCL",17.13,13.026999999999999,13.667,18.04,12.92,14.69,17.39,12.11,15.98,13.17,8.9410000000000007,11.202999999999999,15.46,15.564,17.149999999999999]
["Female","Fair","RowUpperCL",22.5,22.861999999999998,22.713000000000001,22.95,20.45,19.059999999999999,21.22,20.46,21.25,17.600000000000001,16.291,21.635000000000002,22.14,23.396999999999998,18.850000000000001]
["Female","Bad/very bad","RowPercent",11.53,5.758,9.8680000000000003,8.91,11.05,5.32,11.16,7.27,8.52,5.77,4.9009999999999998,6.9829999999999997,7.83,6.6890000000000001,8.5]
["Female","Bad/very bad","RowLowerCL",9.67,2.173,5.484,7.32,8.2100000000000009,4.18,9.48,4.93,6.61,4.3,2.0990000000000002,4.0090000000000003,5.33,4.5129999999999999,7.87]
["Female","Bad/very bad","RowUpperCL",13.39,9.343,14.250999999999999,10.51,13.89,6.45,12.85,9.6,10.43,7.23,7.7030000000000003,9.9580000000000002,10.33,8.8640000000000008,9.14]
["Total","Very good/good","RowPercent",69.69,78.033000000000001,69.045000000000002,71.56,74.599999999999994,78.09,70.09,76.13,72.36,78.67,82.757000000000005,75.819999999999993,73.069999999999993,72.694999999999993,73.78]
["Total","Very good/good","RowLowerCL",66.84,73.680000000000007,64.822000000000003,69.290000000000006,70.959999999999994,76.010000000000005,67.819999999999993,72.319999999999993,69.92,76.47,79.182000000000002,71.655000000000001,69.430000000000007,68.811000000000007,72.900000000000006]
["Total","Very good/good","RowUpperCL",72.55,82.385000000000005,73.266999999999996,73.84,78.25,80.17,72.36,79.95,74.8,80.87,86.332999999999998,79.984999999999999,76.72,76.58,74.66]
["Total","Fair","RowPercent",20.14,15.766999999999999,22.619,19.54,16.46,16.03,19.47,16.440000000000001,18.32,15.73,13.137,17.053999999999998,18.63,21.382999999999999,17.97]
["Total","Fair","RowLowerCL",17.690000000000001,12.1,19.152999999999999,17.809999999999999,13.78,14.39,17.77,13.2,16.37,13.89,10.061,13.159000000000001,15.86,17.288,17.28]
["Total","Fair","RowUpperCL",22.6,19.434000000000001,26.085999999999999,21.27,19.14,17.670000000000002,21.17,19.670000000000002,20.27,17.579999999999998,16.213000000000001,20.949000000000002,21.4,25.478999999999999,18.649999999999999]
["Total","Bad/very bad","RowPercent",10.17,6.2,8.3360000000000003,8.9,8.94,5.88,10.44,7.43,9.32,5.6,4.1059999999999999,7.1260000000000003,8.3000000000000007,5.9210000000000003,8.25]
["Total","Bad/very bad","RowLowerCL",8.84,3.08,5.609,7.54,6.74,4.83,9.09,5.42,7.6,4.4800000000000004,2.31,4.4889999999999999,6.29,4.2539999999999996,7.75]
["Total","Bad/very bad","RowUpperCL",11.5,9.3209999999999997,11.064,10.27,11.14,6.93,11.79,9.44,11.04,6.72,5.9009999999999998,9.7629999999999999,10.31,7.5880000000000001,8.76]
["Male",".","WgtFreq",606.12,183.85599999999999,262.10599999999999,619.88,497.09,978.48,1880.15,541.45000000000005,1147.4000000000001,1534.61,38.805,41.939,681.92,48.445999999999998,9062.26]
["Female",".","WgtFreq",710.35,222.27600000000001,275.46600000000001,662.81,553.76,1079.33,2051.62,586.85,1265.1300000000001,1496.34,39.048000000000002,39.383000000000003,771.2,48.518000000000001,9802.07]
["Total",".","WgtFreq",1316.47,406.13299999999998,537.572,1282.69,1050.8499999999999,2057.81,3931.77,1128.31,2412.5300000000002,3030.94,77.852999999999994,81.322000000000003,1453.11,96.963999999999999,18864.34]
["Male",".","Frequency",948,199,221,902,307,1134,1341,355,660,937,234,247,472,387,8344]
["Female",".","Frequency",1208,278,258,1141,412,1429,1748,463,879,1105,271,277,590,461,10520]
["Total",".","Frequency",2156,477,479,2043,719,2563,3089,818,1539,2042,505,524,1062,848,18864]

{"sheet":"SAH chart","index":4,"n_rows":48,"n_cols":18,"rows_kept":48,"cut":false,"hidden":false,"merged":[]}
[null,null,null,null,null,null,null,null,null,null,null,null,null,null,null,null,null,"INDEX"]
[]
[]
[]
[]
[]
[]
[]
[]
[]
[]
[]
[]
[]
[]
[]
[]
[]
[]
[]
[]
[]
[]
[]
[]
[]
[]
[]
[]
[]
[null,null,"Source: Scottish Health Survey"]
[]
[]
[null,null,"Ayrshire & Arran ","Borders","Dumfries & Galloway","Fife","Forth Valley","Grampian","Greater Glasgow & Clyde","Highland","Lanarkshire","Lothian","Orkney","Shetland","Tayside","Western Isles",null,"Scotland"]
[null,"All Adults"]
[null,"Very good/good",{"$f":"'Self-assessed general health'!B31","v":69.69},{"$f":"'Self-assessed general health'!C31","v":78.033000000000001},{"$f":"'Self-assessed general health'!D31","v":69.045000000000002},{"$f":"'Self-assessed general health'!E31","v":71.56},{"$f":"'Self-assessed general health'!F31","v":74.599999999999994},{"$f":"'Self-assessed general health'!G31","v":78.09},{"$f":"'Self-assessed general health'!H31","v":70.09},{"$f":"'Self-assessed general health'!I31","v":76.13},{"$f":"'Self-assessed general health'!J31","v":72.36},{"$f":"'Self-assessed general health'!K31","v":78.67},{"$f":"'Self-assessed general health'!L31","v":82.757000000000005},{"$f":"'Self-assessed general health'!M31","v":75.819999999999993},{"$f":"'Self-assessed general health'!N31","v":73.069999999999993},{"$f":"'Self-assessed general health'!O31","v":72.694999999999993},null,{"$f":"'Self-assessed general health'!P31","v":73.78}]
[null,"Lower CI",{"$f":"'Self-assessed general health'!B32","v":66.84},{"$f":"'Self-assessed general health'!C32","v":73.680000000000007},{"$f":"'Self-assessed general health'!D32","v":64.822000000000003},{"$f":"'Self-assessed general health'!E32","v":69.290000000000006},{"$f":"'Self-assessed general health'!F32","v":70.959999999999994},{"$f":"'Self-assessed general health'!G32","v":76.010000000000005},{"$f":"'Self-assessed general health'!H32","v":67.819999999999993},{"$f":"'Self-assessed general health'!I32","v":72.319999999999993},{"$f":"'Self-assessed general health'!J32","v":69.92},{"$f":"'Self-assessed general health'!K32","v":76.47},{"$f":"'Self-assessed general health'!L32","v":79.182000000000002},{"$f":"'Self-assessed general health'!M32","v":71.655000000000001},{"$f":"'Self-assessed general health'!N32","v":69.430000000000007},{"$f":"'Self-assessed general health'!O32","v":68.811000000000007},null,{"$f":"'Self-assessed general health'!P32","v":72.900000000000006}]
[null,"Upper CI",{"$f":"'Self-assessed general health'!B33","v":72.55},{"$f":"'Self-assessed general health'!C33","v":82.385000000000005},{"$f":"'Self-assessed general health'!D33","v":73.266999999999996},{"$f":"'Self-assessed general health'!E33","v":73.84},{"$f":"'Self-assessed general health'!F33","v":78.25},{"$f":"'Self-assessed general health'!G33","v":80.17},{"$f":"'Self-assessed general health'!H33","v":72.36},{"$f":"'Self-assessed general health'!I33","v":79.95},{"$f":"'Self-assessed general health'!J33","v":74.8},{"$f":"'Self-assessed general health'!K33","v":80.87},{"$f":"'Self-assessed general health'!L33","v":86.332999999999998},{"$f":"'Self-assessed general health'!M33","v":79.984999999999999},{"$f":"'Self-assessed general health'!N33","v":76.72},{"$f":"'Self-assessed general health'!O33","v":76.58},null,{"$f":"'Self-assessed general health'!P33","v":74.66}]
[null,"Fair",{"$f":"'Self-assessed general health'!B34","v":20.14},{"$f":"'Self-assessed general health'!C34","v":15.766999999999999},{"$f":"'Self-assessed general health'!D34","v":22.619},{"$f":"'Self-assessed general health'!E34","v":19.54},{"$f":"'Self-assessed general health'!F34","v":16.46},{"$f":"'Self-assessed general health'!G34","v":16.03},{"$f":"'Self-assessed general health'!H34","v":19.47},{"$f":"'Self-assessed general health'!I34","v":16.440000000000001},{"$f":"'Self-assessed general health'!J34","v":18.32},{"$f":"'Self-assessed general health'!K34","v":15.73},{"$f":"'Self-assessed general health'!L34","v":13.137},{"$f":"'Self-assessed general health'!M34","v":17.053999999999998},{"$f":"'Self-assessed general health'!N34","v":18.63},{"$f":"'Self-assessed general health'!O34","v":21.382999999999999},null,{"$f":"'Self-assessed general health'!P34","v":17.97}]
[null,"Lower CI",{"$f":"'Self-assessed general health'!B35","v":17.690000000000001},{"$f":"'Self-assessed general health'!C35","v":12.1},{"$f":"'Self-assessed general health'!D35","v":19.152999999999999},{"$f":"'Self-assessed general health'!E35","v":17.809999999999999},{"$f":"'Self-assessed general health'!F35","v":13.78},{"$f":"'Self-assessed general health'!G35","v":14.39},{"$f":"'Self-assessed general health'!H35","v":17.77},{"$f":"'Self-assessed general health'!I35","v":13.2},{"$f":"'Self-assessed general health'!J35","v":16.37},{"$f":"'Self-assessed general health'!K35","v":13.89},{"$f":"'Self-assessed general health'!L35","v":10.061},{"$f":"'Self-assessed general health'!M35","v":13.159000000000001},{"$f":"'Self-assessed general health'!N35","v":15.86},{"$f":"'Self-assessed general health'!O35","v":17.288},null,{"$f":"'Self-assessed general health'!P35","v":17.28}]
[null,"Upper CI",{"$f":"'Self-assessed general health'!B36","v":22.6},{"$f":"'Self-assessed general health'!C36","v":19.434000000000001},{"$f":"'Self-assessed general health'!D36","v":26.085999999999999},{"$f":"'Self-assessed general health'!E36","v":21.27},{"$f":"'Self-assessed general health'!F36","v":19.14},{"$f":"'Self-assessed general health'!G36","v":17.670000000000002},{"$f":"'Self-assessed general health'!H36","v":21.17},{"$f":"'Self-assessed general health'!I36","v":19.670000000000002},{"$f":"'Self-assessed general health'!J36","v":20.27},{"$f":"'Self-assessed general health'!K36","v":17.579999999999998},{"$f":"'Self-assessed general health'!L36","v":16.213000000000001},{"$f":"'Self-assessed general health'!M36","v":20.949000000000002},{"$f":"'Self-assessed general health'!N36","v":21.4},{"$f":"'Self-assessed general health'!O36","v":25.478999999999999},null,{"$f":"'Self-assessed general health'!P36","v":18.649999999999999}]
[null,"Bad/very bad",{"$f":"'Self-assessed general health'!B37","v":10.17},{"$f":"'Self-assessed general health'!C37","v":6.2},{"$f":"'Self-assessed general health'!D37","v":8.3360000000000003},{"$f":"'Self-assessed general health'!E37","v":8.9},{"$f":"'Self-assessed general health'!F37","v":8.94},{"$f":"'Self-assessed general health'!G37","v":5.88},{"$f":"'Self-assessed general health'!H37","v":10.44},{"$f":"'Self-assessed general health'!I37","v":7.43},{"$f":"'Self-assessed general health'!J37","v":9.32},{"$f":"'Self-assessed general health'!K37","v":5.6},{"$f":"'Self-assessed general health'!L37","v":4.1059999999999999},{"$f":"'Self-assessed general health'!M37","v":7.1260000000000003},{"$f":"'Self-assessed general health'!N37","v":8.3000000000000007},{"$f":"'Self-assessed general health'!O37","v":5.9210000000000003},null,{"$f":"'Self-assessed general health'!P37","v":8.25}]
[null,"Lower CI",{"$f":"'Self-assessed general health'!B38","v":8.84},{"$f":"'Self-assessed general health'!C38","v":3.08},{"$f":"'Self-assessed general health'!D38","v":5.609},{"$f":"'Self-assessed general health'!E38","v":7.54},{"$f":"'Self-assessed general health'!F38","v":6.74},{"$f":"'Self-assessed general health'!G38","v":4.83},{"$f":"'Self-assessed general health'!H38","v":9.09},{"$f":"'Self-assessed general health'!I38","v":5.42},{"$f":"'Self-assessed general health'!J38","v":7.6},{"$f":"'Self-assessed general health'!K38","v":4.4800000000000004},{"$f":"'Self-assessed general health'!L38","v":2.31},{"$f":"'Self-assessed general health'!M38","v":4.4889999999999999},{"$f":"'Self-assessed general health'!N38","v":6.29},{"$f":"'Self-assessed general health'!O38","v":4.2539999999999996},null,{"$f":"'Self-assessed general health'!P38","v":7.75}]
[null,"Upper CI",{"$f":"'Self-assessed general health'!B39","v":11.5},{"$f":"'Self-assessed general health'!C39","v":9.3209999999999997},{"$f":"'Self-assessed general health'!D39","v":11.064},{"$f":"'Self-assessed general health'!E39","v":10.27},{"$f":"'Self-assessed general health'!F39","v":11.14},{"$f":"'Self-assessed general health'!G39","v":6.93},{"$f":"'Self-assessed general health'!H39","v":11.79},{"$f":"'Self-assessed general health'!I39","v":9.44},{"$f":"'Self-assessed general health'!J39","v":11.04},{"$f":"'Self-assessed general health'!K39","v":6.72},{"$f":"'Self-assessed general health'!L39","v":5.9009999999999998},{"$f":"'Self-assessed general health'!M39","v":9.7629999999999999},{"$f":"'Self-assessed general health'!N39","v":10.31},{"$f":"'Self-assessed general health'!O39","v":7.5880000000000001},null,{"$f":"'Self-assessed general health'!P39","v":8.76}]
[]
["CLs","Very good",{"$f":"C36-C37","v":2.8499999999999943},4.3529999999999944,4.222999999999999,2.269999999999996,3.6400000000000006,2.0799999999999983,2.2700000000000102,3.8100000000000023,2.4399999999999977,2.2000000000000028,3.5750000000000028,4.164999999999992,3.6399999999999864,3.8839999999999861,null,{"$f":"R36-R37","v":0.87999999999999545}]
[null,"Fair",{"$f":"C39-C40","v":2.4499999999999993},3.6669999999999998,3.4660000000000011,1.7300000000000004,2.6800000000000015,1.6400000000000006,1.6999999999999993,3.240000000000002,1.9499999999999993,1.8399999999999999,3.0760000000000005,3.8949999999999978,2.7699999999999996,4.0949999999999989,null,{"$f":"R39-R40","v":0.68999999999999773}]
[null,"Bad/ very bad",{"$f":"C42-C43","v":1.33},3.12,2.7270000000000003,1.3600000000000003,2.1999999999999993,1.0499999999999998,1.3499999999999996,2.0099999999999998,1.7200000000000006,1.1199999999999992,1.7959999999999998,2.6370000000000005,2.0100000000000007,1.6670000000000007,null,{"$f":"R42-R43","v":0.5}]

{"sheet":"WEMWBS","index":5,"n_rows":29,"n_cols":16,"rows_kept":29,"cut":false,"hidden":false,"merged":[[4,0,5,0],[0,0,1,0]]}
["WEMWBS mean scores, by NHS Board and sex",null,null,null,null,null,null,null,null,null,null,null,null,"INDEX"]
[]
[]
["Aged 16 and over",null,null,null,null,null,null,null,null,null,null,null,null,null,null,"2013/2014/2015/2016 combined"]
["WEMWBS score","NHS Board"]
[null,"Ayrshire & Arran ","Borders","Dumfries & Galloway","Fife","Forth Valley","Grampian","Greater Glasgow & Clyde","Highland","Lanarkshire","Lothian","Orkney","Shetland","Tayside","Western Isles","Scotland"]
["Men"]
["Mean",{"$f":"'wemwbs data'!C2","v":49.53},{"$f":"'wemwbs data'!D2","v":49.792999999999999},{"$f":"'wemwbs data'!E2","v":49.588000000000001},{"$f":"'wemwbs data'!F2","v":50.18},{"$f":"'wemwbs data'!G2","v":50.613999999999997},{"$f":"'wemwbs data'!H2","v":50.87},{"$f":"'wemwbs data'!I2","v":49.48},{"$f":"'wemwbs data'!J2","v":50.9},{"$f":"'wemwbs data'!K2","v":50.12},{"$f":"'wemwbs data'!L2","v":50.25},{"$f":"'wemwbs data'!M2","v":50.216000000000001},{"$f":"'wemwbs data'!N2","v":50.765000000000001},{"$f":"'wemwbs data'!O2","v":49.2},{"$f":"'wemwbs data'!P2","v":51.274999999999999},{"$f":"'wemwbs data'!Q2","v":50.05}]
["Lower CI",{"$f":"'wemwbs data'!C3","v":48.9},{"$f":"'wemwbs data'!D3","v":48.53},{"$f":"'wemwbs data'!E3","v":48.143999999999998},{"$f":"'wemwbs data'!F3","v":49.44},{"$f":"'wemwbs data'!G3","v":49.771000000000001},{"$f":"'wemwbs data'!H3","v":50.33},{"$f":"'wemwbs data'!I3","v":48.93},{"$f":"'wemwbs data'!J3","v":50.03},{"$f":"'wemwbs data'!K3","v":49.33},{"$f":"'wemwbs data'!L3","v":49.52},{"$f":"'wemwbs data'!M3","v":49.103999999999999},{"$f":"'wemwbs data'!N3","v":49.604999999999997},{"$f":"'wemwbs data'!O3","v":48.31},{"$f":"'wemwbs data'!P3","v":50.279000000000003},{"$f":"'wemwbs data'!Q3","v":49.82}]
["Upper CI",{"$f":"'wemwbs data'!C4","v":50.16},{"$f":"'wemwbs data'!D4","v":51.055},{"$f":"'wemwbs data'!E4","v":51.031999999999996},{"$f":"'wemwbs data'!F4","v":50.92},{"$f":"'wemwbs data'!G4","v":51.457000000000001},{"$f":"'wemwbs data'!H4","v":51.41},{"$f":"'wemwbs data'!I4","v":50.03},{"$f":"'wemwbs data'!J4","v":51.78},{"$f":"'wemwbs data'!K4","v":50.92},{"$f":"'wemwbs data'!L4","v":50.98},{"$f":"'wemwbs data'!M4","v":51.329000000000001},{"$f":"'wemwbs data'!N4","v":51.926000000000002},{"$f":"'wemwbs data'!O4","v":50.09},{"$f":"'wemwbs data'!P4","v":52.271000000000001},{"$f":"'wemwbs data'!Q4","v":50.28}]
[]
["Women"]
["Mean",{"$f":"'wemwbs data'!C5","v":48.91},{"$f":"'wemwbs data'!D5","v":50.991999999999997},{"$f":"'wemwbs data'!E5","v":48.259},{"$f":"'wemwbs data'!F5","v":49.57},{"$f":"'wemwbs data'!G5","v":50.029000000000003},{"$f":"'wemwbs data'!H5","v":50.5},{"$f":"'wemwbs data'!I5","v":49.18},{"$f":"'wemwbs data'!J5","v":51.31},{"$f":"'wemwbs data'!K5","v":49.9},{"$f":"'wemwbs data'!L5","v":50.5},{"$f":"'wemwbs data'!M5","v":50.773000000000003},{"$f":"'wemwbs data'!N5","v":51.182000000000002},{"$f":"'wemwbs data'!O5","v":49.24},{"$f":"'wemwbs data'!P5","v":51.057000000000002},{"$f":"'wemwbs data'!Q5","v":49.85}]
["Lower CI",{"$f":"'wemwbs data'!C6","v":48.32},{"$f":"'wemwbs data'!D6","v":49.741},{"$f":"'wemwbs data'!E6","v":46.743000000000002},{"$f":"'wemwbs data'!F6","v":49.05},{"$f":"'wemwbs data'!G6","v":49.073},{"$f":"'wemwbs data'!H6","v":49.89},{"$f":"'wemwbs data'!I6","v":48.65},{"$f":"'wemwbs data'!J6","v":50.51},{"$f":"'wemwbs data'!K6","v":49.21},{"$f":"'wemwbs data'!L6","v":49.93},{"$f":"'wemwbs data'!M6","v":49.558},{"$f":"'wemwbs data'!N6","v":49.834000000000003},{"$f":"'wemwbs data'!O6","v":48.37},{"$f":"'wemwbs data'!P6","v":50.055999999999997},{"$f":"'wemwbs data'!Q6","v":49.62}]
["Upper CI",{"$f":"'wemwbs data'!C7","v":49.5},{"$f":"'wemwbs data'!D7","v":52.243000000000002},{"$f":"'wemwbs data'!E7","v":49.774999999999999},{"$f":"'wemwbs data'!F7","v":50.09},{"$f":"'wemwbs data'!G7","v":50.984000000000002},{"$f":"'wemwbs data'!H7","v":51.12},{"$f":"'wemwbs data'!I7","v":49.7},{"$f":"'wemwbs data'!J7","v":52.12},{"$f":"'wemwbs data'!K7","v":50.59},{"$f":"'wemwbs data'!L7","v":51.08},{"$f":"'wemwbs data'!M7","v":51.988},{"$f":"'wemwbs data'!N7","v":52.530999999999999},{"$f":"'wemwbs data'!O7","v":50.11},{"$f":"'wemwbs data'!P7","v":52.057000000000002},{"$f":"'wemwbs data'!Q7","v":50.07}]
[]
["All adults"]
["Mean",{"$f":"'wemwbs data'!C8","v":49.19},{"$f":"'wemwbs data'!D8","v":50.447000000000003},{"$f":"'wemwbs data'!E8","v":48.893000000000001},{"$f":"'wemwbs data'!F8","v":49.86},{"$f":"'wemwbs data'!G8","v":50.301000000000002},{"$f":"'wemwbs data'!H8","v":50.68},{"$f":"'wemwbs data'!I8","v":49.32},{"$f":"'wemwbs data'!J8","v":51.12},{"$f":"'wemwbs data'!K8","v":50.01},{"$f":"'wemwbs data'!L8","v":50.38},{"$f":"'wemwbs data'!M8","v":50.497},{"$f":"'wemwbs data'!N8","v":50.970999999999997},{"$f":"'wemwbs data'!O8","v":49.22},{"$f":"'wemwbs data'!P8","v":51.164999999999999},{"$f":"'wemwbs data'!Q8","v":49.94}]
["Lower CI",{"$f":"'wemwbs data'!C9","v":48.72},{"$f":"'wemwbs data'!D9","v":49.524999999999999},{"$f":"'wemwbs data'!E9","v":47.66},{"$f":"'wemwbs data'!F9","v":49.4},{"$f":"'wemwbs data'!G9","v":49.682000000000002},{"$f":"'wemwbs data'!H9","v":50.2},{"$f":"'wemwbs data'!I9","v":48.9},{"$f":"'wemwbs data'!J9","v":50.45},{"$f":"'wemwbs data'!K9","v":49.44},{"$f":"'wemwbs data'!L9","v":49.9},{"$f":"'wemwbs data'!M9","v":49.587000000000003},{"$f":"'wemwbs data'!N9","v":49.935000000000002},{"$f":"'wemwbs data'!O9","v":48.52},{"$f":"'wemwbs data'!P9","v":50.359000000000002},{"$f":"'wemwbs data'!Q9","v":49.76}]
["Upper CI",{"$f":"'wemwbs data'!C10","v":49.67},{"$f":"'wemwbs data'!D10","v":51.369},{"$f":"'wemwbs data'!E10","v":50.127000000000002},{"$f":"'wemwbs data'!F10","v":50.33},{"$f":"'wemwbs data'!G10","v":50.92},{"$f":"'wemwbs data'!H10","v":51.16},{"$f":"'wemwbs data'!I10","v":49.74},{"$f":"'wemwbs data'!J10","v":51.78},{"$f":"'wemwbs data'!K10","v":50.57},{"$f":"'wemwbs data'!L10","v":50.85},{"$f":"'wemwbs data'!M10","v":51.408000000000001},{"$f":"'wemwbs data'!N10","v":52.006999999999998},{"$f":"'wemwbs data'!O10","v":49.92},{"$f":"'wemwbs data'!P10","v":51.970999999999997},{"$f":"'wemwbs data'!Q10","v":50.12}]
[]
["Bases (weighted):"]
["Men",{"$f":"'wemwbs data'!C11","v":564.49},{"$f":"'wemwbs data'!D11","v":164.18},{"$f":"'wemwbs data'!E11","v":220.90799999999999},{"$f":"'wemwbs data'!F11","v":558.79},{"$f":"'wemwbs data'!G11","v":438.62599999999998},{"$f":"'wemwbs data'!H11","v":890.22},{"$f":"'wemwbs data'!I11","v":1648.05},{"$f":"'wemwbs data'!J11","v":486.53},{"$f":"'wemwbs data'!K11","v":1005.49},{"$f":"'wemwbs data'!L11","v":1358.73},{"$f":"'wemwbs data'!M11","v":37.116999999999997},{"$f":"'wemwbs data'!N11","v":37.027000000000001},{"$f":"'wemwbs data'!O11","v":636.5},{"$f":"'wemwbs data'!P11","v":40.122},{"$f":"'wemwbs data'!Q11","v":8086.76}]
["Women",{"$f":"'wemwbs data'!C12","v":678.97},{"$f":"'wemwbs data'!D12","v":197.12899999999999},{"$f":"'wemwbs data'!E12","v":242.18299999999999},{"$f":"'wemwbs data'!F12","v":603.92999999999995},{"$f":"'wemwbs data'!G12","v":503.96499999999997},{"$f":"'wemwbs data'!H12","v":994.95},{"$f":"'wemwbs data'!I12","v":1797.52},{"$f":"'wemwbs data'!J12","v":525.94000000000005},{"$f":"'wemwbs data'!K12","v":1122.1500000000001},{"$f":"'wemwbs data'!L12","v":1381.68},{"$f":"'wemwbs data'!M12","v":37.81},{"$f":"'wemwbs data'!N12","v":36.036999999999999},{"$f":"'wemwbs data'!O12","v":731.66},{"$f":"'wemwbs data'!P12","v":40.694000000000003},{"$f":"'wemwbs data'!Q12","v":8894.6200000000008}]
["All Adults",{"$f":"'wemwbs data'!C13","v":1243.46},{"$f":"'wemwbs data'!D13","v":361.30900000000003},{"$f":"'wemwbs data'!E13","v":463.09},{"$f":"'wemwbs data'!F13","v":1162.72},{"$f":"'wemwbs data'!G13","v":942.59},{"$f":"'wemwbs data'!H13","v":1885.17},{"$f":"'wemwbs data'!I13","v":3445.57},{"$f":"'wemwbs data'!J13","v":1012.47},{"$f":"'wemwbs data'!K13","v":2127.64},{"$f":"'wemwbs data'!L13","v":2740.4},{"$f":"'wemwbs data'!M13","v":74.927000000000007},{"$f":"'wemwbs data'!N13","v":73.063999999999993},{"$f":"'wemwbs data'!O13","v":1368.15},{"$f":"'wemwbs data'!P13","v":80.816000000000003},{"$f":"'wemwbs data'!Q13","v":16981.38}]
["Bases (unweighted)"]
["Men",{"$f":"'wemwbs data'!C14","v":881},{"$f":"'wemwbs data'!D14","v":178},{"$f":"'wemwbs data'!E14","v":186},{"$f":"'wemwbs data'!F14","v":810},{"$f":"'wemwbs data'!G14","v":273},{"$f":"'wemwbs data'!H14","v":1030},{"$f":"'wemwbs data'!I14","v":1170},{"$f":"'wemwbs data'!J14","v":316},{"$f":"'wemwbs data'!K14","v":575},{"$f":"'wemwbs data'!L14","v":831},{"$f":"'wemwbs data'!M14","v":224},{"$f":"'wemwbs data'!N14","v":216},{"$f":"'wemwbs data'!O14","v":442},{"$f":"'wemwbs data'!P14","v":326},{"$f":"'wemwbs data'!Q14","v":7458}]
["Women",{"$f":"'wemwbs data'!C15","v":1151},{"$f":"'wemwbs data'!D15","v":246},{"$f":"'wemwbs data'!E15","v":225},{"$f":"'wemwbs data'!F15","v":1042},{"$f":"'wemwbs data'!G15","v":376},{"$f":"'wemwbs data'!H15","v":1313},{"$f":"'wemwbs data'!I15","v":1527},{"$f":"'wemwbs data'!J15","v":414},{"$f":"'wemwbs data'!K15","v":780},{"$f":"'wemwbs data'!L15","v":1024},{"$f":"'wemwbs data'!M15","v":262},{"$f":"'wemwbs data'!N15","v":250},{"$f":"'wemwbs data'!O15","v":563},{"$f":"'wemwbs data'!P15","v":401},{"$f":"'wemwbs data'!Q15","v":9574}]
["All Adults",{"$f":"'wemwbs data'!C16","v":2032},{"$f":"'wemwbs data'!D16","v":424},{"$f":"'wemwbs data'!E16","v":411},{"$f":"'wemwbs data'!F16","v":1852},{"$f":"'wemwbs data'!G16","v":649},{"$f":"'wemwbs data'!H16","v":2343},{"$f":"'wemwbs data'!I16","v":2697},{"$f":"'wemwbs data'!J16","v":730},{"$f":"'wemwbs data'!K16","v":1355},{"$f":"'wemwbs data'!L16","v":1855},{"$f":"'wemwbs data'!M16","v":486},{"$f":"'wemwbs data'!N16","v":466},{"$f":"'wemwbs data'!O16","v":1005},{"$f":"'wemwbs data'!P16","v":727},{"$f":"'wemwbs data'!Q16","v":17032}]

{"sheet":"wemwbs data","index":6,"n_rows":16,"n_cols":17,"rows_kept":16,"cut":false,"hidden":true,"merged":[]}
["F_sex","_NAME_","Ayrshire & Arran","Borders","Dumfries & Galloway","Fife","Forth Valley","Grampian","Greater Glasgow","Highland","Lanarkshire","Lothian","Orkney","Shetland","Tayside","Western Isles","Scotland"]
["Male","Mean",49.53,49.792999999999999,49.588000000000001,50.18,50.613999999999997,50.87,49.48,50.9,50.12,50.25,50.216000000000001,50.765000000000001,49.2,51.274999999999999,50.05]
["Male","LowerCLMean",48.9,48.53,48.143999999999998,49.44,49.771000000000001,50.33,48.93,50.03,49.33,49.52,49.103999999999999,49.604999999999997,48.31,50.279000000000003,49.82]
["Male","UpperCLMean",50.16,51.055,51.031999999999996,50.92,51.457000000000001,51.41,50.03,51.78,50.92,50.98,51.329000000000001,51.926000000000002,50.09,52.271000000000001,50.28]
["Female","Mean",48.91,50.991999999999997,48.259,49.57,50.029000000000003,50.5,49.18,51.31,49.9,50.5,50.773000000000003,51.182000000000002,49.24,51.057000000000002,49.85]
["Female","LowerCLMean",48.32,49.741,46.743000000000002,49.05,49.073,49.89,48.65,50.51,49.21,49.93,49.558,49.834000000000003,48.37,50.055999999999997,49.62]
["Female","UpperCLMean",49.5,52.243000000000002,49.774999999999999,50.09,50.984000000000002,51.12,49.7,52.12,50.59,51.08,51.988,52.530999999999999,50.11,52.057000000000002,50.07]
["Total","Mean",49.19,50.447000000000003,48.893000000000001,49.86,50.301000000000002,50.68,49.32,51.12,50.01,50.38,50.497,50.970999999999997,49.22,51.164999999999999,49.94]
["Total","LowerCLMean",48.72,49.524999999999999,47.66,49.4,49.682000000000002,50.2,48.9,50.45,49.44,49.9,49.587000000000003,49.935000000000002,48.52,50.359000000000002,49.76]
["Total","UpperCLMean",49.67,51.369,50.127000000000002,50.33,50.92,51.16,49.74,51.78,50.57,50.85,51.408000000000001,52.006999999999998,49.92,51.970999999999997,50.12]
["Male","SumWgt",564.49,164.18,220.90799999999999,558.79,438.62599999999998,890.22,1648.05,486.53,1005.49,1358.73,37.116999999999997,37.027000000000001,636.5,40.122,8086.76]
["Female","SumWgt",678.97,197.12899999999999,242.18299999999999,603.92999999999995,503.96499999999997,994.95,1797.52,525.94000000000005,1122.1500000000001,1381.68,37.81,36.036999999999999,731.66,40.694000000000003,8894.6200000000008]
["Total","SumWgt",1243.46,361.30900000000003,463.09,1162.72,942.59,1885.17,3445.57,1012.47,2127.64,2740.4,74.927000000000007,73.063999999999993,1368.15,80.816000000000003,16981.38]
["Male","N",881,178,186,810,273,1030,1170,316,575,831,224,216,442,326,7458]
["Female","N",1151,246,225,1042,376,1313,1527,414,780,1024,262,250,563,401,9574]
["Total","N",2032,424,411,1852,649,2343,2697,730,1355,1855,486,466,1005,727,17032]

{"sheet":"WEMWBS chart ","index":7,"n_rows":40,"n_cols":18,"rows_kept":40,"cut":false,"hidden":false,"merged":[]}
[null,null,null,null,null,null,null,null,null,null,null,null,null,null,null,null,null,"INDEX"]
[]
[]
[]
[]
[]
[]
[]
[]
[]
[]
[]
[]
[]
[]
[]
[]
[]
[]
[]
[]
[]
[]
[]
[]
[]
[]
[]
[]
[]
[null,null,"Source: Scottish Health Survey"]
[]
[]
[null,null,"Ayrshire & Arran ","Borders","Dumfries & Galloway","Fife","Forth Valley","Grampian","Greater Glasgow & Clyde","Highland","Lanarkshire","Lothian","Orkney","Shetland","Tayside","Western Isles",null,"Scotland"]
[null,"All Adults"]
[null,"Mean",{"$f":"WEMWBS!B18","v":49.19},{"$f":"WEMWBS!C18","v":50.447000000000003},{"$f":"WEMWBS!D18","v":48.893000000000001},{"$f":"WEMWBS!E18","v":49.86},{"$f":"WEMWBS!F18","v":50.301000000000002},{"$f":"WEMWBS!G18","v":50.68},{"$f":"WEMWBS!H18","v":49.32},{"$f":"WEMWBS!I18","v":51.12},{"$f":"WEMWBS!J18","v":50.01},{"$f":"WEMWBS!K18","v":50.38},{"$f":"WEMWBS!L18","v":50.497},{"$f":"WEMWBS!M18","v":50.970999999999997},{"$f":"WEMWBS!N18","v":49.22},{"$f":"WEMWBS!O18","v":51.164999999999999},null,{"$f":"WEMWBS!P18","v":49.94}]
[null,"Lower CI",{"$f":"WEMWBS!B19","v":48.72},{"$f":"WEMWBS!C19","v":49.524999999999999},{"$f":"WEMWBS!D19","v":47.66},{"$f":"WEMWBS!E19","v":49.4},{"$f":"WEMWBS!F19","v":49.682000000000002},{"$f":"WEMWBS!G19","v":50.2},{"$f":"WEMWBS!H19","v":48.9},{"$f":"WEMWBS!I19","v":50.45},{"$f":"WEMWBS!J19","v":49.44},{"$f":"WEMWBS!K19","v":49.9},{"$f":"WEMWBS!L19","v":49.587000000000003},{"$f":"WEMWBS!M19","v":49.935000000000002},{"$f":"WEMWBS!N19","v":48.52},{"$f":"WEMWBS!O19","v":50.359000000000002},null,{"$f":"WEMWBS!P19","v":49.76}]
[null,"Upper CI",{"$f":"WEMWBS!B20","v":49.67},{"$f":"WEMWBS!C20","v":51.369},{"$f":"WEMWBS!D20","v":50.127000000000002},{"$f":"WEMWBS!E20","v":50.33},{"$f":"WEMWBS!F20","v":50.92},{"$f":"WEMWBS!G20","v":51.16},{"$f":"WEMWBS!H20","v":49.74},{"$f":"WEMWBS!I20","v":51.78},{"$f":"WEMWBS!J20","v":50.57},{"$f":"WEMWBS!K20","v":50.85},{"$f":"WEMWBS!L20","v":51.408000000000001},{"$f":"WEMWBS!M20","v":52.006999999999998},{"$f":"WEMWBS!N20","v":49.92},{"$f":"WEMWBS!O20","v":51.970999999999997},null,{"$f":"WEMWBS!P20","v":50.12}]
[]
["CLs",null,{"$f":"C36-C37","v":0.46999999999999886},0.92200000000000415,1.2330000000000041,0.46000000000000085,0.61899999999999977,0.47999999999999687,0.42000000000000171,0.6699999999999946,0.57000000000000028,0.48000000000000398,0.90999999999999659,1.0359999999999943,0.69999999999999574,0.80599999999999739,null,{"$f":"R36-R37","v":0.17999999999999972}]

{"sheet":"GHQ-12 scores","index":8,"n_rows":49,"n_cols":16,"rows_kept":49,"cut":false,"hidden":false,"merged":[[0,0,1,0],[4,0,5,0]]}
["General Health Questionnaire (GHQ-12) scores, by NHS Board and sex",null,null,null,null,null,null,null,null,null,null,null,"INDEX"]
[]
[]
["Aged 16 and over",null,null,null,null,null,null,null,null,null,null,null,null,null,null,"2013/2014/2015/2016 combined"]
["GHQ-12 scores","NHS Board"]
[null,"Ayrshire & Arran ","Borders","Dumfries & Galloway","Fife","Forth Valley","Grampian","Greater Glasgow & Clyde","Highland","Lanarkshire","Lothian","Orkney","Shetland","Tayside","Western Isles","Scotland"]
[null,"%","%","%","%","%","%","%","%","%","%","%","%","%","%","%"]
["Men"]
["Score 0",{"$f":"'GHQ data'!D2","v":66.08},{"$f":"'GHQ data'!E2","v":62.018999999999998},{"$f":"'GHQ data'!F2","v":63.39},{"$f":"'GHQ data'!G2","v":67.150000000000006},{"$f":"'GHQ data'!H2","v":62.527000000000001},{"$f":"'GHQ data'!I2","v":68.739999999999995},{"$f":"'GHQ data'!J2","v":61.72},{"$f":"'GHQ data'!K2","v":69.55},{"$f":"'GHQ data'!L2","v":64.59},{"$f":"'GHQ data'!M2","v":63.88},{"$f":"'GHQ data'!N2","v":64.912999999999997},{"$f":"'GHQ data'!O2","v":72.328000000000003},{"$f":"'GHQ data'!P2","v":61.33},{"$f":"'GHQ data'!Q2","v":68.576999999999998},{"$f":"'GHQ data'!R2","v":64.52}]
["Lower CI",{"$f":"'GHQ data'!D3","v":62.77},{"$f":"'GHQ data'!E3","v":54.026000000000003},{"$f":"'GHQ data'!F3","v":55.493000000000002},{"$f":"'GHQ data'!G3","v":63.16},{"$f":"'GHQ data'!H3","v":56.718000000000004},{"$f":"'GHQ data'!I3","v":65.73},{"$f":"'GHQ data'!J3","v":58.26},{"$f":"'GHQ data'!K3","v":63.44},{"$f":"'GHQ data'!L3","v":60.19},{"$f":"'GHQ data'!M3","v":60.2},{"$f":"'GHQ data'!N3","v":58.783999999999999},{"$f":"'GHQ data'!O3","v":65.555000000000007},{"$f":"'GHQ data'!P3","v":56.6},{"$f":"'GHQ data'!Q3","v":62.667999999999999},{"$f":"'GHQ data'!R3","v":63.17}]
["Upper CI",{"$f":"'GHQ data'!D4","v":69.400000000000006},{"$f":"'GHQ data'!E4","v":70.012},{"$f":"'GHQ data'!F4","v":71.287999999999997},{"$f":"'GHQ data'!G4","v":71.150000000000006},{"$f":"'GHQ data'!H4","v":68.335999999999999},{"$f":"'GHQ data'!I4","v":71.760000000000005},{"$f":"'GHQ data'!J4","v":65.180000000000007},{"$f":"'GHQ data'!K4","v":75.66},{"$f":"'GHQ data'!L4","v":68.989999999999995},{"$f":"'GHQ data'!M4","v":67.56},{"$f":"'GHQ data'!N4","v":71.043000000000006},{"$f":"'GHQ data'!O4","v":79.100999999999999},{"$f":"'GHQ data'!P4","v":66.05},{"$f":"'GHQ data'!Q4","v":74.484999999999999},{"$f":"'GHQ data'!R4","v":65.87}]
["Score 1-3",{"$f":"'GHQ data'!D5","v":19.260000000000002},{"$f":"'GHQ data'!E5","v":20.073},{"$f":"'GHQ data'!F5","v":21.786000000000001},{"$f":"'GHQ data'!G5","v":19.559999999999999},{"$f":"'GHQ data'!H5","v":27.559000000000001},{"$f":"'GHQ data'!I5","v":22.25},{"$f":"'GHQ data'!J5","v":22.92},{"$f":"'GHQ data'!K5","v":18.63},{"$f":"'GHQ data'!L5","v":19.7},{"$f":"'GHQ data'!M5","v":22.28},{"$f":"'GHQ data'!N5","v":24.460999999999999},{"$f":"'GHQ data'!O5","v":19.963999999999999},{"$f":"'GHQ data'!P5","v":24.46},{"$f":"'GHQ data'!Q5","v":19.093},{"$f":"'GHQ data'!R5","v":21.85}]
["Lower CI",{"$f":"'GHQ data'!D6","v":16.739999999999998},{"$f":"'GHQ data'!E6","v":12.868},{"$f":"'GHQ data'!F6","v":14.93},{"$f":"'GHQ data'!G6","v":16.52},{"$f":"'GHQ data'!H6","v":22.006},{"$f":"'GHQ data'!I6","v":19.68},{"$f":"'GHQ data'!J6","v":20.010000000000002},{"$f":"'GHQ data'!K6","v":13.73},{"$f":"'GHQ data'!L6","v":16.03},{"$f":"'GHQ data'!M6","v":19.16},{"$f":"'GHQ data'!N6","v":18.593},{"$f":"'GHQ data'!O6","v":14.49},{"$f":"'GHQ data'!P6","v":20.27},{"$f":"'GHQ data'!Q6","v":14.282},{"$f":"'GHQ data'!R6","v":20.66}]
["Upper CI",{"$f":"'GHQ data'!D7","v":21.78},{"$f":"'GHQ data'!E7","v":27.277999999999999},{"$f":"'GHQ data'!F7","v":28.643000000000001},{"$f":"'GHQ data'!G7","v":22.6},{"$f":"'GHQ data'!H7","v":33.112000000000002},{"$f":"'GHQ data'!I7","v":24.82},{"$f":"'GHQ data'!J7","v":25.83},{"$f":"'GHQ data'!K7","v":23.53},{"$f":"'GHQ data'!L7","v":23.37},{"$f":"'GHQ data'!M7","v":25.39},{"$f":"'GHQ data'!N7","v":30.327999999999999},{"$f":"'GHQ data'!O7","v":25.437000000000001},{"$f":"'GHQ data'!P7","v":28.64},{"$f":"'GHQ data'!Q7","v":23.904},{"$f":"'GHQ data'!R7","v":23.04}]
["Score 4+",{"$f":"'GHQ data'!D8","v":14.66},{"$f":"'GHQ data'!E8","v":17.908000000000001},{"$f":"'GHQ data'!F8","v":14.823},{"$f":"'GHQ data'!G8","v":13.29},{"$f":"'GHQ data'!H8","v":9.9139999999999997},{"$f":"'GHQ data'!I8","v":9.01},{"$f":"'GHQ data'!J8","v":15.36},{"$f":"'GHQ data'!K8","v":11.82},{"$f":"'GHQ data'!L8","v":15.71},{"$f":"'GHQ data'!M8","v":13.84},{"$f":"'GHQ data'!N8","v":10.625999999999999},{"$f":"'GHQ data'!O8","v":7.7080000000000002},{"$f":"'GHQ data'!P8","v":14.22},{"$f":"'GHQ data'!Q8","v":12.33},{"$f":"'GHQ data'!R8","v":13.63}]
["Lower CI",{"$f":"'GHQ data'!D9","v":11.74},{"$f":"'GHQ data'!E9","v":10.183},{"$f":"'GHQ data'!F9","v":8.5990000000000002},{"$f":"'GHQ data'!G9","v":10.71},{"$f":"'GHQ data'!H9","v":6.2210000000000001},{"$f":"'GHQ data'!I9","v":7.3},{"$f":"'GHQ data'!J9","v":13.02},{"$f":"'GHQ data'!K9","v":7.97},{"$f":"'GHQ data'!L9","v":12.39},{"$f":"'GHQ data'!M9","v":11.16},{"$f":"'GHQ data'!N9","v":7.1760000000000002},{"$f":"'GHQ data'!O9","v":4.7119999999999997},{"$f":"'GHQ data'!P9","v":10.93},{"$f":"'GHQ data'!Q9","v":7.3460000000000001},{"$f":"'GHQ data'!R9","v":12.68}]
["Upper CI",{"$f":"'GHQ data'!D10","v":17.57},{"$f":"'GHQ data'!E10","v":25.632000000000001},{"$f":"'GHQ data'!F10","v":21.047999999999998},{"$f":"'GHQ data'!G10","v":15.87},{"$f":"'GHQ data'!H10","v":13.606},{"$f":"'GHQ data'!I10","v":10.72},{"$f":"'GHQ data'!J10","v":17.7},{"$f":"'GHQ data'!K10","v":15.67},{"$f":"'GHQ data'!L10","v":19.02},{"$f":"'GHQ data'!M10","v":16.53},{"$f":"'GHQ data'!N10","v":14.076000000000001},{"$f":"'GHQ data'!O10","v":10.704000000000001},{"$f":"'GHQ data'!P10","v":17.5},{"$f":"'GHQ data'!Q10","v":17.314},{"$f":"'GHQ data'!R10","v":14.57}]
[]
["Women"]
["Score 0",{"$f":"'GHQ data'!D11","v":56.6},{"$f":"'GHQ data'!E11","v":59.814},{"$f":"'GHQ data'!F11","v":59.637},{"$f":"'GHQ data'!G11","v":57.62},{"$f":"'GHQ data'!H11","v":58.246000000000002},{"$f":"'GHQ data'!I11","v":58.08},{"$f":"'GHQ data'!J11","v":52.79},{"$f":"'GHQ data'!K11","v":61.72},{"$f":"'GHQ data'!L11","v":59.69},{"$f":"'GHQ data'!M11","v":56.68},{"$f":"'GHQ data'!N11","v":62.841000000000001},{"$f":"'GHQ data'!O11","v":59.817999999999998},{"$f":"'GHQ data'!P11","v":56.56},{"$f":"'GHQ data'!Q11","v":67.274000000000001},{"$f":"'GHQ data'!R11","v":57.1}]
["Lower CI",{"$f":"'GHQ data'!D12","v":53.59},{"$f":"'GHQ data'!E12","v":53.122},{"$f":"'GHQ data'!F12","v":53.503999999999998},{"$f":"'GHQ data'!G12","v":54.13},{"$f":"'GHQ data'!H12","v":53.155999999999999},{"$f":"'GHQ data'!I12","v":55.09},{"$f":"'GHQ data'!J12","v":50.03},{"$f":"'GHQ data'!K12","v":56.48},{"$f":"'GHQ data'!L12","v":56.08},{"$f":"'GHQ data'!M12","v":53.27},{"$f":"'GHQ data'!N12","v":55.796999999999997},{"$f":"'GHQ data'!O12","v":53.228000000000002},{"$f":"'GHQ data'!P12","v":52.35},{"$f":"'GHQ data'!Q12","v":62.252000000000002},{"$f":"'GHQ data'!R12","v":55.93}]
["Upper CI",{"$f":"'GHQ data'!D13","v":59.62},{"$f":"'GHQ data'!E13","v":66.507000000000005},{"$f":"'GHQ data'!F13","v":65.77},{"$f":"'GHQ data'!G13","v":61.12},{"$f":"'GHQ data'!H13","v":63.335000000000001},{"$f":"'GHQ data'!I13","v":61.06},{"$f":"'GHQ data'!J13","v":55.54},{"$f":"'GHQ data'!K13","v":66.959999999999994},{"$f":"'GHQ data'!L13","v":63.31},{"$f":"'GHQ data'!M13","v":60.09},{"$f":"'GHQ data'!N13","v":69.885000000000005},{"$f":"'GHQ data'!O13","v":66.406999999999996},{"$f":"'GHQ data'!P13","v":60.78},{"$f":"'GHQ data'!Q13","v":72.296000000000006},{"$f":"'GHQ data'!R13","v":58.27}]
["Score 1-3",{"$f":"'GHQ data'!D14","v":25.47},{"$f":"'GHQ data'!E14","v":22.34},{"$f":"'GHQ data'!F14","v":24.738},{"$f":"'GHQ data'!G14","v":26.05},{"$f":"'GHQ data'!H14","v":25.28},{"$f":"'GHQ data'!I14","v":27.1},{"$f":"'GHQ data'!J14","v":26.44},{"$f":"'GHQ data'!K14","v":19.5},{"$f":"'GHQ data'!L14","v":24.31},{"$f":"'GHQ data'!M14","v":27.87},{"$f":"'GHQ data'!N14","v":24.692},{"$f":"'GHQ data'!O14","v":23.213000000000001},{"$f":"'GHQ data'!P14","v":26.27},{"$f":"'GHQ data'!Q14","v":19.315999999999999},{"$f":"'GHQ data'!R14","v":25.68}]
["Lower CI",{"$f":"'GHQ data'!D15","v":22.94},{"$f":"'GHQ data'!E15","v":16.658000000000001},{"$f":"'GHQ data'!F15","v":19.907},{"$f":"'GHQ data'!G15","v":23.29},{"$f":"'GHQ data'!H15","v":20.664999999999999},{"$f":"'GHQ data'!I15","v":24.69},{"$f":"'GHQ data'!J15","v":24.22},{"$f":"'GHQ data'!K15","v":14.83},{"$f":"'GHQ data'!L15","v":20.89},{"$f":"'GHQ data'!M15","v":24.73},{"$f":"'GHQ data'!N15","v":18.899999999999999},{"$f":"'GHQ data'!O15","v":18.498000000000001},{"$f":"'GHQ data'!P15","v":22.54},{"$f":"'GHQ data'!Q15","v":15.163},{"$f":"'GHQ data'!R15","v":24.64}]
["Upper CI",{"$f":"'GHQ data'!D16","v":28},{"$f":"'GHQ data'!E16","v":28.021000000000001},{"$f":"'GHQ data'!F16","v":29.568000000000001},{"$f":"'GHQ data'!G16","v":28.8},{"$f":"'GHQ data'!H16","v":29.895},{"$f":"'GHQ data'!I16","v":29.5},{"$f":"'GHQ data'!J16","v":28.67},{"$f":"'GHQ data'!K16","v":24.17},{"$f":"'GHQ data'!L16","v":27.73},{"$f":"'GHQ data'!M16","v":31},{"$f":"'GHQ data'!N16","v":30.483000000000001},{"$f":"'GHQ data'!O16","v":27.927},{"$f":"'GHQ data'!P16","v":30},{"$f":"'GHQ data'!Q16","v":23.47},{"$f":"'GHQ data'!R16","v":26.73}]
["Score 4+",{"$f":"'GHQ data'!D17","v":17.93},{"$f":"'GHQ data'!E17","v":17.846},{"$f":"'GHQ data'!F17","v":15.625999999999999},{"$f":"'GHQ data'!G17","v":16.329999999999998},{"$f":"'GHQ data'!H17","v":16.474},{"$f":"'GHQ data'!I17","v":14.82},{"$f":"'GHQ data'!J17","v":20.77},{"$f":"'GHQ data'!K17","v":18.78},{"$f":"'GHQ data'!L17","v":16},{"$f":"'GHQ data'!M17","v":15.45},{"$f":"'GHQ data'!N17","v":12.467000000000001},{"$f":"'GHQ data'!O17","v":16.97},{"$f":"'GHQ data'!P17","v":17.170000000000002},{"$f":"'GHQ data'!Q17","v":13.41},{"$f":"'GHQ data'!R17","v":17.22}]
["Lower CI",{"$f":"'GHQ data'!D18","v":15.79},{"$f":"'GHQ data'!E18","v":13.817},{"$f":"'GHQ data'!F18","v":9.6240000000000006},{"$f":"'GHQ data'!G18","v":14.09},{"$f":"'GHQ data'!H18","v":12.433},{"$f":"'GHQ data'!I18","v":12.54},{"$f":"'GHQ data'!J18","v":18.59},{"$f":"'GHQ data'!K18","v":15.09},{"$f":"'GHQ data'!L18","v":13.08},{"$f":"'GHQ data'!M18","v":12.88},{"$f":"'GHQ data'!N18","v":7.4710000000000001},{"$f":"'GHQ data'!O18","v":11.57},{"$f":"'GHQ data'!P18","v":13.73},{"$f":"'GHQ data'!Q18","v":10.145},{"$f":"'GHQ data'!R18","v":16.309999999999999}]
["Upper CI",{"$f":"'GHQ data'!D19","v":20.07},{"$f":"'GHQ data'!E19","v":21.876000000000001},{"$f":"'GHQ data'!F19","v":21.626999999999999},{"$f":"'GHQ data'!G19","v":18.57},{"$f":"'GHQ data'!H19","v":20.515000000000001},{"$f":"'GHQ data'!I19","v":17.11},{"$f":"'GHQ data'!J19","v":22.94},{"$f":"'GHQ data'!K19","v":22.47},{"$f":"'GHQ data'!L19","v":18.920000000000002},{"$f":"'GHQ data'!M19","v":18.03},{"$f":"'GHQ data'!N19","v":17.463999999999999},{"$f":"'GHQ data'!O19","v":22.369},{"$f":"'GHQ data'!P19","v":20.6},{"$f":"'GHQ data'!Q19","v":16.673999999999999},{"$f":"'GHQ data'!R19","v":18.12}]
[]
["All Adults"]
["Score 0",{"$f":"'GHQ data'!D20","v":60.95},{"$f":"'GHQ data'!E20","v":60.795000000000002},{"$f":"'GHQ data'!F20","v":61.423000000000002},{"$f":"'GHQ data'!G20","v":62.19},{"$f":"'GHQ data'!H20","v":60.220999999999997},{"$f":"'GHQ data'!I20","v":63.12},{"$f":"'GHQ data'!J20","v":57.05},{"$f":"'GHQ data'!K20","v":65.47},{"$f":"'GHQ data'!L20","v":62.01},{"$f":"'GHQ data'!M20","v":60.27},{"$f":"'GHQ data'!N20","v":63.872999999999998},{"$f":"'GHQ data'!O20","v":66.099000000000004},{"$f":"'GHQ data'!P20","v":58.79},{"$f":"'GHQ data'!Q20","v":67.918999999999997},{"$f":"'GHQ data'!R20","v":60.64}]
["Lower CI",{"$f":"'GHQ data'!D21","v":58.46},{"$f":"'GHQ data'!E21","v":55.872},{"$f":"'GHQ data'!F21","v":56.249000000000002},{"$f":"'GHQ data'!G21","v":59.33},{"$f":"'GHQ data'!H21","v":56.081000000000003},{"$f":"'GHQ data'!I21","v":60.75},{"$f":"'GHQ data'!J21","v":54.56},{"$f":"'GHQ data'!K21","v":61},{"$f":"'GHQ data'!L21","v":58.9},{"$f":"'GHQ data'!M21","v":57.43},{"$f":"'GHQ data'!N21","v":59.805999999999997},{"$f":"'GHQ data'!O21","v":60.552},{"$f":"'GHQ data'!P21","v":55.33},{"$f":"'GHQ data'!Q21","v":64.043999999999997},{"$f":"'GHQ data'!R21","v":59.63}]
["Upper CI",{"$f":"'GHQ data'!D22","v":63.44},{"$f":"'GHQ data'!E22","v":65.718999999999994},{"$f":"'GHQ data'!F22","v":66.596999999999994},{"$f":"'GHQ data'!G22","v":65.05},{"$f":"'GHQ data'!H22","v":64.36},{"$f":"'GHQ data'!I22","v":65.489999999999995},{"$f":"'GHQ data'!J22","v":59.54},{"$f":"'GHQ data'!K22","v":69.94},{"$f":"'GHQ data'!L22","v":65.12},{"$f":"'GHQ data'!M22","v":63.11},{"$f":"'GHQ data'!N22","v":67.941000000000003},{"$f":"'GHQ data'!O22","v":71.646000000000001},{"$f":"'GHQ data'!P22","v":62.25},{"$f":"'GHQ data'!Q22","v":71.793999999999997},{"$f":"'GHQ data'!R22","v":61.64}]
["Score 1-3",{"$f":"'GHQ data'!D23","v":22.62},{"$f":"'GHQ data'!E23","v":21.332000000000001},{"$f":"'GHQ data'!F23","v":23.332999999999998},{"$f":"'GHQ data'!G23","v":22.94},{"$f":"'GHQ data'!H23","v":26.332000000000001},{"$f":"'GHQ data'!I23","v":24.8},{"$f":"'GHQ data'!J23","v":24.76},{"$f":"'GHQ data'!K23","v":19.079999999999998},{"$f":"'GHQ data'!L23","v":22.13},{"$f":"'GHQ data'!M23","v":25.08},{"$f":"'GHQ data'!N23","v":24.577000000000002},{"$f":"'GHQ data'!O23","v":21.581},{"$f":"'GHQ data'!P23","v":25.42},{"$f":"'GHQ data'!Q23","v":19.206},{"$f":"'GHQ data'!R23","v":23.86}]
["Lower CI",{"$f":"'GHQ data'!D24","v":20.82},{"$f":"'GHQ data'!E24","v":16.829999999999998},{"$f":"'GHQ data'!F24","v":19.265999999999998},{"$f":"'GHQ data'!G24","v":20.82},{"$f":"'GHQ data'!H24","v":22.478000000000002},{"$f":"'GHQ data'!I24","v":23.01},{"$f":"'GHQ data'!J24","v":22.73},{"$f":"'GHQ data'!K24","v":15.77},{"$f":"'GHQ data'!L24","v":19.34},{"$f":"'GHQ data'!M24","v":22.66},{"$f":"'GHQ data'!N24","v":20.472999999999999},{"$f":"'GHQ data'!O24","v":17.792999999999999},{"$f":"'GHQ data'!P24","v":22.65},{"$f":"'GHQ data'!Q24","v":16.273},{"$f":"'GHQ data'!R24","v":23}]
["Upper CI",{"$f":"'GHQ data'!D25","v":24.43},{"$f":"'GHQ data'!E25","v":25.834},{"$f":"'GHQ data'!F25","v":27.4},{"$f":"'GHQ data'!G25","v":25.05},{"$f":"'GHQ data'!H25","v":30.184999999999999},{"$f":"'GHQ data'!I25","v":26.59},{"$f":"'GHQ data'!J25","v":26.79},{"$f":"'GHQ data'!K25","v":22.4},{"$f":"'GHQ data'!L25","v":24.92},{"$f":"'GHQ data'!M25","v":27.49},{"$f":"'GHQ data'!N25","v":28.68},{"$f":"'GHQ data'!O25","v":25.37},{"$f":"'GHQ data'!P25","v":28.2},{"$f":"'GHQ data'!Q25","v":22.138000000000002},{"$f":"'GHQ data'!R25","v":24.71}]
["Score 4+",{"$f":"'GHQ data'!D26","v":16.43},{"$f":"'GHQ data'!E26","v":17.873000000000001},{"$f":"'GHQ data'!F26","v":15.244},{"$f":"'GHQ data'!G26","v":14.87},{"$f":"'GHQ data'!H26","v":13.448},{"$f":"'GHQ data'!I26","v":12.07},{"$f":"'GHQ data'!J26","v":18.190000000000001},{"$f":"'GHQ data'!K26","v":15.45},{"$f":"'GHQ data'!L26","v":15.86},{"$f":"'GHQ data'!M26","v":14.65},{"$f":"'GHQ data'!N26","v":11.55},{"$f":"'GHQ data'!O26","v":12.319000000000001},{"$f":"'GHQ data'!P26","v":15.79},{"$f":"'GHQ data'!Q26","v":12.875},{"$f":"'GHQ data'!R26","v":15.51}]
["Lower CI",{"$f":"'GHQ data'!D27","v":14.46},{"$f":"'GHQ data'!E27","v":13.478},{"$f":"'GHQ data'!F27","v":10.585000000000001},{"$f":"'GHQ data'!G27","v":13.1},{"$f":"'GHQ data'!H27","v":10.679},{"$f":"'GHQ data'!I27","v":10.58},{"$f":"'GHQ data'!J27","v":16.489999999999998},{"$f":"'GHQ data'!K27","v":12.45},{"$f":"'GHQ data'!L27","v":13.53},{"$f":"'GHQ data'!M27","v":12.69},{"$f":"'GHQ data'!N27","v":8.2029999999999994},{"$f":"'GHQ data'!O27","v":8.6829999999999998},{"$f":"'GHQ data'!P27","v":13.18},{"$f":"'GHQ data'!Q27","v":9.9499999999999993},{"$f":"'GHQ data'!R27","v":14.81}]
["Upper CI",{"$f":"'GHQ data'!D28","v":18.39},{"$f":"'GHQ data'!E28","v":22.268999999999998},{"$f":"'GHQ data'!F28","v":19.902999999999999},{"$f":"'GHQ data'!G28","v":16.64},{"$f":"'GHQ data'!H28","v":16.216000000000001},{"$f":"'GHQ data'!I28","v":13.56},{"$f":"'GHQ data'!J28","v":19.89},{"$f":"'GHQ data'!K28","v":18.440000000000001},{"$f":"'GHQ data'!L28","v":18.190000000000001},{"$f":"'GHQ data'!M28","v":16.61},{"$f":"'GHQ data'!N28","v":14.897},{"$f":"'GHQ data'!O28","v":15.956},{"$f":"'GHQ data'!P28","v":18.399999999999999},{"$f":"'GHQ data'!Q28","v":15.801},{"$f":"'GHQ data'!R28","v":16.2}]
[]
[]
["Bases (weighted):"]
["Men",{"$f":"'GHQ data'!D29","v":571.78},{"$f":"'GHQ data'!E29","v":160.018},{"$f":"'GHQ data'!F29","v":223.74700000000001},{"$f":"'GHQ data'!G29","v":557.65},{"$f":"'GHQ data'!H29","v":440.38900000000001},{"$f":"'GHQ data'!I29","v":892.35},{"$f":"'GHQ data'!J29","v":1655.3},{"$f":"'GHQ data'!K29","v":486.27},{"$f":"'GHQ data'!L29","v":1013.3},{"$f":"'GHQ data'!M29","v":1378.63},{"$f":"'GHQ data'!N29","v":37.116999999999997},{"$f":"'GHQ data'!O29","v":36.654000000000003},{"$f":"'GHQ data'!P29","v":643.71},{"$f":"'GHQ data'!Q29","v":40.497},{"$f":"'GHQ data'!R29","v":8137.42}]
["Women",{"$f":"'GHQ data'!D30","v":675.88},{"$f":"'GHQ data'!E30","v":199.71299999999999},{"$f":"'GHQ data'!F30","v":246.477},{"$f":"'GHQ data'!G30","v":605.39},{"$f":"'GHQ data'!H30","v":514.32500000000005},{"$f":"'GHQ data'!I30","v":994.61},{"$f":"'GHQ data'!J30","v":1814.53},{"$f":"'GHQ data'!K30","v":528.86},{"$f":"'GHQ data'!L30","v":1130.27},{"$f":"'GHQ data'!M30","v":1382.97},{"$f":"'GHQ data'!N30","v":37.401000000000003},{"$f":"'GHQ data'!O30","v":36.348999999999997},{"$f":"'GHQ data'!P30","v":732.75},{"$f":"'GHQ data'!Q30","v":41.296999999999997},{"$f":"'GHQ data'!R30","v":8940.83}]
["All Adults",{"$f":"'GHQ data'!D31","v":1247.6600000000001},{"$f":"'GHQ data'!E31","v":359.73200000000003},{"$f":"'GHQ data'!F31","v":470.22300000000001},{"$f":"'GHQ data'!G31","v":1163.04},{"$f":"'GHQ data'!H31","v":954.71400000000006},{"$f":"'GHQ data'!I31","v":1886.96},{"$f":"'GHQ data'!J31","v":3469.83},{"$f":"'GHQ data'!K31","v":1015.14},{"$f":"'GHQ data'!L31","v":2143.5700000000002},{"$f":"'GHQ data'!M31","v":2761.6},{"$f":"'GHQ data'!N31","v":74.518000000000001},{"$f":"'GHQ data'!O31","v":73.003},{"$f":"'GHQ data'!P31","v":1376.47},{"$f":"'GHQ data'!Q31","v":81.793999999999997},{"$f":"'GHQ data'!R31","v":17078.25}]
["Bases (unweighted)"]
["Men",{"$f":"'GHQ data'!D32","v":891},{"$f":"'GHQ data'!E32","v":175},{"$f":"'GHQ data'!F32","v":188},{"$f":"'GHQ data'!G32","v":808},{"$f":"'GHQ data'!H32","v":274},{"$f":"'GHQ data'!I32","v":1034},{"$f":"'GHQ data'!J32","v":1175},{"$f":"'GHQ data'!K32","v":316},{"$f":"'GHQ data'!L32","v":583},{"$f":"'GHQ data'!M32","v":845},{"$f":"'GHQ data'!N32","v":224},{"$f":"'GHQ data'!O32","v":214},{"$f":"'GHQ data'!P32","v":447},{"$f":"'GHQ data'!Q32","v":331},{"$f":"'GHQ data'!R32","v":7505}]
["Women",{"$f":"'GHQ data'!D33","v":1148},{"$f":"'GHQ data'!E33","v":249},{"$f":"'GHQ data'!F33","v":230},{"$f":"'GHQ data'!G33","v":1045},{"$f":"'GHQ data'!H33","v":383},{"$f":"'GHQ data'!I33","v":1315},{"$f":"'GHQ data'!J33","v":1544},{"$f":"'GHQ data'!K33","v":418},{"$f":"'GHQ data'!L33","v":791},{"$f":"'GHQ data'!M33","v":1024},{"$f":"'GHQ data'!N33","v":260},{"$f":"'GHQ data'!O33","v":251},{"$f":"'GHQ data'!P33","v":564},{"$f":"'GHQ data'!Q33","v":407},{"$f":"'GHQ data'!R33","v":9629}]
["All Adults",{"$f":"'GHQ data'!D34","v":2039},{"$f":"'GHQ data'!E34","v":424},{"$f":"'GHQ data'!F34","v":418},{"$f":"'GHQ data'!G34","v":1853},{"$f":"'GHQ data'!H34","v":657},{"$f":"'GHQ data'!I34","v":2349},{"$f":"'GHQ data'!J34","v":2719},{"$f":"'GHQ data'!K34","v":734},{"$f":"'GHQ data'!L34","v":1374},{"$f":"'GHQ data'!M34","v":1869},{"$f":"'GHQ data'!N34","v":484},{"$f":"'GHQ data'!O34","v":465},{"$f":"'GHQ data'!P34","v":1011},{"$f":"'GHQ data'!Q34","v":738},{"$f":"'GHQ data'!R34","v":17134}]

{"sheet":"GHQ data","index":9,"n_rows":34,"n_cols":18,"rows_kept":34,"cut":false,"hidden":true,"merged":[]}
["F_sex","F_ghqg2","_NAME_","Ayrshire & Arran","Borders","Dumfries & Galloway","Fife","Forth Valley","Grampian","Greater Glasgow","Highland","Lanarkshire","Lothian","Orkney","Shetland","Tayside","Western Isles","Scotland"]
["Male","Score 0","RowPercent",66.08,62.018999999999998,63.39,67.150000000000006,62.527000000000001,68.739999999999995,61.72,69.55,64.59,63.88,64.912999999999997,72.328000000000003,61.33,68.576999999999998,64.52]
["Male","Score 0","RowLowerCL",62.77,54.026000000000003,55.493000000000002,63.16,56.718000000000004,65.73,58.26,63.44,60.19,60.2,58.783999999999999,65.555000000000007,56.6,62.667999999999999,63.17]
["Male","Score 0","RowUpperCL",69.400000000000006,70.012,71.287999999999997,71.150000000000006,68.335999999999999,71.760000000000005,65.180000000000007,75.66,68.989999999999995,67.56,71.043000000000006,79.100999999999999,66.05,74.484999999999999,65.87]
["Male","Score 1-3","RowPercent",19.260000000000002,20.073,21.786000000000001,19.559999999999999,27.559000000000001,22.25,22.92,18.63,19.7,22.28,24.460999999999999,19.963999999999999,24.46,19.093,21.85]
["Male","Score 1-3","RowLowerCL",16.739999999999998,12.868,14.93,16.52,22.006,19.68,20.010000000000002,13.73,16.03,19.16,18.593,14.49,20.27,14.282,20.66]
["Male","Score 1-3","RowUpperCL",21.78,27.277999999999999,28.643000000000001,22.6,33.112000000000002,24.82,25.83,23.53,23.37,25.39,30.327999999999999,25.437000000000001,28.64,23.904,23.04]
["Male","Score 4+","RowPercent",14.66,17.908000000000001,14.823,13.29,9.9139999999999997,9.01,15.36,11.82,15.71,13.84,10.625999999999999,7.7080000000000002,14.22,12.33,13.63]
["Male","Score 4+","RowLowerCL",11.74,10.183,8.5990000000000002,10.71,6.2210000000000001,7.3,13.02,7.97,12.39,11.16,7.1760000000000002,4.7119999999999997,10.93,7.3460000000000001,12.68]
["Male","Score 4+","RowUpperCL",17.57,25.632000000000001,21.047999999999998,15.87,13.606,10.72,17.7,15.67,19.02,16.53,14.076000000000001,10.704000000000001,17.5,17.314,14.57]
["Female","Score 0","RowPercent",56.6,59.814,59.637,57.62,58.246000000000002,58.08,52.79,61.72,59.69,56.68,62.841000000000001,59.817999999999998,56.56,67.274000000000001,57.1]
["Female","Score 0","RowLowerCL",53.59,53.122,53.503999999999998,54.13,53.155999999999999,55.09,50.03,56.48,56.08,53.27,55.796999999999997,53.228000000000002,52.35,62.252000000000002,55.93]
["Female","Score 0","RowUpperCL",59.62,66.507000000000005,65.77,61.12,63.335000000000001,61.06,55.54,66.959999999999994,63.31,60.09,69.885000000000005,66.406999999999996,60.78,72.296000000000006,58.27]
["Female","Score 1-3","RowPercent",25.47,22.34,24.738,26.05,25.28,27.1,26.44,19.5,24.31,27.87,24.692,23.213000000000001,26.27,19.315999999999999,25.68]
["Female","Score 1-3","RowLowerCL",22.94,16.658000000000001,19.907,23.29,20.664999999999999,24.69,24.22,14.83,20.89,24.73,18.899999999999999,18.498000000000001,22.54,15.163,24.64]
["Female","Score 1-3","RowUpperCL",28,28.021000000000001,29.568000000000001,28.8,29.895,29.5,28.67,24.17,27.73,31,30.483000000000001,27.927,30,23.47,26.73]
["Female","Score 4+","RowPercent",17.93,17.846,15.625999999999999,16.329999999999998,16.474,14.82,20.77,18.78,16,15.45,12.467000000000001,16.97,17.170000000000002,13.41,17.22]
["Female","Score 4+","RowLowerCL",15.79,13.817,9.6240000000000006,14.09,12.433,12.54,18.59,15.09,13.08,12.88,7.4710000000000001,11.57,13.73,10.145,16.309999999999999]
["Female","Score 4+","RowUpperCL",20.07,21.876000000000001,21.626999999999999,18.57,20.515000000000001,17.11,22.94,22.47,18.920000000000002,18.03,17.463999999999999,22.369,20.6,16.673999999999999,18.12]
["Total","Score 0","RowPercent",60.95,60.795000000000002,61.423000000000002,62.19,60.220999999999997,63.12,57.05,65.47,62.01,60.27,63.872999999999998,66.099000000000004,58.79,67.918999999999997,60.64]
["Total","Score 0","RowLowerCL",58.46,55.872,56.249000000000002,59.33,56.081000000000003,60.75,54.56,61,58.9,57.43,59.805999999999997,60.552,55.33,64.043999999999997,59.63]
["Total","Score 0","RowUpperCL",63.44,65.718999999999994,66.596999999999994,65.05,64.36,65.489999999999995,59.54,69.94,65.12,63.11,67.941000000000003,71.646000000000001,62.25,71.793999999999997,61.64]
["Total","Score 1-3","RowPercent",22.62,21.332000000000001,23.332999999999998,22.94,26.332000000000001,24.8,24.76,19.079999999999998,22.13,25.08,24.577000000000002,21.581,25.42,19.206,23.86]
["Total","Score 1-3","RowLowerCL",20.82,16.829999999999998,19.265999999999998,20.82,22.478000000000002,23.01,22.73,15.77,19.34,22.66,20.472999999999999,17.792999999999999,22.65,16.273,23]
["Total","Score 1-3","RowUpperCL",24.43,25.834,27.4,25.05,30.184999999999999,26.59,26.79,22.4,24.92,27.49,28.68,25.37,28.2,22.138000000000002,24.71]
["Total","Score 4+","RowPercent",16.43,17.873000000000001,15.244,14.87,13.448,12.07,18.190000000000001,15.45,15.86,14.65,11.55,12.319000000000001,15.79,12.875,15.51]
["Total","Score 4+","RowLowerCL",14.46,13.478,10.585000000000001,13.1,10.679,10.58,16.489999999999998,12.45,13.53,12.69,8.2029999999999994,8.6829999999999998,13.18,9.9499999999999993,14.81]
["Total","Score 4+","RowUpperCL",18.39,22.268999999999998,19.902999999999999,16.64,16.216000000000001,13.56,19.89,18.440000000000001,18.190000000000001,16.61,14.897,15.956,18.399999999999999,15.801,16.2]
["Male",".","WgtFreq",571.78,160.018,223.74700000000001,557.65,440.38900000000001,892.35,1655.3,486.27,1013.3,1378.63,37.116999999999997,36.654000000000003,643.71,40.497,8137.42]
["Female",".","WgtFreq",675.88,199.71299999999999,246.477,605.39,514.32500000000005,994.61,1814.53,528.86,1130.27,1382.97,37.401000000000003,36.348999999999997,732.75,41.296999999999997,8940.83]
["Total",".","WgtFreq",1247.6600000000001,359.73200000000003,470.22300000000001,1163.04,954.71400000000006,1886.96,3469.83,1015.14,2143.5700000000002,2761.6,74.518000000000001,73.003,1376.47,81.793999999999997,17078.25]
["Male",".","Frequency",891,175,188,808,274,1034,1175,316,583,845,224,214,447,331,7505]
["Female",".","Frequency",1148,249,230,1045,383,1315,1544,418,791,1024,260,251,564,407,9629]
["Total",".","Frequency",2039,424,418,1853,657,2349,2719,734,1374,1869,484,465,1011,738,17134]

{"sheet":"GHQ-12 chart","index":10,"n_rows":48,"n_cols":18,"rows_kept":48,"cut":false,"hidden":false,"merged":[]}
[null,null,null,null,null,null,null,null,null,null,null,null,null,null,null,null,null,"INDEX"]
[]
[]
[]
[]
[]
[]
[]
[]
[]
[]
[]
[]
[]
[]
[]
[]
[]
[]
[]
[]
[]
[]
[]
[]
[]
[]
[]
[]
[]
[null,null,"Source: Scottish Health Survey"]
[]
[]
[null,null,"Ayrshire & Arran ","Borders","Dumfries & Galloway","Fife","Forth Valley","Grampian","Greater Glasgow & Clyde","Highland","Lanarkshire","Lothian","Orkney","Shetland","Tayside","Western Isles",null,"Scotland"]
[null,"All Adults"]
[null,"Score 0",{"$f":"'GHQ-12 scores'!B31","v":60.95},{"$f":"'GHQ-12 scores'!C31","v":60.795000000000002},{"$f":"'GHQ-12 scores'!D31","v":61.423000000000002},{"$f":"'GHQ-12 scores'!E31","v":62.19},{"$f":"'GHQ-12 scores'!F31","v":60.220999999999997},{"$f":"'GHQ-12 scores'!G31","v":63.12},{"$f":"'GHQ-12 scores'!H31","v":57.05},{"$f":"'GHQ-12 scores'!I31","v":65.47},{"$f":"'GHQ-12 scores'!J31","v":62.01},{"$f":"'GHQ-12 scores'!K31","v":60.27},{"$f":"'GHQ-12 scores'!L31","v":63.872999999999998},{"$f":"'GHQ-12 scores'!M31","v":66.099000000000004},{"$f":"'GHQ-12 scores'!N31","v":58.79},{"$f":"'GHQ-12 scores'!O31","v":67.918999999999997},null,{"$f":"'GHQ-12 scores'!P31","v":60.64}]
[null,"Lower CI",{"$f":"'GHQ-12 scores'!B32","v":58.46},{"$f":"'GHQ-12 scores'!C32","v":55.872},{"$f":"'GHQ-12 scores'!D32","v":56.249000000000002},{"$f":"'GHQ-12 scores'!E32","v":59.33},{"$f":"'GHQ-12 scores'!F32","v":56.081000000000003},{"$f":"'GHQ-12 scores'!G32","v":60.75},{"$f":"'GHQ-12 scores'!H32","v":54.56},{"$f":"'GHQ-12 scores'!I32","v":61},{"$f":"'GHQ-12 scores'!J32","v":58.9},{"$f":"'GHQ-12 scores'!K32","v":57.43},{"$f":"'GHQ-12 scores'!L32","v":59.805999999999997},{"$f":"'GHQ-12 scores'!M32","v":60.552},{"$f":"'GHQ-12 scores'!N32","v":55.33},{"$f":"'GHQ-12 scores'!O32","v":64.043999999999997},null,{"$f":"'GHQ-12 scores'!P32","v":59.63}]
[null,"Upper CI",{"$f":"'GHQ-12 scores'!B33","v":63.44},{"$f":"'GHQ-12 scores'!C33","v":65.718999999999994},{"$f":"'GHQ-12 scores'!D33","v":66.596999999999994},{"$f":"'GHQ-12 scores'!E33","v":65.05},{"$f":"'GHQ-12 scores'!F33","v":64.36},{"$f":"'GHQ-12 scores'!G33","v":65.489999999999995},{"$f":"'GHQ-12 scores'!H33","v":59.54},{"$f":"'GHQ-12 scores'!I33","v":69.94},{"$f":"'GHQ-12 scores'!J33","v":65.12},{"$f":"'GHQ-12 scores'!K33","v":63.11},{"$f":"'GHQ-12 scores'!L33","v":67.941000000000003},{"$f":"'GHQ-12 scores'!M33","v":71.646000000000001},{"$f":"'GHQ-12 scores'!N33","v":62.25},{"$f":"'GHQ-12 scores'!O33","v":71.793999999999997},null,{"$f":"'GHQ-12 scores'!P33","v":61.64}]
[null,"Score 1-3",{"$f":"'GHQ-12 scores'!B34","v":22.62},{"$f":"'GHQ-12 scores'!C34","v":21.332000000000001},{"$f":"'GHQ-12 scores'!D34","v":23.332999999999998},{"$f":"'GHQ-12 scores'!E34","v":22.94},{"$f":"'GHQ-12 scores'!F34","v":26.332000000000001},{"$f":"'GHQ-12 scores'!G34","v":24.8},{"$f":"'GHQ-12 scores'!H34","v":24.76},{"$f":"'GHQ-12 scores'!I34","v":19.079999999999998},{"$f":"'GHQ-12 scores'!J34","v":22.13},{"$f":"'GHQ-12 scores'!K34","v":25.08},{"$f":"'GHQ-12 scores'!L34","v":24.577000000000002},{"$f":"'GHQ-12 scores'!M34","v":21.581},{"$f":"'GHQ-12 scores'!N34","v":25.42},{"$f":"'GHQ-12 scores'!O34","v":19.206},null,{"$f":"'GHQ-12 scores'!P34","v":23.86}]
[null,"Lower CI",{"$f":"'GHQ-12 scores'!B35","v":20.82},{"$f":"'GHQ-12 scores'!C35","v":16.829999999999998},{"$f":"'GHQ-12 scores'!D35","v":19.265999999999998},{"$f":"'GHQ-12 scores'!E35","v":20.82},{"$f":"'GHQ-12 scores'!F35","v":22.478000000000002},{"$f":"'GHQ-12 scores'!G35","v":23.01},{"$f":"'GHQ-12 scores'!H35","v":22.73},{"$f":"'GHQ-12 scores'!I35","v":15.77},{"$f":"'GHQ-12 scores'!J35","v":19.34},{"$f":"'GHQ-12 scores'!K35","v":22.66},{"$f":"'GHQ-12 scores'!L35","v":20.472999999999999},{"$f":"'GHQ-12 scores'!M35","v":17.792999999999999},{"$f":"'GHQ-12 scores'!N35","v":22.65},{"$f":"'GHQ-12 scores'!O35","v":16.273},null,{"$f":"'GHQ-12 scores'!P35","v":23}]
[null,"Upper CI",{"$f":"'GHQ-12 scores'!B36","v":24.43},{"$f":"'GHQ-12 scores'!C36","v":25.834},{"$f":"'GHQ-12 scores'!D36","v":27.4},{"$f":"'GHQ-12 scores'!E36","v":25.05},{"$f":"'GHQ-12 scores'!F36","v":30.184999999999999},{"$f":"'GHQ-12 scores'!G36","v":26.59},{"$f":"'GHQ-12 scores'!H36","v":26.79},{"$f":"'GHQ-12 scores'!I36","v":22.4},{"$f":"'GHQ-12 scores'!J36","v":24.92},{"$f":"'GHQ-12 scores'!K36","v":27.49},{"$f":"'GHQ-12 scores'!L36","v":28.68},{"$f":"'GHQ-12 scores'!M36","v":25.37},{"$f":"'GHQ-12 scores'!N36","v":28.2},{"$f":"'GHQ-12 scores'!O36","v":22.138000000000002},null,{"$f":"'GHQ-12 scores'!P36","v":24.71}]
[null,"Score 4+",{"$f":"'GHQ-12 scores'!B37","v":16.43},{"$f":"'GHQ-12 scores'!C37","v":17.873000000000001},{"$f":"'GHQ-12 scores'!D37","v":15.244},{"$f":"'GHQ-12 scores'!E37","v":14.87},{"$f":"'GHQ-12 scores'!F37","v":13.448},{"$f":"'GHQ-12 scores'!G37","v":12.07},{"$f":"'GHQ-12 scores'!H37","v":18.190000000000001},{"$f":"'GHQ-12 scores'!I37","v":15.45},{"$f":"'GHQ-12 scores'!J37","v":15.86},{"$f":"'GHQ-12 scores'!K37","v":14.65},{"$f":"'GHQ-12 scores'!L37","v":11.55},{"$f":"'GHQ-12 scores'!M37","v":12.319000000000001},{"$f":"'GHQ-12 scores'!N37","v":15.79},{"$f":"'GHQ-12 scores'!O37","v":12.875},null,{"$f":"'GHQ-12 scores'!P37","v":15.51}]
[null,"Lower CI",{"$f":"'GHQ-12 scores'!B38","v":14.46},{"$f":"'GHQ-12 scores'!C38","v":13.478},{"$f":"'GHQ-12 scores'!D38","v":10.585000000000001},{"$f":"'GHQ-12 scores'!E38","v":13.1},{"$f":"'GHQ-12 scores'!F38","v":10.679},{"$f":"'GHQ-12 scores'!G38","v":10.58},{"$f":"'GHQ-12 scores'!H38","v":16.489999999999998},{"$f":"'GHQ-12 scores'!I38","v":12.45},{"$f":"'GHQ-12 scores'!J38","v":13.53},{"$f":"'GHQ-12 scores'!K38","v":12.69},{"$f":"'GHQ-12 scores'!L38","v":8.2029999999999994},{"$f":"'GHQ-12 scores'!M38","v":8.6829999999999998},{"$f":"'GHQ-12 scores'!N38","v":13.18},{"$f":"'GHQ-12 scores'!O38","v":9.9499999999999993},null,{"$f":"'GHQ-12 scores'!P38","v":14.81}]
[null,"Upper CI",{"$f":"'GHQ-12 scores'!B39","v":18.39},{"$f":"'GHQ-12 scores'!C39","v":22.268999999999998},{"$f":"'GHQ-12 scores'!D39","v":19.902999999999999},{"$f":"'GHQ-12 scores'!E39","v":16.64},{"$f":"'GHQ-12 scores'!F39","v":16.216000000000001},{"$f":"'GHQ-12 scores'!G39","v":13.56},{"$f":"'GHQ-12 scores'!H39","v":19.89},{"$f":"'GHQ-12 scores'!I39","v":18.440000000000001},{"$f":"'GHQ-12 scores'!J39","v":18.190000000000001},{"$f":"'GHQ-12 scores'!K39","v":16.61},{"$f":"'GHQ-12 scores'!L39","v":14.897},{"$f":"'GHQ-12 scores'!M39","v":15.956},{"$f":"'GHQ-12 scores'!N39","v":18.399999999999999},{"$f":"'GHQ-12 scores'!O39","v":15.801},null,{"$f":"'GHQ-12 scores'!P39","v":16.2}]
[]
["CLs","Score 0",{"$f":"C36-C37","v":2.490000000000002},{"$f":"D36-D37","v":4.9230000000000018},5.1739999999999995,2.8599999999999994,4.1399999999999935,2.3699999999999974,2.4899999999999949,4.4699999999999989,3.1099999999999994,2.8400000000000034,4.0670000000000002,5.5470000000000041,3.4600000000000009,{"$f":"P36-P37","v":3.875},null,{"$f":"R36-R37","v":1.009999999999998}]
[null,"Score 1-3",{"$f":"C39-C40","v":1.8000000000000007},{"$f":"D39-D40","v":4.5020000000000024},4.0670000000000002,2.120000000000001,3.8539999999999992,1.7899999999999991,2.0300000000000011,3.3099999999999987,2.7899999999999991,2.4199999999999982,4.1040000000000028,3.7880000000000003,2.7700000000000031,{"$f":"P39-P40","v":2.9329999999999998},null,{"$f":"R39-R40","v":0.85999999999999943}]
[null,"Score 4+",{"$f":"C42-C43","v":1.9699999999999989},{"$f":"D42-D43","v":4.3950000000000014},4.6589999999999989,1.7699999999999996,2.7690000000000001,1.4900000000000002,1.7000000000000028,3,2.33,1.9600000000000009,3.3470000000000013,3.636000000000001,2.6099999999999994,{"$f":"P42-P43","v":2.9250000000000007},null,{"$f":"R42-R43","v":0.69999999999999929}]

{"sheet":"Long-term illness","index":11,"n_rows":49,"n_cols":16,"rows_kept":49,"cut":false,"hidden":false,"merged":[[4,0,5,0],[0,0,1,0]]}
["Prevalence of long-term illness, by NHS Board and sex",null,null,null,null,null,null,null,null,null,null,null,null,"INDEX"]
[]
[]
["Aged 16 and over",null,null,null,null,null,null,null,null,null,null,null,null,null,null,"2013/2014/2015/2016 combined"]
["Prevalence of limiting long-term conditions","NHS Board"]
[null,"Ayrshire & Arran ","Borders","Dumfries & Galloway","Fife","Forth Valley","Grampian","Greater Glasgow & Clyde","Highland","Lanarkshire","Lothian","Orkney","Shetland","Tayside","Western Isles","Scotland"]
[null,"%","%","%","%","%","%","%","%","%","%","%","%","%","%","%"]
["Men"]
["Limiting long-term illness",{"$f":"'limit data'!D2","v":41.77},{"$f":"'limit data'!E2","v":31.408000000000001},{"$f":"'limit data'!F2","v":33.271999999999998},{"$f":"'limit data'!G2","v":28.84},{"$f":"'limit data'!H2","v":30.84},{"$f":"'limit data'!I2","v":24.52},{"$f":"'limit data'!J2","v":30.05},{"$f":"'limit data'!K2","v":30.43},{"$f":"'limit data'!L2","v":31.62},{"$f":"'limit data'!M2","v":25.97},{"$f":"'limit data'!N2","v":30.501000000000001},{"$f":"'limit data'!O2","v":25.443999999999999},{"$f":"'limit data'!P2","v":29.66},{"$f":"'limit data'!Q2","v":36.604999999999997},{"$f":"'limit data'!R2","v":29.83}]
["Lower CI",{"$f":"'limit data'!D3","v":37.520000000000003},{"$f":"'limit data'!E3","v":22.84},{"$f":"'limit data'!F3","v":26.12},{"$f":"'limit data'!G3","v":25.22},{"$f":"'limit data'!H3","v":25.77},{"$f":"'limit data'!I3","v":22.01},{"$f":"'limit data'!J3","v":27.11},{"$f":"'limit data'!K3","v":25.69},{"$f":"'limit data'!L3","v":27.62},{"$f":"'limit data'!M3","v":22.99},{"$f":"'limit data'!N3","v":25.8},{"$f":"'limit data'!O3","v":20.306000000000001},{"$f":"'limit data'!P3","v":24.64},{"$f":"'limit data'!Q3","v":30.491},{"$f":"'limit data'!R3","v":28.61}]
["Upper CI",{"$f":"'limit data'!D4","v":46.02},{"$f":"'limit data'!E4","v":39.975999999999999},{"$f":"'limit data'!F4","v":40.423999999999999},{"$f":"'limit data'!G4","v":32.46},{"$f":"'limit data'!H4","v":35.909999999999997},{"$f":"'limit data'!I4","v":27.02},{"$f":"'limit data'!J4","v":32.99},{"$f":"'limit data'!K4","v":35.17},{"$f":"'limit data'!L4","v":35.61},{"$f":"'limit data'!M4","v":28.95},{"$f":"'limit data'!N4","v":35.201000000000001},{"$f":"'limit data'!O4","v":30.582999999999998},{"$f":"'limit data'!P4","v":34.67},{"$f":"'limit data'!Q4","v":42.719000000000001},{"$f":"'limit data'!R4","v":31.06}]
["Non-limiting long-term illness",{"$f":"'limit data'!D5","v":9.94},{"$f":"'limit data'!E5","v":15.442},{"$f":"'limit data'!F5","v":8.7370000000000001},{"$f":"'limit data'!G5","v":15.72},{"$f":"'limit data'!H5","v":12.51},{"$f":"'limit data'!I5","v":14.41},{"$f":"'limit data'!J5","v":13.38},{"$f":"'limit data'!K5","v":12.47},{"$f":"'limit data'!L5","v":13.96},{"$f":"'limit data'!M5","v":18.47},{"$f":"'limit data'!N5","v":19.114999999999998},{"$f":"'limit data'!O5","v":17.187000000000001},{"$f":"'limit data'!P5","v":12.09},{"$f":"'limit data'!Q5","v":11.56},{"$f":"'limit data'!R5","v":14.1}]
["Lower CI",{"$f":"'limit data'!D6","v":7.97},{"$f":"'limit data'!E6","v":10.773999999999999},{"$f":"'limit data'!F6","v":4.7969999999999997},{"$f":"'limit data'!G6","v":12.68},{"$f":"'limit data'!H6","v":8.74},{"$f":"'limit data'!I6","v":12.01},{"$f":"'limit data'!J6","v":11.48},{"$f":"'limit data'!K6","v":9.36},{"$f":"'limit data'!L6","v":10.52},{"$f":"'limit data'!M6","v":15.55},{"$f":"'limit data'!N6","v":14.288},{"$f":"'limit data'!O6","v":11.266999999999999},{"$f":"'limit data'!P6","v":8.7799999999999994},{"$f":"'limit data'!Q6","v":8.18},{"$f":"'limit data'!R6","v":13.12}]
["Upper CI",{"$f":"'limit data'!D7","v":11.92},{"$f":"'limit data'!E7","v":20.11},{"$f":"'limit data'!F7","v":12.677},{"$f":"'limit data'!G7","v":18.760000000000002},{"$f":"'limit data'!H7","v":16.29},{"$f":"'limit data'!I7","v":16.809999999999999},{"$f":"'limit data'!J7","v":15.28},{"$f":"'limit data'!K7","v":15.58},{"$f":"'limit data'!L7","v":17.39},{"$f":"'limit data'!M7","v":21.39},{"$f":"'limit data'!N7","v":23.942},{"$f":"'limit data'!O7","v":23.108000000000001},{"$f":"'limit data'!P7","v":15.4},{"$f":"'limit data'!Q7","v":14.941000000000001},{"$f":"'limit data'!R7","v":15.08}]
["No long-term illness",{"$f":"'limit data'!D8","v":48.29},{"$f":"'limit data'!E8","v":53.15},{"$f":"'limit data'!F8","v":57.991},{"$f":"'limit data'!G8","v":55.43},{"$f":"'limit data'!H8","v":56.65},{"$f":"'limit data'!I8","v":61.08},{"$f":"'limit data'!J8","v":56.57},{"$f":"'limit data'!K8","v":57.1},{"$f":"'limit data'!L8","v":54.43},{"$f":"'limit data'!M8","v":55.57},{"$f":"'limit data'!N8","v":50.384999999999998},{"$f":"'limit data'!O8","v":57.368000000000002},{"$f":"'limit data'!P8","v":58.25},{"$f":"'limit data'!Q8","v":51.834000000000003},{"$f":"'limit data'!R8","v":56.07}]
["Lower CI",{"$f":"'limit data'!D9","v":44.31},{"$f":"'limit data'!E9","v":45.048999999999999},{"$f":"'limit data'!F9","v":49.881999999999998},{"$f":"'limit data'!G9","v":51.36},{"$f":"'limit data'!H9","v":49.83},{"$f":"'limit data'!I9","v":57.89},{"$f":"'limit data'!J9","v":53.52},{"$f":"'limit data'!K9","v":51.92},{"$f":"'limit data'!L9","v":49.87},{"$f":"'limit data'!M9","v":51.42},{"$f":"'limit data'!N9","v":44.058999999999997},{"$f":"'limit data'!O9","v":49.420999999999999},{"$f":"'limit data'!P9","v":52.73},{"$f":"'limit data'!Q9","v":45.529000000000003},{"$f":"'limit data'!R9","v":54.68}]
["Upper CI",{"$f":"'limit data'!D10","v":52.27},{"$f":"'limit data'!E10","v":61.252000000000002},{"$f":"'limit data'!F10","v":66.099999999999994},{"$f":"'limit data'!G10","v":59.51},{"$f":"'limit data'!H10","v":63.46},{"$f":"'limit data'!I10","v":64.260000000000005},{"$f":"'limit data'!J10","v":59.62},{"$f":"'limit data'!K10","v":62.28},{"$f":"'limit data'!L10","v":58.99},{"$f":"'limit data'!M10","v":59.71},{"$f":"'limit data'!N10","v":56.71},{"$f":"'limit data'!O10","v":65.314999999999998},{"$f":"'limit data'!P10","v":63.78},{"$f":"'limit data'!Q10","v":58.14},{"$f":"'limit data'!R10","v":57.46}]
[]
["Women"]
["Limiting long-term illness",{"$f":"'limit data'!D11","v":46.67},{"$f":"'limit data'!E11","v":30.738},{"$f":"'limit data'!F11","v":33.277000000000001},{"$f":"'limit data'!G11","v":34.18},{"$f":"'limit data'!H11","v":37.130000000000003},{"$f":"'limit data'!I11","v":28.41},{"$f":"'limit data'!J11","v":35.07},{"$f":"'limit data'!K11","v":34.06},{"$f":"'limit data'!L11","v":33.520000000000003},{"$f":"'limit data'!M11","v":28.78},{"$f":"'limit data'!N11","v":35.418999999999997},{"$f":"'limit data'!O11","v":33.658000000000001},{"$f":"'limit data'!P11","v":31.32},{"$f":"'limit data'!Q11","v":36.072000000000003},{"$f":"'limit data'!R11","v":33.57}]
["Lower CI",{"$f":"'limit data'!D12","v":43.17},{"$f":"'limit data'!E12","v":23.702999999999999},{"$f":"'limit data'!F12","v":26.334},{"$f":"'limit data'!G12","v":31.15},{"$f":"'limit data'!H12","v":32.19},{"$f":"'limit data'!I12","v":25.87},{"$f":"'limit data'!J12","v":32.53},{"$f":"'limit data'!K12","v":29.53},{"$f":"'limit data'!L12","v":29.89},{"$f":"'limit data'!M12","v":25.71},{"$f":"'limit data'!N12","v":29.757000000000001},{"$f":"'limit data'!O12","v":26.751999999999999},{"$f":"'limit data'!P12","v":26.94},{"$f":"'limit data'!Q12","v":30.986000000000001},{"$f":"'limit data'!R12","v":32.42}]
["Upper CI",{"$f":"'limit data'!D13","v":50.17},{"$f":"'limit data'!E13","v":37.773000000000003},{"$f":"'limit data'!F13","v":40.22},{"$f":"'limit data'!G13","v":37.21},{"$f":"'limit data'!H13","v":42.06},{"$f":"'limit data'!I13","v":30.96},{"$f":"'limit data'!J13","v":37.61},{"$f":"'limit data'!K13","v":38.6},{"$f":"'limit data'!L13","v":37.159999999999997},{"$f":"'limit data'!M13","v":31.86},{"$f":"'limit data'!N13","v":41.081000000000003},{"$f":"'limit data'!O13","v":40.563000000000002},{"$f":"'limit data'!P13","v":35.69},{"$f":"'limit data'!Q13","v":41.158000000000001},{"$f":"'limit data'!R13","v":34.72}]
["Non-limiting long-term illness",{"$f":"'limit data'!D14","v":9.9},{"$f":"'limit data'!E14","v":23.637},{"$f":"'limit data'!F14","v":9.0489999999999995},{"$f":"'limit data'!G14","v":14.12},{"$f":"'limit data'!H14","v":14.12},{"$f":"'limit data'!I14","v":14.32},{"$f":"'limit data'!J14","v":11.99},{"$f":"'limit data'!K14","v":16.510000000000002},{"$f":"'limit data'!L14","v":14.35},{"$f":"'limit data'!M14","v":15.62},{"$f":"'limit data'!N14","v":21.800999999999998},{"$f":"'limit data'!O14","v":17.024999999999999},{"$f":"'limit data'!P14","v":14.92},{"$f":"'limit data'!Q14","v":11.74},{"$f":"'limit data'!R14","v":13.96}]
["Lower CI",{"$f":"'limit data'!D15","v":8.14},{"$f":"'limit data'!E15","v":17.268999999999998},{"$f":"'limit data'!F15","v":4.8259999999999996},{"$f":"'limit data'!G15","v":12.24},{"$f":"'limit data'!H15","v":10.48},{"$f":"'limit data'!I15","v":12.35},{"$f":"'limit data'!J15","v":10.48},{"$f":"'limit data'!K15","v":13.19},{"$f":"'limit data'!L15","v":11.77},{"$f":"'limit data'!M15","v":13.54},{"$f":"'limit data'!N15","v":17.251999999999999},{"$f":"'limit data'!O15","v":12.019},{"$f":"'limit data'!P15","v":12.15},{"$f":"'limit data'!Q15","v":8.1349999999999998},{"$f":"'limit data'!R15","v":13.17}]
["Upper CI",{"$f":"'limit data'!D16","v":11.66},{"$f":"'limit data'!E16","v":30.006},{"$f":"'limit data'!F16","v":13.272},{"$f":"'limit data'!G16","v":16.010000000000002},{"$f":"'limit data'!H16","v":17.77},{"$f":"'limit data'!I16","v":16.3},{"$f":"'limit data'!J16","v":13.49},{"$f":"'limit data'!K16","v":19.829999999999998},{"$f":"'limit data'!L16","v":16.93},{"$f":"'limit data'!M16","v":17.7},{"$f":"'limit data'!N16","v":26.349},{"$f":"'limit data'!O16","v":22.030999999999999},{"$f":"'limit data'!P16","v":17.7},{"$f":"'limit data'!Q16","v":15.343999999999999},{"$f":"'limit data'!R16","v":14.74}]
["No long-term illness",{"$f":"'limit data'!D17","v":43.43},{"$f":"'limit data'!E17","v":45.625},{"$f":"'limit data'!F17","v":57.673999999999999},{"$f":"'limit data'!G17","v":51.7},{"$f":"'limit data'!H17","v":48.75},{"$f":"'limit data'!I17","v":57.26},{"$f":"'limit data'!J17","v":52.94},{"$f":"'limit data'!K17","v":49.43},{"$f":"'limit data'!L17","v":52.13},{"$f":"'limit data'!M17","v":55.6},{"$f":"'limit data'!N17","v":42.780999999999999},{"$f":"'limit data'!O17","v":49.317},{"$f":"'limit data'!P17","v":53.76},{"$f":"'limit data'!Q17","v":52.188000000000002},{"$f":"'limit data'!R17","v":52.47}]
["Lower CI",{"$f":"'limit data'!D18","v":40.14},{"$f":"'limit data'!E18","v":40.365000000000002},{"$f":"'limit data'!F18","v":50.317999999999998},{"$f":"'limit data'!G18","v":48.49},{"$f":"'limit data'!H18","v":43.06},{"$f":"'limit data'!I18","v":54.46},{"$f":"'limit data'!J18","v":50.41},{"$f":"'limit data'!K18","v":43.85},{"$f":"'limit data'!L18","v":48.38},{"$f":"'limit data'!M18","v":52.15},{"$f":"'limit data'!N18","v":34.780999999999999},{"$f":"'limit data'!O18","v":42.905000000000001},{"$f":"'limit data'!P18","v":49.04},{"$f":"'limit data'!Q18","v":46.817999999999998},{"$f":"'limit data'!R18","v":51.29}]
["Upper CI",{"$f":"'limit data'!D19","v":46.72},{"$f":"'limit data'!E19","v":50.884999999999998},{"$f":"'limit data'!F19","v":65.03},{"$f":"'limit data'!G19","v":54.91},{"$f":"'limit data'!H19","v":54.44},{"$f":"'limit data'!I19","v":60.06},{"$f":"'limit data'!J19","v":55.47},{"$f":"'limit data'!K19","v":55},{"$f":"'limit data'!L19","v":55.87},{"$f":"'limit data'!M19","v":59.05},{"$f":"'limit data'!N19","v":50.78},{"$f":"'limit data'!O19","v":55.728999999999999},{"$f":"'limit data'!P19","v":58.48},{"$f":"'limit data'!Q19","v":57.558999999999997},{"$f":"'limit data'!R19","v":53.65}]
[]
["All Adults"]
["Limiting long-term illness",{"$f":"'limit data'!D20","v":44.41},{"$f":"'limit data'!E20","v":31.042000000000002},{"$f":"'limit data'!F20","v":33.274999999999999},{"$f":"'limit data'!G20","v":31.6},{"$f":"'limit data'!H20","v":34.15},{"$f":"'limit data'!I20","v":26.56},{"$f":"'limit data'!J20","v":32.67},{"$f":"'limit data'!K20","v":32.32},{"$f":"'limit data'!L20","v":32.619999999999997},{"$f":"'limit data'!M20","v":27.35},{"$f":"'limit data'!N20","v":32.966999999999999},{"$f":"'limit data'!O20","v":29.422000000000001},{"$f":"'limit data'!P20","v":30.54},{"$f":"'limit data'!Q20","v":36.338000000000001},{"$f":"'limit data'!R20","v":31.77}]
["Lower CI",{"$f":"'limit data'!D21","v":41.11},{"$f":"'limit data'!E21","v":24.731999999999999},{"$f":"'limit data'!F21","v":27.486000000000001},{"$f":"'limit data'!G21","v":28.91},{"$f":"'limit data'!H21","v":30.18},{"$f":"'limit data'!I21","v":24.6},{"$f":"'limit data'!J21","v":30.42},{"$f":"'limit data'!K21","v":28.59},{"$f":"'limit data'!L21","v":29.81},{"$f":"'limit data'!M21","v":25.05},{"$f":"'limit data'!N21","v":28.745999999999999},{"$f":"'limit data'!O21","v":25.158000000000001},{"$f":"'limit data'!P21","v":26.58},{"$f":"'limit data'!Q21","v":31.957000000000001},{"$f":"'limit data'!R21","v":30.82}]
["Upper CI",{"$f":"'limit data'!D22","v":47.71},{"$f":"'limit data'!E22","v":37.350999999999999},{"$f":"'limit data'!F22","v":39.063000000000002},{"$f":"'limit data'!G22","v":34.28},{"$f":"'limit data'!H22","v":38.119999999999997},{"$f":"'limit data'!I22","v":28.52},{"$f":"'limit data'!J22","v":34.92},{"$f":"'limit data'!K22","v":36.049999999999997},{"$f":"'limit data'!L22","v":35.42},{"$f":"'limit data'!M22","v":29.66},{"$f":"'limit data'!N22","v":37.189},{"$f":"'limit data'!O22","v":33.686},{"$f":"'limit data'!P22","v":34.5},{"$f":"'limit data'!Q22","v":40.72},{"$f":"'limit data'!R22","v":32.72}]
["Non-limiting long-term illness",{"$f":"'limit data'!D23","v":9.92},{"$f":"'limit data'!E23","v":19.920000000000002},{"$f":"'limit data'!F23","v":8.8970000000000002},{"$f":"'limit data'!G23","v":14.9},{"$f":"'limit data'!H23","v":13.36},{"$f":"'limit data'!I23","v":14.36},{"$f":"'limit data'!J23","v":12.65},{"$f":"'limit data'!K23","v":14.57},{"$f":"'limit data'!L23","v":14.16},{"$f":"'limit data'!M23","v":17.059999999999999},{"$f":"'limit data'!N23","v":20.462},{"$f":"'limit data'!O23","v":17.109000000000002},{"$f":"'limit data'!P23","v":13.59},{"$f":"'limit data'!Q23","v":11.65},{"$f":"'limit data'!R23","v":14.03}]
["Lower CI",{"$f":"'limit data'!D24","v":8.57},{"$f":"'limit data'!E24","v":15.395},{"$f":"'limit data'!F24","v":5.7510000000000003},{"$f":"'limit data'!G24","v":12.99},{"$f":"'limit data'!H24","v":10.66},{"$f":"'limit data'!I24","v":12.84},{"$f":"'limit data'!J24","v":11.36},{"$f":"'limit data'!K24","v":12.11},{"$f":"'limit data'!L24","v":11.97},{"$f":"'limit data'!M24","v":15.15},{"$f":"'limit data'!N24","v":16.815999999999999},{"$f":"'limit data'!O24","v":13.097},{"$f":"'limit data'!P24","v":11.37},{"$f":"'limit data'!Q24","v":8.9860000000000007},{"$f":"'limit data'!R24","v":13.37}]
["Upper CI",{"$f":"'limit data'!D25","v":11.27},{"$f":"'limit data'!E25","v":24.445},{"$f":"'limit data'!F25","v":12.042999999999999},{"$f":"'limit data'!G25","v":16.809999999999999},{"$f":"'limit data'!H25","v":16.059999999999999},{"$f":"'limit data'!I25","v":15.89},{"$f":"'limit data'!J25","v":13.95},{"$f":"'limit data'!K25","v":17.04},{"$f":"'limit data'!L25","v":16.36},{"$f":"'limit data'!M25","v":18.97},{"$f":"'limit data'!N25","v":24.108000000000001},{"$f":"'limit data'!O25","v":21.12},{"$f":"'limit data'!P25","v":15.82},{"$f":"'limit data'!Q25","v":14.314},{"$f":"'limit data'!R25","v":14.68}]
["No long-term illness",{"$f":"'limit data'!D26","v":45.67},{"$f":"'limit data'!E26","v":49.037999999999997},{"$f":"'limit data'!F26","v":57.829000000000001},{"$f":"'limit data'!G26","v":53.5},{"$f":"'limit data'!H26","v":52.49},{"$f":"'limit data'!I26","v":59.07},{"$f":"'limit data'!J26","v":54.68},{"$f":"'limit data'!K26","v":53.11},{"$f":"'limit data'!L26","v":53.22},{"$f":"'limit data'!M26","v":55.58},{"$f":"'limit data'!N26","v":46.570999999999998},{"$f":"'limit data'!O26","v":53.469000000000001},{"$f":"'limit data'!P26","v":55.87},{"$f":"'limit data'!Q26","v":52.011000000000003},{"$f":"'limit data'!R26","v":54.2}]
["Lower CI",{"$f":"'limit data'!D27","v":42.71},{"$f":"'limit data'!E27","v":43.9},{"$f":"'limit data'!F27","v":50.892000000000003},{"$f":"'limit data'!G27","v":50.53},{"$f":"'limit data'!H27","v":47.62},{"$f":"'limit data'!I27","v":56.71},{"$f":"'limit data'!J27","v":52.52},{"$f":"'limit data'!K27","v":48.6},{"$f":"'limit data'!L27","v":50.01},{"$f":"'limit data'!M27","v":52.62},{"$f":"'limit data'!N27","v":40.134999999999998},{"$f":"'limit data'!O27","v":47.332000000000001},{"$f":"'limit data'!P27","v":51.73},{"$f":"'limit data'!Q27","v":47.429000000000002},{"$f":"'limit data'!R27","v":53.19}]
["Upper CI",{"$f":"'limit data'!D28","v":48.63},{"$f":"'limit data'!E28","v":54.177},{"$f":"'limit data'!F28","v":64.765000000000001},{"$f":"'limit data'!G28","v":56.48},{"$f":"'limit data'!H28","v":57.35},{"$f":"'limit data'!I28","v":61.44},{"$f":"'limit data'!J28","v":56.83},{"$f":"'limit data'!K28","v":57.62},{"$f":"'limit data'!L28","v":56.44},{"$f":"'limit data'!M28","v":58.54},{"$f":"'limit data'!N28","v":53.006999999999998},{"$f":"'limit data'!O28","v":59.606999999999999},{"$f":"'limit data'!P28","v":60.01},{"$f":"'limit data'!Q28","v":56.594000000000001},{"$f":"'limit data'!R28","v":55.21}]
[]
[]
["Bases (weighted):"]
["Men",{"$f":"'limit data'!D29","v":606.12},{"$f":"'limit data'!E29","v":183.85599999999999},{"$f":"'limit data'!F29","v":262.10599999999999},{"$f":"'limit data'!G29","v":620.29},{"$f":"'limit data'!H29","v":497.09},{"$f":"'limit data'!I29","v":978.48},{"$f":"'limit data'!J29","v":1880.15},{"$f":"'limit data'!K29","v":541.45000000000005},{"$f":"'limit data'!L29","v":1146.23},{"$f":"'limit data'!M29","v":1535.71},{"$f":"'limit data'!N29","v":38.805},{"$f":"'limit data'!O29","v":41.939},{"$f":"'limit data'!P29","v":681.92},{"$f":"'limit data'!Q29","v":48.445999999999998},{"$f":"'limit data'!R29","v":9062.6}]
["Women",{"$f":"'limit data'!D30","v":709.46},{"$f":"'limit data'!E30","v":221.49700000000001},{"$f":"'limit data'!F30","v":275.46600000000001},{"$f":"'limit data'!G30","v":663.33},{"$f":"'limit data'!H30","v":553.76},{"$f":"'limit data'!I30","v":1079.33},{"$f":"'limit data'!J30","v":2050.58},{"$f":"'limit data'!K30","v":586.85},{"$f":"'limit data'!L30","v":1261.3800000000001},{"$f":"'limit data'!M30","v":1495.36},{"$f":"'limit data'!N30","v":39.048000000000002},{"$f":"'limit data'!O30","v":39.383000000000003},{"$f":"'limit data'!P30","v":771.2},{"$f":"'limit data'!Q30","v":48.518000000000001},{"$f":"'limit data'!R30","v":9795.16}]
["All Adults",{"$f":"'limit data'!D31","v":1315.58},{"$f":"'limit data'!E31","v":405.35300000000001},{"$f":"'limit data'!F31","v":537.572},{"$f":"'limit data'!G31","v":1283.6199999999999},{"$f":"'limit data'!H31","v":1050.8499999999999},{"$f":"'limit data'!I31","v":2057.81},{"$f":"'limit data'!J31","v":3930.73},{"$f":"'limit data'!K31","v":1128.31},{"$f":"'limit data'!L31","v":2407.61},{"$f":"'limit data'!M31","v":3031.07},{"$f":"'limit data'!N31","v":77.852999999999994},{"$f":"'limit data'!O31","v":81.322000000000003},{"$f":"'limit data'!P31","v":1453.11},{"$f":"'limit data'!Q31","v":96.963999999999999},{"$f":"'limit data'!R31","v":18857.759999999998}]
["Bases (unweighted)"]
["Men",{"$f":"'limit data'!D32","v":948},{"$f":"'limit data'!E32","v":199},{"$f":"'limit data'!F32","v":221},{"$f":"'limit data'!G32","v":903},{"$f":"'limit data'!H32","v":307},{"$f":"'limit data'!I32","v":1134},{"$f":"'limit data'!J32","v":1341},{"$f":"'limit data'!K32","v":355},{"$f":"'limit data'!L32","v":659},{"$f":"'limit data'!M32","v":938},{"$f":"'limit data'!N32","v":234},{"$f":"'limit data'!O32","v":247},{"$f":"'limit data'!P32","v":472},{"$f":"'limit data'!Q32","v":387},{"$f":"'limit data'!R32","v":8345}]
["Women",{"$f":"'limit data'!D33","v":1207},{"$f":"'limit data'!E33","v":277},{"$f":"'limit data'!F33","v":258},{"$f":"'limit data'!G33","v":1142},{"$f":"'limit data'!H33","v":412},{"$f":"'limit data'!I33","v":1429},{"$f":"'limit data'!J33","v":1747},{"$f":"'limit data'!K33","v":463},{"$f":"'limit data'!L33","v":876},{"$f":"'limit data'!M33","v":1104},{"$f":"'limit data'!N33","v":271},{"$f":"'limit data'!O33","v":277},{"$f":"'limit data'!P33","v":590},{"$f":"'limit data'!Q33","v":461},{"$f":"'limit data'!R33","v":10514}]
["All Adults",{"$f":"'limit data'!D34","v":2155},{"$f":"'limit data'!E34","v":476},{"$f":"'limit data'!F34","v":479},{"$f":"'limit data'!G34","v":2045},{"$f":"'limit data'!H34","v":719},{"$f":"'limit data'!I34","v":2563},{"$f":"'limit data'!J34","v":3088},{"$f":"'limit data'!K34","v":818},{"$f":"'limit data'!L34","v":1535},{"$f":"'limit data'!M34","v":2042},{"$f":"'limit data'!N34","v":505},{"$f":"'limit data'!O34","v":524},{"$f":"'limit data'!P34","v":1062},{"$f":"'limit data'!Q34","v":848},{"$f":"'limit data'!R34","v":18859}]

{"sheet":"limit data","index":12,"n_rows":34,"n_cols":18,"rows_kept":34,"cut":false,"hidden":true,"merged":[]}
["F_sex","F_limitill","_NAME_","Ayrshire & Arran","Borders","Dumfries & Galloway","Fife","Forth Valley","Grampian","Greater Glasgow","Highland","Lanarkshire","Lothian","Orkney","Shetland","Tayside","Western Isles","Scotland"]
["Male","Limiting LI","RowPercent",41.77,31.408000000000001,33.271999999999998,28.84,30.84,24.52,30.05,30.43,31.62,25.97,30.501000000000001,25.443999999999999,29.66,36.604999999999997,29.83]
["Male","Limiting LI","RowLowerCL",37.520000000000003,22.84,26.12,25.22,25.77,22.01,27.11,25.69,27.62,22.99,25.8,20.306000000000001,24.64,30.491,28.61]
["Male","Limiting LI","RowUpperCL",46.02,39.975999999999999,40.423999999999999,32.46,35.909999999999997,27.02,32.99,35.17,35.61,28.95,35.201000000000001,30.582999999999998,34.67,42.719000000000001,31.06]
["Male","Non limiting LI","RowPercent",9.94,15.442,8.7370000000000001,15.72,12.51,14.41,13.38,12.47,13.96,18.47,19.114999999999998,17.187000000000001,12.09,11.56,14.1]
["Male","Non limiting LI","RowLowerCL",7.97,10.773999999999999,4.7969999999999997,12.68,8.74,12.01,11.48,9.36,10.52,15.55,14.288,11.266999999999999,8.7799999999999994,8.18,13.12]
["Male","Non limiting LI","RowUpperCL",11.92,20.11,12.677,18.760000000000002,16.29,16.809999999999999,15.28,15.58,17.39,21.39,23.942,23.108000000000001,15.4,14.941000000000001,15.08]
["Male","No LI","RowPercent",48.29,53.15,57.991,55.43,56.65,61.08,56.57,57.1,54.43,55.57,50.384999999999998,57.368000000000002,58.25,51.834000000000003,56.07]
["Male","No LI","RowLowerCL",44.31,45.048999999999999,49.881999999999998,51.36,49.83,57.89,53.52,51.92,49.87,51.42,44.058999999999997,49.420999999999999,52.73,45.529000000000003,54.68]
["Male","No LI","RowUpperCL",52.27,61.252000000000002,66.099999999999994,59.51,63.46,64.260000000000005,59.62,62.28,58.99,59.71,56.71,65.314999999999998,63.78,58.14,57.46]
["Female","Limiting LI","RowPercent",46.67,30.738,33.277000000000001,34.18,37.130000000000003,28.41,35.07,34.06,33.520000000000003,28.78,35.418999999999997,33.658000000000001,31.32,36.072000000000003,33.57]
["Female","Limiting LI","RowLowerCL",43.17,23.702999999999999,26.334,31.15,32.19,25.87,32.53,29.53,29.89,25.71,29.757000000000001,26.751999999999999,26.94,30.986000000000001,32.42]
["Female","Limiting LI","RowUpperCL",50.17,37.773000000000003,40.22,37.21,42.06,30.96,37.61,38.6,37.159999999999997,31.86,41.081000000000003,40.563000000000002,35.69,41.158000000000001,34.72]
["Female","Non limiting LI","RowPercent",9.9,23.637,9.0489999999999995,14.12,14.12,14.32,11.99,16.510000000000002,14.35,15.62,21.800999999999998,17.024999999999999,14.92,11.74,13.96]
["Female","Non limiting LI","RowLowerCL",8.14,17.268999999999998,4.8259999999999996,12.24,10.48,12.35,10.48,13.19,11.77,13.54,17.251999999999999,12.019,12.15,8.1349999999999998,13.17]
["Female","Non limiting LI","RowUpperCL",11.66,30.006,13.272,16.010000000000002,17.77,16.3,13.49,19.829999999999998,16.93,17.7,26.349,22.030999999999999,17.7,15.343999999999999,14.74]
["Female","No LI","RowPercent",43.43,45.625,57.673999999999999,51.7,48.75,57.26,52.94,49.43,52.13,55.6,42.780999999999999,49.317,53.76,52.188000000000002,52.47]
["Female","No LI","RowLowerCL",40.14,40.365000000000002,50.317999999999998,48.49,43.06,54.46,50.41,43.85,48.38,52.15,34.780999999999999,42.905000000000001,49.04,46.817999999999998,51.29]
["Female","No LI","RowUpperCL",46.72,50.884999999999998,65.03,54.91,54.44,60.06,55.47,55,55.87,59.05,50.78,55.728999999999999,58.48,57.558999999999997,53.65]
["Total","Limiting LI","RowPercent",44.41,31.042000000000002,33.274999999999999,31.6,34.15,26.56,32.67,32.32,32.619999999999997,27.35,32.966999999999999,29.422000000000001,30.54,36.338000000000001,31.77]
["Total","Limiting LI","RowLowerCL",41.11,24.731999999999999,27.486000000000001,28.91,30.18,24.6,30.42,28.59,29.81,25.05,28.745999999999999,25.158000000000001,26.58,31.957000000000001,30.82]
["Total","Limiting LI","RowUpperCL",47.71,37.350999999999999,39.063000000000002,34.28,38.119999999999997,28.52,34.92,36.049999999999997,35.42,29.66,37.189,33.686,34.5,40.72,32.72]
["Total","Non limiting LI","RowPercent",9.92,19.920000000000002,8.8970000000000002,14.9,13.36,14.36,12.65,14.57,14.16,17.059999999999999,20.462,17.109000000000002,13.59,11.65,14.03]
["Total","Non limiting LI","RowLowerCL",8.57,15.395,5.7510000000000003,12.99,10.66,12.84,11.36,12.11,11.97,15.15,16.815999999999999,13.097,11.37,8.9860000000000007,13.37]
["Total","Non limiting LI","RowUpperCL",11.27,24.445,12.042999999999999,16.809999999999999,16.059999999999999,15.89,13.95,17.04,16.36,18.97,24.108000000000001,21.12,15.82,14.314,14.68]
["Total","No LI","RowPercent",45.67,49.037999999999997,57.829000000000001,53.5,52.49,59.07,54.68,53.11,53.22,55.58,46.570999999999998,53.469000000000001,55.87,52.011000000000003,54.2]
["Total","No LI","RowLowerCL",42.71,43.9,50.892000000000003,50.53,47.62,56.71,52.52,48.6,50.01,52.62,40.134999999999998,47.332000000000001,51.73,47.429000000000002,53.19]
["Total","No LI","RowUpperCL",48.63,54.177,64.765000000000001,56.48,57.35,61.44,56.83,57.62,56.44,58.54,53.006999999999998,59.606999999999999,60.01,56.594000000000001,55.21]
["Male",".","WgtFreq",606.12,183.85599999999999,262.10599999999999,620.29,497.09,978.48,1880.15,541.45000000000005,1146.23,1535.71,38.805,41.939,681.92,48.445999999999998,9062.6]
["Female",".","WgtFreq",709.46,221.49700000000001,275.46600000000001,663.33,553.76,1079.33,2050.58,586.85,1261.3800000000001,1495.36,39.048000000000002,39.383000000000003,771.2,48.518000000000001,9795.16]
["Total",".","WgtFreq",1315.58,405.35300000000001,537.572,1283.6199999999999,1050.8499999999999,2057.81,3930.73,1128.31,2407.61,3031.07,77.852999999999994,81.322000000000003,1453.11,96.963999999999999,18857.759999999998]
["Male",".","Frequency",948,199,221,903,307,1134,1341,355,659,938,234,247,472,387,8345]
["Female",".","Frequency",1207,277,258,1142,412,1429,1747,463,876,1104,271,277,590,461,10514]
["Total",".","Frequency",2155,476,479,2045,719,2563,3088,818,1535,2042,505,524,1062,848,18859]

{"sheet":"Long-term illness chart","index":13,"n_rows":48,"n_cols":18,"rows_kept":48,"cut":false,"hidden":false,"merged":[]}
[null,null,null,null,null,null,null,null,null,null,null,null,null,null,null,null,null,"INDEX"]
[]
[]
[]
[]
[]
[]
[]
[]
[]
[]
[]
[]
[]
[]
[]
[]
[]
[]
[]
[]
[]
[]
[]
[]
[]
[]
[]
[]
[]
[null,null,"Source: Scottish Health Survey"]
[]
[]
[null,null,"Ayrshire & Arran ","Borders","Dumfries & Galloway","Fife","Forth Valley","Grampian","Greater Glasgow & Clyde","Highland","Lanarkshire","Lothian","Orkney","Shetland","Tayside","Western Isles",null,"Scotland"]
[null,"All Adults"]
[null,"Limiting long-term illness",{"$f":"'Long-term illness'!B31","v":44.41},{"$f":"'Long-term illness'!C31","v":31.042000000000002},{"$f":"'Long-term illness'!D31","v":33.274999999999999},{"$f":"'Long-term illness'!E31","v":31.6},{"$f":"'Long-term illness'!F31","v":34.15},{"$f":"'Long-term illness'!G31","v":26.56},{"$f":"'Long-term illness'!H31","v":32.67},{"$f":"'Long-term illness'!I31","v":32.32},{"$f":"'Long-term illness'!J31","v":32.619999999999997},{"$f":"'Long-term illness'!K31","v":27.35},{"$f":"'Long-term illness'!L31","v":32.966999999999999},{"$f":"'Long-term illness'!M31","v":29.422000000000001},{"$f":"'Long-term illness'!N31","v":30.54},{"$f":"'Long-term illness'!O31","v":36.338000000000001},null,{"$f":"'Long-term illness'!P31","v":31.77}]
[null,"Lower CI",{"$f":"'Long-term illness'!B32","v":41.11},{"$f":"'Long-term illness'!C32","v":24.731999999999999},{"$f":"'Long-term illness'!D32","v":27.486000000000001},{"$f":"'Long-term illness'!E32","v":28.91},{"$f":"'Long-term illness'!F32","v":30.18},{"$f":"'Long-term illness'!G32","v":24.6},{"$f":"'Long-term illness'!H32","v":30.42},{"$f":"'Long-term illness'!I32","v":28.59},{"$f":"'Long-term illness'!J32","v":29.81},{"$f":"'Long-term illness'!K32","v":25.05},{"$f":"'Long-term illness'!L32","v":28.745999999999999},{"$f":"'Long-term illness'!M32","v":25.158000000000001},{"$f":"'Long-term illness'!N32","v":26.58},{"$f":"'Long-term illness'!O32","v":31.957000000000001},null,{"$f":"'Long-term illness'!P32","v":30.82}]
[null,"Upper CI",{"$f":"'Long-term illness'!B33","v":47.71},{"$f":"'Long-term illness'!C33","v":37.350999999999999},{"$f":"'Long-term illness'!D33","v":39.063000000000002},{"$f":"'Long-term illness'!E33","v":34.28},{"$f":"'Long-term illness'!F33","v":38.119999999999997},{"$f":"'Long-term illness'!G33","v":28.52},{"$f":"'Long-term illness'!H33","v":34.92},{"$f":"'Long-term illness'!I33","v":36.049999999999997},{"$f":"'Long-term illness'!J33","v":35.42},{"$f":"'Long-term illness'!K33","v":29.66},{"$f":"'Long-term illness'!L33","v":37.189},{"$f":"'Long-term illness'!M33","v":33.686},{"$f":"'Long-term illness'!N33","v":34.5},{"$f":"'Long-term illness'!O33","v":40.72},null,{"$f":"'Long-term illness'!P33","v":32.72}]
[null,"Non-limiting long-term illness",{"$f":"'Long-term illness'!B34","v":9.92},{"$f":"'Long-term illness'!C34","v":19.920000000000002},{"$f":"'Long-term illness'!D34","v":8.8970000000000002},{"$f":"'Long-term illness'!E34","v":14.9},{"$f":"'Long-term illness'!F34","v":13.36},{"$f":"'Long-term illness'!G34","v":14.36},{"$f":"'Long-term illness'!H34","v":12.65},{"$f":"'Long-term illness'!I34","v":14.57},{"$f":"'Long-term illness'!J34","v":14.16},{"$f":"'Long-term illness'!K34","v":17.059999999999999},{"$f":"'Long-term illness'!L34","v":20.462},{"$f":"'Long-term illness'!M34","v":17.109000000000002},{"$f":"'Long-term illness'!N34","v":13.59},{"$f":"'Long-term illness'!O34","v":11.65},null,{"$f":"'Long-term illness'!P34","v":14.03}]
[null,"Lower CI",{"$f":"'Long-term illness'!B35","v":8.57},{"$f":"'Long-term illness'!C35","v":15.395},{"$f":"'Long-term illness'!D35","v":5.7510000000000003},{"$f":"'Long-term illness'!E35","v":12.99},{"$f":"'Long-term illness'!F35","v":10.66},{"$f":"'Long-term illness'!G35","v":12.84},{"$f":"'Long-term illness'!H35","v":11.36},{"$f":"'Long-term illness'!I35","v":12.11},{"$f":"'Long-term illness'!J35","v":11.97},{"$f":"'Long-term illness'!K35","v":15.15},{"$f":"'Long-term illness'!L35","v":16.815999999999999},{"$f":"'Long-term illness'!M35","v":13.097},{"$f":"'Long-term illness'!N35","v":11.37},{"$f":"'Long-term illness'!O35","v":8.9860000000000007},null,{"$f":"'Long-term illness'!P35","v":13.37}]
[null,"Upper CI",{"$f":"'Long-term illness'!B36","v":11.27},{"$f":"'Long-term illness'!C36","v":24.445},{"$f":"'Long-term illness'!D36","v":12.042999999999999},{"$f":"'Long-term illness'!E36","v":16.809999999999999},{"$f":"'Long-term illness'!F36","v":16.059999999999999},{"$f":"'Long-term illness'!G36","v":15.89},{"$f":"'Long-term illness'!H36","v":13.95},{"$f":"'Long-term illness'!I36","v":17.04},{"$f":"'Long-term illness'!J36","v":16.36},{"$f":"'Long-term illness'!K36","v":18.97},{"$f":"'Long-term illness'!L36","v":24.108000000000001},{"$f":"'Long-term illness'!M36","v":21.12},{"$f":"'Long-term illness'!N36","v":15.82},{"$f":"'Long-term illness'!O36","v":14.314},null,{"$f":"'Long-term illness'!P36","v":14.68}]
[null,"No long-term illness",{"$f":"'Long-term illness'!B37","v":45.67},{"$f":"'Long-term illness'!C37","v":49.037999999999997},{"$f":"'Long-term illness'!D37","v":57.829000000000001},{"$f":"'Long-term illness'!E37","v":53.5},{"$f":"'Long-term illness'!F37","v":52.49},{"$f":"'Long-term illness'!G37","v":59.07},{"$f":"'Long-term illness'!H37","v":54.68},{"$f":"'Long-term illness'!I37","v":53.11},{"$f":"'Long-term illness'!J37","v":53.22},{"$f":"'Long-term illness'!K37","v":55.58},{"$f":"'Long-term illness'!L37","v":46.570999999999998},{"$f":"'Long-term illness'!M37","v":53.469000000000001},{"$f":"'Long-term illness'!N37","v":55.87},{"$f":"'Long-term illness'!O37","v":52.011000000000003},null,{"$f":"'Long-term illness'!P37","v":54.2}]
[null,"Lower CI",{"$f":"'Long-term illness'!B38","v":42.71},{"$f":"'Long-term illness'!C38","v":43.9},{"$f":"'Long-term illness'!D38","v":50.892000000000003},{"$f":"'Long-term illness'!E38","v":50.53},{"$f":"'Long-term illness'!F38","v":47.62},{"$f":"'Long-term illness'!G38","v":56.71},{"$f":"'Long-term illness'!H38","v":52.52},{"$f":"'Long-term illness'!I38","v":48.6},{"$f":"'Long-term illness'!J38","v":50.01},{"$f":"'Long-term illness'!K38","v":52.62},{"$f":"'Long-term illness'!L38","v":40.134999999999998},{"$f":"'Long-term illness'!M38","v":47.332000000000001},{"$f":"'Long-term illness'!N38","v":51.73},{"$f":"'Long-term illness'!O38","v":47.429000000000002},null,{"$f":"'Long-term illness'!P38","v":53.19}]
[null,"Upper CI",{"$f":"'Long-term illness'!B39","v":48.63},{"$f":"'Long-term illness'!C39","v":54.177},{"$f":"'Long-term illness'!D39","v":64.765000000000001},{"$f":"'Long-term illness'!E39","v":56.48},{"$f":"'Long-term illness'!F39","v":57.35},{"$f":"'Long-term illness'!G39","v":61.44},{"$f":"'Long-term illness'!H39","v":56.83},{"$f":"'Long-term illness'!I39","v":57.62},{"$f":"'Long-term illness'!J39","v":56.44},{"$f":"'Long-term illness'!K39","v":58.54},{"$f":"'Long-term illness'!L39","v":53.006999999999998},{"$f":"'Long-term illness'!M39","v":59.606999999999999},{"$f":"'Long-term illness'!N39","v":60.01},{"$f":"'Long-term illness'!O39","v":56.594000000000001},null,{"$f":"'Long-term illness'!P39","v":55.21}]
[]
["CLs","Limiting long-term illness",{"$f":"C36-C37","v":3.2999999999999972},{"$f":"D36-D37","v":6.3100000000000023},5.7889999999999979,2.6900000000000013,3.9699999999999989,1.9599999999999973,2.25,3.7300000000000004,2.8099999999999987,2.3000000000000007,4.2210000000000001,4.2639999999999993,3.9600000000000009,4.3810000000000002,null,{"$f":"R36-R37","v":0.94999999999999929}]
[null,"Non-limiting long-term illness",{"$f":"C39-C40","v":1.3499999999999996},{"$f":"D39-D40","v":4.5250000000000021},3.1459999999999999,1.9100000000000001,2.6999999999999993,1.5199999999999996,1.2900000000000009,2.4600000000000009,2.1899999999999995,1.9099999999999984,3.6460000000000008,4.0120000000000022,2.2200000000000006,2.6639999999999997,null,{"$f":"R39-R40","v":0.66000000000000014}]
[null,"No long-term illness",{"$f":"C42-C43","v":2.9600000000000009},{"$f":"D42-D43","v":5.1379999999999981},6.9369999999999976,2.9699999999999989,4.8700000000000045,2.3599999999999994,2.1599999999999966,4.509999999999998,3.2100000000000009,2.9600000000000009,6.4359999999999999,6.1370000000000005,4.1400000000000006,4.5820000000000007,null,{"$f":"R42-R43","v":1.0100000000000051}]

{"sheet":"Alcohol guidelines","index":14,"n_rows":52,"n_cols":16,"rows_kept":52,"cut":false,"hidden":false,"merged":[[0,0,1,0],[4,0,5,0]]}
["Adherence to weekly drinking advicea by NHS Board and sex",null,null,null,null,null,null,null,null,null,null,null,null,"INDEX"]
[]
[]
["Aged 16 and over",null,null,null,null,null,null,null,null,null,null,null,null,null,null,"2013/2014/2015/2016 combined"]
["Weekly drinking category","NHS Board"]
[null,"Ayrshire & Arran ","Borders","Dumfries & Galloway","Fife","Forth Valley","Grampian","Greater Glasgow & Clyde","Highland","Lanarkshire","Lothian","Orkney","Shetland","Tayside","Western Isles","Scotland"]
[null,"%","%","%","%","%","%","%","%","%","%","%","%","%","%","%"]
["Men"]
["Non drinker",{"$f":"'Alc guide data'!D2","v":12.02},{"$f":"'Alc guide data'!E2","v":8.3000000000000007},{"$f":"'Alc guide data'!F2","v":16.513000000000002},{"$f":"'Alc guide data'!G2","v":11.98},{"$f":"'Alc guide data'!H2","v":10.36},{"$f":"'Alc guide data'!I2","v":12.71},{"$f":"'Alc guide data'!J2","v":16.13},{"$f":"'Alc guide data'!K2","v":12.43},{"$f":"'Alc guide data'!L2","v":14.3},{"$f":"'Alc guide data'!M2","v":11.71},{"$f":"'Alc guide data'!N2","v":10.512},{"$f":"'Alc guide data'!O2","v":12.131},{"$f":"'Alc guide data'!P2","v":12.12},{"$f":"'Alc guide data'!Q2","v":19.295000000000002},{"$f":"'Alc guide data'!R2","v":13.2}]
["Lower CI",{"$f":"'Alc guide data'!D3","v":9.73},{"$f":"'Alc guide data'!E3","v":4.4219999999999997},{"$f":"'Alc guide data'!F3","v":11.529},{"$f":"'Alc guide data'!G3","v":9.6999999999999993},{"$f":"'Alc guide data'!H3","v":7.27},{"$f":"'Alc guide data'!I3","v":10.35},{"$f":"'Alc guide data'!J3","v":13.85},{"$f":"'Alc guide data'!K3","v":9.02},{"$f":"'Alc guide data'!L3","v":10.83},{"$f":"'Alc guide data'!M3","v":9.34},{"$f":"'Alc guide data'!N3","v":6.9320000000000004},{"$f":"'Alc guide data'!O3","v":8.2080000000000002},{"$f":"'Alc guide data'!P3","v":9.0399999999999991},{"$f":"'Alc guide data'!Q3","v":14.542},{"$f":"'Alc guide data'!R3","v":12.27}]
["Upper CI",{"$f":"'Alc guide data'!D4","v":14.32},{"$f":"'Alc guide data'!E4","v":12.178000000000001},{"$f":"'Alc guide data'!F4","v":21.497},{"$f":"'Alc guide data'!G4","v":14.26},{"$f":"'Alc guide data'!H4","v":13.45},{"$f":"'Alc guide data'!I4","v":15.07},{"$f":"'Alc guide data'!J4","v":18.420000000000002},{"$f":"'Alc guide data'!K4","v":15.85},{"$f":"'Alc guide data'!L4","v":17.77},{"$f":"'Alc guide data'!M4","v":14.08},{"$f":"'Alc guide data'!N4","v":14.092000000000001},{"$f":"'Alc guide data'!O4","v":16.053000000000001},{"$f":"'Alc guide data'!P4","v":15.2},{"$f":"'Alc guide data'!Q4","v":24.048999999999999},{"$f":"'Alc guide data'!R4","v":14.14}]
["Moderateb",{"$f":"'Alc guide data'!D5","v":50.67},{"$f":"'Alc guide data'!E5","v":57.473999999999997},{"$f":"'Alc guide data'!F5","v":52.948},{"$f":"'Alc guide data'!G5","v":55.85},{"$f":"'Alc guide data'!H5","v":46.25},{"$f":"'Alc guide data'!I5","v":53.98},{"$f":"'Alc guide data'!J5","v":51.35},{"$f":"'Alc guide data'!K5","v":52.12},{"$f":"'Alc guide data'!L5","v":51.74},{"$f":"'Alc guide data'!M5","v":47.97},{"$f":"'Alc guide data'!N5","v":53.991},{"$f":"'Alc guide data'!O5","v":55.030999999999999},{"$f":"'Alc guide data'!P5","v":58.48},{"$f":"'Alc guide data'!Q5","v":48.054000000000002},{"$f":"'Alc guide data'!R5","v":51.87}]
["Lower CI",{"$f":"'Alc guide data'!D6","v":47.4},{"$f":"'Alc guide data'!E6","v":51.872},{"$f":"'Alc guide data'!F6","v":44.65},{"$f":"'Alc guide data'!G6","v":52.29},{"$f":"'Alc guide data'!H6","v":40.630000000000003},{"$f":"'Alc guide data'!I6","v":50.48},{"$f":"'Alc guide data'!J6","v":48.33},{"$f":"'Alc guide data'!K6","v":46.53},{"$f":"'Alc guide data'!L6","v":47.18},{"$f":"'Alc guide data'!M6","v":44.16},{"$f":"'Alc guide data'!N6","v":48.634},{"$f":"'Alc guide data'!O6","v":49.039000000000001},{"$f":"'Alc guide data'!P6","v":53.92},{"$f":"'Alc guide data'!Q6","v":42.259},{"$f":"'Alc guide data'!R6","v":50.51}]
["Upper CI",{"$f":"'Alc guide data'!D7","v":53.93},{"$f":"'Alc guide data'!E7","v":63.076000000000001},{"$f":"'Alc guide data'!F7","v":61.247},{"$f":"'Alc guide data'!G7","v":59.41},{"$f":"'Alc guide data'!H7","v":51.87},{"$f":"'Alc guide data'!I7","v":57.48},{"$f":"'Alc guide data'!J7","v":54.37},{"$f":"'Alc guide data'!K7","v":57.72},{"$f":"'Alc guide data'!L7","v":56.31},{"$f":"'Alc guide data'!M7","v":51.77},{"$f":"'Alc guide data'!N7","v":59.347000000000001},{"$f":"'Alc guide data'!O7","v":61.023000000000003},{"$f":"'Alc guide data'!P7","v":63.04},{"$f":"'Alc guide data'!Q7","v":53.848999999999997},{"$f":"'Alc guide data'!R7","v":53.23}]
["Hazardous/Harmfulc",{"$f":"'Alc guide data'!D8","v":37.31},{"$f":"'Alc guide data'!E8","v":34.225999999999999},{"$f":"'Alc guide data'!F8","v":30.539000000000001},{"$f":"'Alc guide data'!G8","v":32.17},{"$f":"'Alc guide data'!H8","v":43.39},{"$f":"'Alc guide data'!I8","v":33.31},{"$f":"'Alc guide data'!J8","v":32.51},{"$f":"'Alc guide data'!K8","v":35.44},{"$f":"'Alc guide data'!L8","v":33.96},{"$f":"'Alc guide data'!M8","v":40.32},{"$f":"'Alc guide data'!N8","v":35.497999999999998},{"$f":"'Alc guide data'!O8","v":32.838000000000001},{"$f":"'Alc guide data'!P8","v":29.4},{"$f":"'Alc guide data'!Q8","v":32.65},{"$f":"'Alc guide data'!R8","v":34.92}]
["Lower CI",{"$f":"'Alc guide data'!D9","v":34.229999999999997},{"$f":"'Alc guide data'!E9","v":28.417000000000002},{"$f":"'Alc guide data'!F9","v":23.452999999999999},{"$f":"'Alc guide data'!G9","v":28.91},{"$f":"'Alc guide data'!H9","v":37.53},{"$f":"'Alc guide data'!I9","v":30.11},{"$f":"'Alc guide data'!J9","v":29.91},{"$f":"'Alc guide data'!K9","v":29.87},{"$f":"'Alc guide data'!L9","v":29.74},{"$f":"'Alc guide data'!M9","v":36.229999999999997},{"$f":"'Alc guide data'!N9","v":29.45},{"$f":"'Alc guide data'!O9","v":27.757999999999999},{"$f":"'Alc guide data'!P9","v":25.16},{"$f":"'Alc guide data'!Q9","v":27.507000000000001},{"$f":"'Alc guide data'!R9","v":33.6}]
["Upper CI",{"$f":"'Alc guide data'!D10","v":40.39},{"$f":"'Alc guide data'!E10","v":40.036000000000001},{"$f":"'Alc guide data'!F10","v":37.624000000000002},{"$f":"'Alc guide data'!G10","v":35.43},{"$f":"'Alc guide data'!H10","v":49.26},{"$f":"'Alc guide data'!I10","v":36.5},{"$f":"'Alc guide data'!J10","v":35.119999999999997},{"$f":"'Alc guide data'!K10","v":41.01},{"$f":"'Alc guide data'!L10","v":38.17},{"$f":"'Alc guide data'!M10","v":44.41},{"$f":"'Alc guide data'!N10","v":41.545999999999999},{"$f":"'Alc guide data'!O10","v":37.917999999999999},{"$f":"'Alc guide data'!P10","v":33.64},{"$f":"'Alc guide data'!Q10","v":37.793999999999997},{"$f":"'Alc guide data'!R10","v":36.25}]
[]
["Women"]
["Non drinker",{"$f":"'Alc guide data'!D11","v":19.59},{"$f":"'Alc guide data'!E11","v":11.473000000000001},{"$f":"'Alc guide data'!F11","v":17.966000000000001},{"$f":"'Alc guide data'!G11","v":18.75},{"$f":"'Alc guide data'!H11","v":19.510000000000002},{"$f":"'Alc guide data'!I11","v":19.09},{"$f":"'Alc guide data'!J11","v":20.78},{"$f":"'Alc guide data'!K11","v":18.170000000000002},{"$f":"'Alc guide data'!L11","v":19.53},{"$f":"'Alc guide data'!M11","v":16.12},{"$f":"'Alc guide data'!N11","v":14.744999999999999},{"$f":"'Alc guide data'!O11","v":17.457999999999998},{"$f":"'Alc guide data'!P11","v":18.25},{"$f":"'Alc guide data'!Q11","v":27.289000000000001},{"$f":"'Alc guide data'!R11","v":18.77}]
["Lower CI",{"$f":"'Alc guide data'!D12","v":16.86},{"$f":"'Alc guide data'!E12","v":7.9059999999999997},{"$f":"'Alc guide data'!F12","v":12.901},{"$f":"'Alc guide data'!G12","v":16.260000000000002},{"$f":"'Alc guide data'!H12","v":15.81},{"$f":"'Alc guide data'!I12","v":16.7},{"$f":"'Alc guide data'!J12","v":18.420000000000002},{"$f":"'Alc guide data'!K12","v":14.67},{"$f":"'Alc guide data'!L12","v":16.059999999999999},{"$f":"'Alc guide data'!M12","v":13.66},{"$f":"'Alc guide data'!N12","v":10.292},{"$f":"'Alc guide data'!O12","v":12.7},{"$f":"'Alc guide data'!P12","v":14.87},{"$f":"'Alc guide data'!Q12","v":22.274999999999999},{"$f":"'Alc guide data'!R12","v":17.84}]
["Upper CI",{"$f":"'Alc guide data'!D13","v":22.33},{"$f":"'Alc guide data'!E13","v":15.041},{"$f":"'Alc guide data'!F13","v":23.030999999999999},{"$f":"'Alc guide data'!G13","v":21.24},{"$f":"'Alc guide data'!H13","v":23.2},{"$f":"'Alc guide data'!I13","v":21.49},{"$f":"'Alc guide data'!J13","v":23.15},{"$f":"'Alc guide data'!K13","v":21.66},{"$f":"'Alc guide data'!L13","v":23.01},{"$f":"'Alc guide data'!M13","v":18.579999999999998},{"$f":"'Alc guide data'!N13","v":19.199000000000002},{"$f":"'Alc guide data'!O13","v":22.216000000000001},{"$f":"'Alc guide data'!P13","v":21.63},{"$f":"'Alc guide data'!Q13","v":32.302999999999997},{"$f":"'Alc guide data'!R13","v":19.7}]
["Moderateb",{"$f":"'Alc guide data'!D14","v":64.069999999999993},{"$f":"'Alc guide data'!E14","v":72.501999999999995},{"$f":"'Alc guide data'!F14","v":67.006},{"$f":"'Alc guide data'!G14","v":66.510000000000005},{"$f":"'Alc guide data'!H14","v":62.34},{"$f":"'Alc guide data'!I14","v":64.849999999999994},{"$f":"'Alc guide data'!J14","v":63.79},{"$f":"'Alc guide data'!K14","v":64.069999999999993},{"$f":"'Alc guide data'!L14","v":64.06},{"$f":"'Alc guide data'!M14","v":63.97},{"$f":"'Alc guide data'!N14","v":67.275999999999996},{"$f":"'Alc guide data'!O14","v":65.888999999999996},{"$f":"'Alc guide data'!P14","v":67.58},{"$f":"'Alc guide data'!Q14","v":63.651000000000003},{"$f":"'Alc guide data'!R14","v":64.709999999999994}]
["Lower CI",{"$f":"'Alc guide data'!D15","v":60.91},{"$f":"'Alc guide data'!E15","v":67.17},{"$f":"'Alc guide data'!F15","v":60.3},{"$f":"'Alc guide data'!G15","v":63.87},{"$f":"'Alc guide data'!H15","v":58.23},{"$f":"'Alc guide data'!I15","v":61.87},{"$f":"'Alc guide data'!J15","v":61.24},{"$f":"'Alc guide data'!K15","v":59.63},{"$f":"'Alc guide data'!L15","v":60.26},{"$f":"'Alc guide data'!M15","v":60.97},{"$f":"'Alc guide data'!N15","v":61.527000000000001},{"$f":"'Alc guide data'!O15","v":59.804000000000002},{"$f":"'Alc guide data'!P15","v":63.73},{"$f":"'Alc guide data'!Q15","v":58.101999999999997},{"$f":"'Alc guide data'!R15","v":63.63}]
["Upper CI",{"$f":"'Alc guide data'!D16","v":67.239999999999995},{"$f":"'Alc guide data'!E16","v":77.834000000000003},{"$f":"'Alc guide data'!F16","v":73.712000000000003},{"$f":"'Alc guide data'!G16","v":69.16},{"$f":"'Alc guide data'!H16","v":66.44},{"$f":"'Alc guide data'!I16","v":67.83},{"$f":"'Alc guide data'!J16","v":66.34},{"$f":"'Alc guide data'!K16","v":68.5},{"$f":"'Alc guide data'!L16","v":67.849999999999994},{"$f":"'Alc guide data'!M16","v":66.959999999999994},{"$f":"'Alc guide data'!N16","v":73.025000000000006},{"$f":"'Alc guide data'!O16","v":71.974999999999994},{"$f":"'Alc guide data'!P16","v":71.42},{"$f":"'Alc guide data'!Q16","v":69.2},{"$f":"'Alc guide data'!R16","v":65.8}]
["Hazardous/Harmfulc",{"$f":"'Alc guide data'!D17","v":16.34},{"$f":"'Alc guide data'!E17","v":16.024999999999999},{"$f":"'Alc guide data'!F17","v":15.028},{"$f":"'Alc guide data'!G17","v":14.74},{"$f":"'Alc guide data'!H17","v":18.16},{"$f":"'Alc guide data'!I17","v":16.059999999999999},{"$f":"'Alc guide data'!J17","v":15.43},{"$f":"'Alc guide data'!K17","v":17.77},{"$f":"'Alc guide data'!L17","v":16.41},{"$f":"'Alc guide data'!M17","v":19.91},{"$f":"'Alc guide data'!N17","v":17.978999999999999},{"$f":"'Alc guide data'!O17","v":16.652999999999999},{"$f":"'Alc guide data'!P17","v":14.18},{"$f":"'Alc guide data'!Q17","v":9.06},{"$f":"'Alc guide data'!R17","v":16.510000000000002}]
["Lower CI",{"$f":"'Alc guide data'!D18","v":14.1},{"$f":"'Alc guide data'!E18","v":11.455},{"$f":"'Alc guide data'!F18","v":10.779},{"$f":"'Alc guide data'!G18","v":12.6},{"$f":"'Alc guide data'!H18","v":13.95},{"$f":"'Alc guide data'!I18","v":13.67},{"$f":"'Alc guide data'!J18","v":13.62},{"$f":"'Alc guide data'!K18","v":14.67},{"$f":"'Alc guide data'!L18","v":13.26},{"$f":"'Alc guide data'!M18","v":17.260000000000002},{"$f":"'Alc guide data'!N18","v":13.52},{"$f":"'Alc guide data'!O18","v":10.77},{"$f":"'Alc guide data'!P18","v":11.06},{"$f":"'Alc guide data'!Q18","v":5.8739999999999997},{"$f":"'Alc guide data'!R18","v":15.63}]
["Upper CI",{"$f":"'Alc guide data'!D19","v":18.57},{"$f":"'Alc guide data'!E19","v":20.594000000000001},{"$f":"'Alc guide data'!F19","v":19.277000000000001},{"$f":"'Alc guide data'!G19","v":16.87},{"$f":"'Alc guide data'!H19","v":22.36},{"$f":"'Alc guide data'!I19","v":18.440000000000001},{"$f":"'Alc guide data'!J19","v":17.239999999999998},{"$f":"'Alc guide data'!K19","v":20.86},{"$f":"'Alc guide data'!L19","v":19.57},{"$f":"'Alc guide data'!M19","v":22.56},{"$f":"'Alc guide data'!N19","v":22.437999999999999},{"$f":"'Alc guide data'!O19","v":22.536000000000001},{"$f":"'Alc guide data'!P19","v":17.29},{"$f":"'Alc guide data'!Q19","v":12.246},{"$f":"'Alc guide data'!R19","v":17.39}]
[]
["All Adults"]
["Non drinker",{"$f":"'Alc guide data'!D20","v":16.14},{"$f":"'Alc guide data'!E20","v":10.039},{"$f":"'Alc guide data'!F20","v":17.257000000000001},{"$f":"'Alc guide data'!G20","v":15.48},{"$f":"'Alc guide data'!H20","v":15.17},{"$f":"'Alc guide data'!I20","v":16.07},{"$f":"'Alc guide data'!J20","v":18.57},{"$f":"'Alc guide data'!K20","v":15.41},{"$f":"'Alc guide data'!L20","v":17.059999999999999},{"$f":"'Alc guide data'!M20","v":13.91},{"$f":"'Alc guide data'!N20","v":12.632999999999999},{"$f":"'Alc guide data'!O20","v":14.728},{"$f":"'Alc guide data'!P20","v":15.35},{"$f":"'Alc guide data'!Q20","v":23.277999999999999},{"$f":"'Alc guide data'!R20","v":16.11}]
["Lower CI",{"$f":"'Alc guide data'!D21","v":14.12},{"$f":"'Alc guide data'!E21","v":7.42},{"$f":"'Alc guide data'!F21","v":12.907999999999999},{"$f":"'Alc guide data'!G21","v":13.51},{"$f":"'Alc guide data'!H21","v":12.49},{"$f":"'Alc guide data'!I21","v":14.19},{"$f":"'Alc guide data'!J21","v":16.64},{"$f":"'Alc guide data'!K21","v":12.63},{"$f":"'Alc guide data'!L21","v":14.3},{"$f":"'Alc guide data'!M21","v":11.96},{"$f":"'Alc guide data'!N21","v":9.5939999999999994},{"$f":"'Alc guide data'!O21","v":11.291},{"$f":"'Alc guide data'!P21","v":12.94},{"$f":"'Alc guide data'!Q21","v":19.024999999999999},{"$f":"'Alc guide data'!R21","v":15.35}]
["Upper CI",{"$f":"'Alc guide data'!D22","v":18.170000000000002},{"$f":"'Alc guide data'!E22","v":12.657},{"$f":"'Alc guide data'!F22","v":21.606000000000002},{"$f":"'Alc guide data'!G22","v":17.440000000000001},{"$f":"'Alc guide data'!H22","v":17.86},{"$f":"'Alc guide data'!I22","v":17.940000000000001},{"$f":"'Alc guide data'!J22","v":20.49},{"$f":"'Alc guide data'!K22","v":18.190000000000001},{"$f":"'Alc guide data'!L22","v":19.829999999999998},{"$f":"'Alc guide data'!M22","v":15.85},{"$f":"'Alc guide data'!N22","v":15.672000000000001},{"$f":"'Alc guide data'!O22","v":18.164000000000001},{"$f":"'Alc guide data'!P22","v":17.77},{"$f":"'Alc guide data'!Q22","v":27.53},{"$f":"'Alc guide data'!R22","v":16.86}]
["Moderateb",{"$f":"'Alc guide data'!D23","v":57.96},{"$f":"'Alc guide data'!E23","v":65.709000000000003},{"$f":"'Alc guide data'!F23","v":60.146000000000001},{"$f":"'Alc guide data'!G23","v":61.36},{"$f":"'Alc guide data'!H23","v":54.72},{"$f":"'Alc guide data'!I23","v":59.69},{"$f":"'Alc guide data'!J23","v":57.86},{"$f":"'Alc guide data'!K23","v":58.32},{"$f":"'Alc guide data'!L23","v":58.24},{"$f":"'Alc guide data'!M23","v":55.93},{"$f":"'Alc guide data'!N23","v":60.646999999999998},{"$f":"'Alc guide data'!O23","v":60.323999999999998},{"$f":"'Alc guide data'!P23","v":63.28},{"$f":"'Alc guide data'!Q23","v":55.823999999999998},{"$f":"'Alc guide data'!R23","v":58.56}]
["Lower CI",{"$f":"'Alc guide data'!D24","v":55.61},{"$f":"'Alc guide data'!E24","v":61.148000000000003},{"$f":"'Alc guide data'!F24","v":53.841999999999999},{"$f":"'Alc guide data'!G24","v":58.94},{"$f":"'Alc guide data'!H24","v":51.07},{"$f":"'Alc guide data'!I24","v":57},{"$f":"'Alc guide data'!J24","v":55.69},{"$f":"'Alc guide data'!K24","v":54.42},{"$f":"'Alc guide data'!L24","v":55.07},{"$f":"'Alc guide data'!M24","v":53.34},{"$f":"'Alc guide data'!N24","v":56.133000000000003},{"$f":"'Alc guide data'!O24","v":55.411999999999999},{"$f":"'Alc guide data'!P24","v":60.19},{"$f":"'Alc guide data'!Q24","v":51.134},{"$f":"'Alc guide data'!R24","v":57.62}]
["Upper CI",{"$f":"'Alc guide data'!D25","v":60.32},{"$f":"'Alc guide data'!E25","v":70.271000000000001},{"$f":"'Alc guide data'!F25","v":66.45},{"$f":"'Alc guide data'!G25","v":63.79},{"$f":"'Alc guide data'!H25","v":58.37},{"$f":"'Alc guide data'!I25","v":62.38},{"$f":"'Alc guide data'!J25","v":60.03},{"$f":"'Alc guide data'!K25","v":62.21},{"$f":"'Alc guide data'!L25","v":61.42},{"$f":"'Alc guide data'!M25","v":58.52},{"$f":"'Alc guide data'!N25","v":65.162000000000006},{"$f":"'Alc guide data'!O25","v":65.236000000000004},{"$f":"'Alc guide data'!P25","v":66.37},{"$f":"'Alc guide data'!Q25","v":60.514000000000003},{"$f":"'Alc guide data'!R25","v":59.51}]
["Hazardous/Harmfulc",{"$f":"'Alc guide data'!D26","v":25.89},{"$f":"'Alc guide data'!E26","v":24.251999999999999},{"$f":"'Alc guide data'!F26","v":22.597000000000001},{"$f":"'Alc guide data'!G26","v":23.16},{"$f":"'Alc guide data'!H26","v":30.11},{"$f":"'Alc guide data'!I26","v":24.24},{"$f":"'Alc guide data'!J26","v":23.57},{"$f":"'Alc guide data'!K26","v":26.28},{"$f":"'Alc guide data'!L26","v":24.69},{"$f":"'Alc guide data'!M26","v":30.16},{"$f":"'Alc guide data'!N26","v":26.72},{"$f":"'Alc guide data'!O26","v":24.948},{"$f":"'Alc guide data'!P26","v":21.37},{"$f":"'Alc guide data'!Q26","v":20.898},{"$f":"'Alc guide data'!R26","v":25.33}]
["Lower CI",{"$f":"'Alc guide data'!D27","v":23.78},{"$f":"'Alc guide data'!E27","v":19.859000000000002},{"$f":"'Alc guide data'!F27","v":17.885000000000002},{"$f":"'Alc guide data'!G27","v":20.97},{"$f":"'Alc guide data'!H27","v":26.26},{"$f":"'Alc guide data'!I27","v":22.1},{"$f":"'Alc guide data'!J27","v":21.88},{"$f":"'Alc guide data'!K27","v":22.8},{"$f":"'Alc guide data'!L27","v":21.88},{"$f":"'Alc guide data'!M27","v":27.57},{"$f":"'Alc guide data'!N27","v":22.567},{"$f":"'Alc guide data'!O27","v":20.385999999999999},{"$f":"'Alc guide data'!P27","v":18.489999999999998},{"$f":"'Alc guide data'!Q27","v":17.510999999999999},{"$f":"'Alc guide data'!R27","v":24.47}]
["Upper CI",{"$f":"'Alc guide data'!D28","v":28.01},{"$f":"'Alc guide data'!E28","v":28.645},{"$f":"'Alc guide data'!F28","v":27.31},{"$f":"'Alc guide data'!G28","v":25.35},{"$f":"'Alc guide data'!H28","v":33.96},{"$f":"'Alc guide data'!I28","v":26.39},{"$f":"'Alc guide data'!J28","v":25.26},{"$f":"'Alc guide data'!K28","v":29.75},{"$f":"'Alc guide data'!L28","v":27.51},{"$f":"'Alc guide data'!M28","v":32.75},{"$f":"'Alc guide data'!N28","v":30.872},{"$f":"'Alc guide data'!O28","v":29.51},{"$f":"'Alc guide data'!P28","v":24.25},{"$f":"'Alc guide data'!Q28","v":24.285},{"$f":"'Alc guide data'!R28","v":26.19}]
[]
["Bases (weighted):"]
["Men ",{"$f":"'Alc guide data'!D29","v":590.42999999999995},{"$f":"'Alc guide data'!E29","v":181.53399999999999},{"$f":"'Alc guide data'!F29","v":257.08800000000002},{"$f":"'Alc guide data'!G29","v":608.17999999999995},{"$f":"'Alc guide data'!H29","v":491.28},{"$f":"'Alc guide data'!I29","v":961.69},{"$f":"'Alc guide data'!J29","v":1831.6},{"$f":"'Alc guide data'!K29","v":532.75},{"$f":"'Alc guide data'!L29","v":1114.1500000000001},{"$f":"'Alc guide data'!M29","v":1492.42},{"$f":"'Alc guide data'!N29","v":38.579000000000001},{"$f":"'Alc guide data'!O29","v":41.243000000000002},{"$f":"'Alc guide data'!P29","v":677.65},{"$f":"'Alc guide data'!Q29","v":47.420999999999999},{"$f":"'Alc guide data'!R29","v":8866.02}]
["Women",{"$f":"'Alc guide data'!D30","v":705.05},{"$f":"'Alc guide data'!E30","v":220.077},{"$f":"'Alc guide data'!F30","v":269.70800000000003},{"$f":"'Alc guide data'!G30","v":650.88},{"$f":"'Alc guide data'!H30","v":546.02},{"$f":"'Alc guide data'!I30","v":1064.6300000000001},{"$f":"'Alc guide data'!J30","v":2011.86},{"$f":"'Alc guide data'!K30","v":573.84},{"$f":"'Alc guide data'!L30","v":1246.42},{"$f":"'Alc guide data'!M30","v":1480.07},{"$f":"'Alc guide data'!N30","v":38.744},{"$f":"'Alc guide data'!O30","v":39.228000000000002},{"$f":"'Alc guide data'!P30","v":756.46},{"$f":"'Alc guide data'!Q30","v":47.075000000000003},{"$f":"'Alc guide data'!R30","v":9650.08}]
["All Adults",{"$f":"'Alc guide data'!D31","v":1295.49},{"$f":"'Alc guide data'!E31","v":401.61099999999999},{"$f":"'Alc guide data'!F31","v":526.79600000000005},{"$f":"'Alc guide data'!G31","v":1259.06},{"$f":"'Alc guide data'!H31","v":1037.3},{"$f":"'Alc guide data'!I31","v":2026.33},{"$f":"'Alc guide data'!J31","v":3843.46},{"$f":"'Alc guide data'!K31","v":1106.5999999999999},{"$f":"'Alc guide data'!L31","v":2360.5700000000002},{"$f":"'Alc guide data'!M31","v":2972.5},{"$f":"'Alc guide data'!N31","v":77.322000000000003},{"$f":"'Alc guide data'!O31","v":80.471000000000004},{"$f":"'Alc guide data'!P31","v":1434.11},{"$f":"'Alc guide data'!Q31","v":94.495000000000005},{"$f":"'Alc guide data'!R31","v":18516.099999999999}]
["Bases (unweighted)"]
["Men ",{"$f":"'Alc guide data'!D32","v":927},{"$f":"'Alc guide data'!E32","v":196},{"$f":"'Alc guide data'!F32","v":218},{"$f":"'Alc guide data'!G32","v":891},{"$f":"'Alc guide data'!H32","v":304},{"$f":"'Alc guide data'!I32","v":1119},{"$f":"'Alc guide data'!J32","v":1318},{"$f":"'Alc guide data'!K32","v":351},{"$f":"'Alc guide data'!L32","v":646},{"$f":"'Alc guide data'!M32","v":919},{"$f":"'Alc guide data'!N32","v":233},{"$f":"'Alc guide data'!O32","v":243},{"$f":"'Alc guide data'!P32","v":470},{"$f":"'Alc guide data'!Q32","v":382},{"$f":"'Alc guide data'!R32","v":8217}]
["Women",{"$f":"'Alc guide data'!D33","v":1201},{"$f":"'Alc guide data'!E33","v":275},{"$f":"'Alc guide data'!F33","v":254},{"$f":"'Alc guide data'!G33","v":1126},{"$f":"'Alc guide data'!H33","v":407},{"$f":"'Alc guide data'!I33","v":1416},{"$f":"'Alc guide data'!J33","v":1722},{"$f":"'Alc guide data'!K33","v":458},{"$f":"'Alc guide data'!L33","v":871},{"$f":"'Alc guide data'!M33","v":1095},{"$f":"'Alc guide data'!N33","v":269},{"$f":"'Alc guide data'!O33","v":276},{"$f":"'Alc guide data'!P33","v":582},{"$f":"'Alc guide data'!Q33","v":454},{"$f":"'Alc guide data'!R33","v":10406}]
["All Adults",{"$f":"'Alc guide data'!D34","v":2128},{"$f":"'Alc guide data'!E34","v":471},{"$f":"'Alc guide data'!F34","v":472},{"$f":"'Alc guide data'!G34","v":2017},{"$f":"'Alc guide data'!H34","v":711},{"$f":"'Alc guide data'!I34","v":2535},{"$f":"'Alc guide data'!J34","v":3040},{"$f":"'Alc guide data'!K34","v":809},{"$f":"'Alc guide data'!L34","v":1517},{"$f":"'Alc guide data'!M34","v":2014},{"$f":"'Alc guide data'!N34","v":502},{"$f":"'Alc guide data'!O34","v":519},{"$f":"'Alc guide data'!P34","v":1052},{"$f":"'Alc guide data'!Q34","v":836},{"$f":"'Alc guide data'!R34","v":18623}]
[]
["a 2016 CMO recommendations: https://www.gov.uk/government/uploads/system/uploads/attachment_data/file/545937/UK_CMOs__report.pdf"]
["b Up to and including 14 units per week"]
["c Over 14 units per week"]

{"sheet":"Alc guide data","index":15,"n_rows":34,"n_cols":18,"rows_kept":34,"cut":false,"hidden":true,"merged":[]}
["F_sex","F_drkcat315","_NAME_","Ayrshire & Arran","Borders","Dumfries & Galloway","Fife","Forth Valley","Grampian","Greater Glasgow","Highland","Lanarkshire","Lothian","Orkney","Shetland","Tayside","Western Isles","Scotland"]
["Male","Non-drinker","RowPercent",12.02,8.3000000000000007,16.513000000000002,11.98,10.36,12.71,16.13,12.43,14.3,11.71,10.512,12.131,12.12,19.295000000000002,13.2]
["Male","Non-drinker","RowLowerCL",9.73,4.4219999999999997,11.529,9.6999999999999993,7.27,10.35,13.85,9.02,10.83,9.34,6.9320000000000004,8.2080000000000002,9.0399999999999991,14.542,12.27]
["Male","Non-drinker","RowUpperCL",14.32,12.178000000000001,21.497,14.26,13.45,15.07,18.420000000000002,15.85,17.77,14.08,14.092000000000001,16.053000000000001,15.2,24.048999999999999,14.14]
["Male","Moderate (up to and including 14)","RowPercent",50.67,57.473999999999997,52.948,55.85,46.25,53.98,51.35,52.12,51.74,47.97,53.991,55.030999999999999,58.48,48.054000000000002,51.87]
["Male","Moderate (up to and including 14)","RowLowerCL",47.4,51.872,44.65,52.29,40.630000000000003,50.48,48.33,46.53,47.18,44.16,48.634,49.039000000000001,53.92,42.259,50.51]
["Male","Moderate (up to and including 14)","RowUpperCL",53.93,63.076000000000001,61.247,59.41,51.87,57.48,54.37,57.72,56.31,51.77,59.347000000000001,61.023000000000003,63.04,53.848999999999997,53.23]
["Male","Hazardous/harmful (over 14)","RowPercent",37.31,34.225999999999999,30.539000000000001,32.17,43.39,33.31,32.51,35.44,33.96,40.32,35.497999999999998,32.838000000000001,29.4,32.65,34.92]
["Male","Hazardous/harmful (over 14)","RowLowerCL",34.229999999999997,28.417000000000002,23.452999999999999,28.91,37.53,30.11,29.91,29.87,29.74,36.229999999999997,29.45,27.757999999999999,25.16,27.507000000000001,33.6]
["Male","Hazardous/harmful (over 14)","RowUpperCL",40.39,40.036000000000001,37.624000000000002,35.43,49.26,36.5,35.119999999999997,41.01,38.17,44.41,41.545999999999999,37.917999999999999,33.64,37.793999999999997,36.25]
["Female","Non-drinker","RowPercent",19.59,11.473000000000001,17.966000000000001,18.75,19.510000000000002,19.09,20.78,18.170000000000002,19.53,16.12,14.744999999999999,17.457999999999998,18.25,27.289000000000001,18.77]
["Female","Non-drinker","RowLowerCL",16.86,7.9059999999999997,12.901,16.260000000000002,15.81,16.7,18.420000000000002,14.67,16.059999999999999,13.66,10.292,12.7,14.87,22.274999999999999,17.84]
["Female","Non-drinker","RowUpperCL",22.33,15.041,23.030999999999999,21.24,23.2,21.49,23.15,21.66,23.01,18.579999999999998,19.199000000000002,22.216000000000001,21.63,32.302999999999997,19.7]
["Female","Moderate (up to and including 14)","RowPercent",64.069999999999993,72.501999999999995,67.006,66.510000000000005,62.34,64.849999999999994,63.79,64.069999999999993,64.06,63.97,67.275999999999996,65.888999999999996,67.58,63.651000000000003,64.709999999999994]
["Female","Moderate (up to and including 14)","RowLowerCL",60.91,67.17,60.3,63.87,58.23,61.87,61.24,59.63,60.26,60.97,61.527000000000001,59.804000000000002,63.73,58.101999999999997,63.63]
["Female","Moderate (up to and including 14)","RowUpperCL",67.239999999999995,77.834000000000003,73.712000000000003,69.16,66.44,67.83,66.34,68.5,67.849999999999994,66.959999999999994,73.025000000000006,71.974999999999994,71.42,69.2,65.8]
["Female","Hazardous/harmful (over 14)","RowPercent",16.34,16.024999999999999,15.028,14.74,18.16,16.059999999999999,15.43,17.77,16.41,19.91,17.978999999999999,16.652999999999999,14.18,9.06,16.510000000000002]
["Female","Hazardous/harmful (over 14)","RowLowerCL",14.1,11.455,10.779,12.6,13.95,13.67,13.62,14.67,13.26,17.260000000000002,13.52,10.77,11.06,5.8739999999999997,15.63]
["Female","Hazardous/harmful (over 14)","RowUpperCL",18.57,20.594000000000001,19.277000000000001,16.87,22.36,18.440000000000001,17.239999999999998,20.86,19.57,22.56,22.437999999999999,22.536000000000001,17.29,12.246,17.39]
["Total","Non-drinker","RowPercent",16.14,10.039,17.257000000000001,15.48,15.17,16.07,18.57,15.41,17.059999999999999,13.91,12.632999999999999,14.728,15.35,23.277999999999999,16.11]
["Total","Non-drinker","RowLowerCL",14.12,7.42,12.907999999999999,13.51,12.49,14.19,16.64,12.63,14.3,11.96,9.5939999999999994,11.291,12.94,19.024999999999999,15.35]
["Total","Non-drinker","RowUpperCL",18.170000000000002,12.657,21.606000000000002,17.440000000000001,17.86,17.940000000000001,20.49,18.190000000000001,19.829999999999998,15.85,15.672000000000001,18.164000000000001,17.77,27.53,16.86]
["Total","Moderate (up to and including 14)","RowPercent",57.96,65.709000000000003,60.146000000000001,61.36,54.72,59.69,57.86,58.32,58.24,55.93,60.646999999999998,60.323999999999998,63.28,55.823999999999998,58.56]
["Total","Moderate (up to and including 14)","RowLowerCL",55.61,61.148000000000003,53.841999999999999,58.94,51.07,57,55.69,54.42,55.07,53.34,56.133000000000003,55.411999999999999,60.19,51.134,57.62]
["Total","Moderate (up to and including 14)","RowUpperCL",60.32,70.271000000000001,66.45,63.79,58.37,62.38,60.03,62.21,61.42,58.52,65.162000000000006,65.236000000000004,66.37,60.514000000000003,59.51]
["Total","Hazardous/harmful (over 14)","RowPercent",25.89,24.251999999999999,22.597000000000001,23.16,30.11,24.24,23.57,26.28,24.69,30.16,26.72,24.948,21.37,20.898,25.33]
["Total","Hazardous/harmful (over 14)","RowLowerCL",23.78,19.859000000000002,17.885000000000002,20.97,26.26,22.1,21.88,22.8,21.88,27.57,22.567,20.385999999999999,18.489999999999998,17.510999999999999,24.47]
["Total","Hazardous/harmful (over 14)","RowUpperCL",28.01,28.645,27.31,25.35,33.96,26.39,25.26,29.75,27.51,32.75,30.872,29.51,24.25,24.285,26.19]
["Male",".","WgtFreq",590.42999999999995,181.53399999999999,257.08800000000002,608.17999999999995,491.28,961.69,1831.6,532.75,1114.1500000000001,1492.42,38.579000000000001,41.243000000000002,677.65,47.420999999999999,8866.02]
["Female",".","WgtFreq",705.05,220.077,269.70800000000003,650.88,546.02,1064.6300000000001,2011.86,573.84,1246.42,1480.07,38.744,39.228000000000002,756.46,47.075000000000003,9650.08]
["Total",".","WgtFreq",1295.49,401.61099999999999,526.79600000000005,1259.06,1037.3,2026.33,3843.46,1106.5999999999999,2360.5700000000002,2972.5,77.322000000000003,80.471000000000004,1434.11,94.495000000000005,18516.099999999999]
["Male",".","Frequency",927,196,218,891,304,1119,1318,351,646,919,233,243,470,382,8217]
["Female",".","Frequency",1201,275,254,1126,407,1416,1722,458,871,1095,269,276,582,454,10406]
["Total",".","Frequency",2128,471,472,2017,711,2535,3040,809,1517,2014,502,519,1052,836,18623]

{"sheet":"Alcohol guidelines chart","index":16,"n_rows":47,"n_cols":18,"rows_kept":47,"cut":false,"hidden":false,"merged":[[46,2,46,15]]}
[null,null,null,null,null,null,null,null,null,null,null,null,null,null,null,null,null,"INDEX"]
[]
[]
[]
[]
[]
[]
[]
[]
[]
[]
[]
[]
[]
[]
[]
[]
[]
[]
[]
[]
[]
[]
[]
[]
[]
[]
[]
[]
[]
[null,null,"Source: Scottish Health Survey"]
[null,null,"Ayrshire & Arran ","Borders","Dumfries & Galloway","Fife","Forth Valley","Grampian","Greater Glasgow & Clyde","Highland","Lanarkshire","Lothian","Orkney","Shetland","Tayside","Western Isles",null,"Scotland"]
[null,"All Adults"]
[null,"Non drinker",{"$f":"'Alcohol guidelines'!B31","v":16.14},{"$f":"'Alcohol guidelines'!C31","v":10.039},{"$f":"'Alcohol guidelines'!D31","v":17.257000000000001},{"$f":"'Alcohol guidelines'!E31","v":15.48},{"$f":"'Alcohol guidelines'!F31","v":15.17},{"$f":"'Alcohol guidelines'!G31","v":16.07},{"$f":"'Alcohol guidelines'!H31","v":18.57},{"$f":"'Alcohol guidelines'!I31","v":15.41},{"$f":"'Alcohol guidelines'!J31","v":17.059999999999999},{"$f":"'Alcohol guidelines'!K31","v":13.91},{"$f":"'Alcohol guidelines'!L31","v":12.632999999999999},{"$f":"'Alcohol guidelines'!M31","v":14.728},{"$f":"'Alcohol guidelines'!N31","v":15.35},{"$f":"'Alcohol guidelines'!O31","v":23.277999999999999},null,{"$f":"'Alcohol guidelines'!P31","v":16.11}]
[null,"Lower CI",{"$f":"'Alcohol guidelines'!B32","v":14.12},{"$f":"'Alcohol guidelines'!C32","v":7.42},{"$f":"'Alcohol guidelines'!D32","v":12.907999999999999},{"$f":"'Alcohol guidelines'!E32","v":13.51},{"$f":"'Alcohol guidelines'!F32","v":12.49},{"$f":"'Alcohol guidelines'!G32","v":14.19},{"$f":"'Alcohol guidelines'!H32","v":16.64},{"$f":"'Alcohol guidelines'!I32","v":12.63},{"$f":"'Alcohol guidelines'!J32","v":14.3},{"$f":"'Alcohol guidelines'!K32","v":11.96},{"$f":"'Alcohol guidelines'!L32","v":9.5939999999999994},{"$f":"'Alcohol guidelines'!M32","v":11.291},{"$f":"'Alcohol guidelines'!N32","v":12.94},{"$f":"'Alcohol guidelines'!O32","v":19.024999999999999},null,{"$f":"'Alcohol guidelines'!P32","v":15.35}]
[null,"Upper CI",{"$f":"'Alcohol guidelines'!B33","v":18.170000000000002},{"$f":"'Alcohol guidelines'!C33","v":12.657},{"$f":"'Alcohol guidelines'!D33","v":21.606000000000002},{"$f":"'Alcohol guidelines'!E33","v":17.440000000000001},{"$f":"'Alcohol guidelines'!F33","v":17.86},{"$f":"'Alcohol guidelines'!G33","v":17.940000000000001},{"$f":"'Alcohol guidelines'!H33","v":20.49},{"$f":"'Alcohol guidelines'!I33","v":18.190000000000001},{"$f":"'Alcohol guidelines'!J33","v":19.829999999999998},{"$f":"'Alcohol guidelines'!K33","v":15.85},{"$f":"'Alcohol guidelines'!L33","v":15.672000000000001},{"$f":"'Alcohol guidelines'!M33","v":18.164000000000001},{"$f":"'Alcohol guidelines'!N33","v":17.77},{"$f":"'Alcohol guidelines'!O33","v":27.53},null,{"$f":"'Alcohol guidelines'!P33","v":16.86}]
[null,"Moderate",{"$f":"'Alcohol guidelines'!B34","v":57.96},{"$f":"'Alcohol guidelines'!C34","v":65.709000000000003},{"$f":"'Alcohol guidelines'!D34","v":60.146000000000001},{"$f":"'Alcohol guidelines'!E34","v":61.36},{"$f":"'Alcohol guidelines'!F34","v":54.72},{"$f":"'Alcohol guidelines'!G34","v":59.69},{"$f":"'Alcohol guidelines'!H34","v":57.86},{"$f":"'Alcohol guidelines'!I34","v":58.32},{"$f":"'Alcohol guidelines'!J34","v":58.24},{"$f":"'Alcohol guidelines'!K34","v":55.93},{"$f":"'Alcohol guidelines'!L34","v":60.646999999999998},{"$f":"'Alcohol guidelines'!M34","v":60.323999999999998},{"$f":"'Alcohol guidelines'!N34","v":63.28},{"$f":"'Alcohol guidelines'!O34","v":55.823999999999998},null,{"$f":"'Alcohol guidelines'!P34","v":58.56}]
[null,"Lower CI",{"$f":"'Alcohol guidelines'!B35","v":55.61},{"$f":"'Alcohol guidelines'!C35","v":61.148000000000003},{"$f":"'Alcohol guidelines'!D35","v":53.841999999999999},{"$f":"'Alcohol guidelines'!E35","v":58.94},{"$f":"'Alcohol guidelines'!F35","v":51.07},{"$f":"'Alcohol guidelines'!G35","v":57},{"$f":"'Alcohol guidelines'!H35","v":55.69},{"$f":"'Alcohol guidelines'!I35","v":54.42},{"$f":"'Alcohol guidelines'!J35","v":55.07},{"$f":"'Alcohol guidelines'!K35","v":53.34},{"$f":"'Alcohol guidelines'!L35","v":56.133000000000003},{"$f":"'Alcohol guidelines'!M35","v":55.411999999999999},{"$f":"'Alcohol guidelines'!N35","v":60.19},{"$f":"'Alcohol guidelines'!O35","v":51.134},null,{"$f":"'Alcohol guidelines'!P35","v":57.62}]
[null,"Upper CI",{"$f":"'Alcohol guidelines'!B36","v":60.32},{"$f":"'Alcohol guidelines'!C36","v":70.271000000000001},{"$f":"'Alcohol guidelines'!D36","v":66.45},{"$f":"'Alcohol guidelines'!E36","v":63.79},{"$f":"'Alcohol guidelines'!F36","v":58.37},{"$f":"'Alcohol guidelines'!G36","v":62.38},{"$f":"'Alcohol guidelines'!H36","v":60.03},{"$f":"'Alcohol guidelines'!I36","v":62.21},{"$f":"'Alcohol guidelines'!J36","v":61.42},{"$f":"'Alcohol guidelines'!K36","v":58.52},{"$f":"'Alcohol guidelines'!L36","v":65.162000000000006},{"$f":"'Alcohol guidelines'!M36","v":65.236000000000004},{"$f":"'Alcohol guidelines'!N36","v":66.37},{"$f":"'Alcohol guidelines'!O36","v":60.514000000000003},null,{"$f":"'Alcohol guidelines'!P36","v":59.51}]
[null,"Hazardous/harmful",{"$f":"'Alcohol guidelines'!B37","v":25.89},{"$f":"'Alcohol guidelines'!C37","v":24.251999999999999},{"$f":"'Alcohol guidelines'!D37","v":22.597000000000001},{"$f":"'Alcohol guidelines'!E37","v":23.16},{"$f":"'Alcohol guidelines'!F37","v":30.11},{"$f":"'Alcohol guidelines'!G37","v":24.24},{"$f":"'Alcohol guidelines'!H37","v":23.57},{"$f":"'Alcohol guidelines'!I37","v":26.28},{"$f":"'Alcohol guidelines'!J37","v":24.69},{"$f":"'Alcohol guidelines'!K37","v":30.16},{"$f":"'Alcohol guidelines'!L37","v":26.72},{"$f":"'Alcohol guidelines'!M37","v":24.948},{"$f":"'Alcohol guidelines'!N37","v":21.37},{"$f":"'Alcohol guidelines'!O37","v":20.898},null,{"$f":"'Alcohol guidelines'!P37","v":25.33}]
[null,"Lower CI",{"$f":"'Alcohol guidelines'!B38","v":23.78},{"$f":"'Alcohol guidelines'!C38","v":19.859000000000002},{"$f":"'Alcohol guidelines'!D38","v":17.885000000000002},{"$f":"'Alcohol guidelines'!E38","v":20.97},{"$f":"'Alcohol guidelines'!F38","v":26.26},{"$f":"'Alcohol guidelines'!G38","v":22.1},{"$f":"'Alcohol guidelines'!H38","v":21.88},{"$f":"'Alcohol guidelines'!I38","v":22.8},{"$f":"'Alcohol guidelines'!J38","v":21.88},{"$f":"'Alcohol guidelines'!K38","v":27.57},{"$f":"'Alcohol guidelines'!L38","v":22.567},{"$f":"'Alcohol guidelines'!M38","v":20.385999999999999},{"$f":"'Alcohol guidelines'!N38","v":18.489999999999998},{"$f":"'Alcohol guidelines'!O38","v":17.510999999999999},null,{"$f":"'Alcohol guidelines'!P38","v":24.47}]
[null,"Upper CI",{"$f":"'Alcohol guidelines'!B39","v":28.01},{"$f":"'Alcohol guidelines'!C39","v":28.645},{"$f":"'Alcohol guidelines'!D39","v":27.31},{"$f":"'Alcohol guidelines'!E39","v":25.35},{"$f":"'Alcohol guidelines'!F39","v":33.96},{"$f":"'Alcohol guidelines'!G39","v":26.39},{"$f":"'Alcohol guidelines'!H39","v":25.26},{"$f":"'Alcohol guidelines'!I39","v":29.75},{"$f":"'Alcohol guidelines'!J39","v":27.51},{"$f":"'Alcohol guidelines'!K39","v":32.75},{"$f":"'Alcohol guidelines'!L39","v":30.872},{"$f":"'Alcohol guidelines'!M39","v":29.51},{"$f":"'Alcohol guidelines'!N39","v":24.25},{"$f":"'Alcohol guidelines'!O39","v":24.285},null,{"$f":"'Alcohol guidelines'!P39","v":26.19}]
[]
["CLs","Non drinker",{"$f":"C34-C35","v":2.0200000000000014},{"$f":"D34-D35","v":2.6189999999999998},4.349000000000002,1.9700000000000006,2.6799999999999997,1.8800000000000008,1.9299999999999997,2.7799999999999994,2.759999999999998,1.9499999999999993,3.0389999999999997,3.4369999999999994,2.41,4.2530000000000001,null,0.75999999999999979]
[null,"Moderate",{"$f":"C37-C38","v":2.3500000000000014},{"$f":"D37-D38","v":4.5609999999999999},6.304000000000002,2.4200000000000017,3.6499999999999986,2.6899999999999977,2.1700000000000017,3.8999999999999986,3.1700000000000017,2.5899999999999963,4.5139999999999958,4.911999999999999,3.0900000000000034,4.6899999999999977,null,0.94000000000000483]
[null,"Hazardous/harmful",{"$f":"C40-C41","v":2.1099999999999994},{"$f":"D40-D41","v":4.3929999999999971},4.7119999999999997,2.1900000000000013,3.8499999999999979,2.139999999999997,1.6900000000000013,3.4800000000000004,2.8100000000000023,2.59,4.1529999999999987,4.5620000000000012,2.8800000000000026,3.3870000000000005,null,0.85999999999999943]
[null,null,"Based on 2016 CMO recommendations (https://www.gov.uk/government/uploads/system/uploads/attachment_data/file/545937/UK_CMOs__report.pdf)\nModerate- Up to and including 14 units per week\nHazardous/harmful- Over 14 units per week"]

{"sheet":"Mean alcohol units","index":17,"n_rows":31,"n_cols":16,"rows_kept":31,"cut":false,"hidden":false,"merged":[[0,0,1,0],[4,0,5,0]]}
["Mean number of alcohol units consumed weekly, by NHS Board and sex",null,null,null,null,null,null,null,null,null,null,null,"INDEX"]
[]
[]
["Aged 16 and over",null,null,null,null,null,null,null,null,null,null,null,null,null,null,"2013/2014/2015/2016 combined"]
["Mean alcohol drinking","NHS Board"]
[null,"Ayrshire & Arran ","Borders","Dumfries & Galloway","Fife","Forth Valley","Grampian","Greater Glasgow & Clyde","Highland","Lanarkshire","Lothian","Orkney","Shetland","Tayside","Western Isles","Scotland"]
["Men"]
["Weekly mean unitsa",{"$f":"'meanunit data'!C2","v":18.86},{"$f":"'meanunit data'!D2","v":14.372},{"$f":"'meanunit data'!E2","v":16.239999999999998},{"$f":"'meanunit data'!F2","v":15.68},{"$f":"'meanunit data'!G2","v":20.646000000000001},{"$f":"'meanunit data'!H2","v":15.55},{"$f":"'meanunit data'!I2","v":15.89},{"$f":"'meanunit data'!J2","v":15.157999999999999},{"$f":"'meanunit data'!K2","v":16.37},{"$f":"'meanunit data'!L2","v":17.5},{"$f":"'meanunit data'!M2","v":17.503},{"$f":"'meanunit data'!N2","v":16.489000000000001},{"$f":"'meanunit data'!O2","v":13.48},{"$f":"'meanunit data'!P2","v":17.207999999999998},{"$f":"'meanunit data'!Q2","v":16.41}]
["Lower CI",{"$f":"'meanunit data'!C3","v":16.899999999999999},{"$f":"'meanunit data'!D3","v":11.772},{"$f":"'meanunit data'!E3","v":12.765000000000001},{"$f":"'meanunit data'!F3","v":13.89},{"$f":"'meanunit data'!G3","v":16.728999999999999},{"$f":"'meanunit data'!H3","v":13.85},{"$f":"'meanunit data'!I3","v":14.69},{"$f":"'meanunit data'!J3","v":13.042},{"$f":"'meanunit data'!K3","v":14.27},{"$f":"'meanunit data'!L3","v":15.82},{"$f":"'meanunit data'!M3","v":14.672000000000001},{"$f":"'meanunit data'!N3","v":13.272},{"$f":"'meanunit data'!O3","v":11.96},{"$f":"'meanunit data'!P3","v":14.608000000000001},{"$f":"'meanunit data'!Q3","v":15.8}]
["Upper CI",{"$f":"'meanunit data'!C4","v":20.82},{"$f":"'meanunit data'!D4","v":16.971},{"$f":"'meanunit data'!E4","v":19.715},{"$f":"'meanunit data'!F4","v":17.46},{"$f":"'meanunit data'!G4","v":24.562999999999999},{"$f":"'meanunit data'!H4","v":17.260000000000002},{"$f":"'meanunit data'!I4","v":17.09},{"$f":"'meanunit data'!J4","v":17.274999999999999},{"$f":"'meanunit data'!K4","v":18.47},{"$f":"'meanunit data'!L4","v":19.190000000000001},{"$f":"'meanunit data'!M4","v":20.334},{"$f":"'meanunit data'!N4","v":19.704999999999998},{"$f":"'meanunit data'!O4","v":15.01},{"$f":"'meanunit data'!P4","v":19.808},{"$f":"'meanunit data'!Q4","v":17.03}]
[]
["Women"]
["Weekly mean unitsa",{"$f":"'meanunit data'!C5","v":8.75},{"$f":"'meanunit data'!D5","v":7.9429999999999996},{"$f":"'meanunit data'!E5","v":7.4480000000000004},{"$f":"'meanunit data'!F5","v":8.24},{"$f":"'meanunit data'!G5","v":9.0069999999999997},{"$f":"'meanunit data'!H5","v":9.08},{"$f":"'meanunit data'!I5","v":8.58},{"$f":"'meanunit data'!J5","v":9.1240000000000006},{"$f":"'meanunit data'!K5","v":8.7799999999999994},{"$f":"'meanunit data'!L5","v":9.66},{"$f":"'meanunit data'!M5","v":8.6199999999999992},{"$f":"'meanunit data'!N5","v":8.3170000000000002},{"$f":"'meanunit data'!O5","v":8.1199999999999992},{"$f":"'meanunit data'!P5","v":6.0890000000000004},{"$f":"'meanunit data'!Q5","v":8.7799999999999994}]
["Lower CI",{"$f":"'meanunit data'!C6","v":7.88},{"$f":"'meanunit data'!D6","v":6.4189999999999996},{"$f":"'meanunit data'!E6","v":6.0369999999999999},{"$f":"'meanunit data'!F6","v":7.18},{"$f":"'meanunit data'!G6","v":7.7679999999999998},{"$f":"'meanunit data'!H6","v":8.14},{"$f":"'meanunit data'!I6","v":7.9},{"$f":"'meanunit data'!J6","v":7.8220000000000001},{"$f":"'meanunit data'!K6","v":7.5},{"$f":"'meanunit data'!L6","v":8.76},{"$f":"'meanunit data'!M6","v":7.1559999999999997},{"$f":"'meanunit data'!N6","v":6.5629999999999997},{"$f":"'meanunit data'!O6","v":7.06},{"$f":"'meanunit data'!P6","v":4.9269999999999996},{"$f":"'meanunit data'!Q6","v":8.4600000000000009}]
["Upper CI",{"$f":"'meanunit data'!C7","v":9.6199999999999992},{"$f":"'meanunit data'!D7","v":9.4670000000000005},{"$f":"'meanunit data'!E7","v":8.859},{"$f":"'meanunit data'!F7","v":9.2899999999999991},{"$f":"'meanunit data'!G7","v":10.246},{"$f":"'meanunit data'!H7","v":10.02},{"$f":"'meanunit data'!I7","v":9.25},{"$f":"'meanunit data'!J7","v":10.425000000000001},{"$f":"'meanunit data'!K7","v":10.050000000000001},{"$f":"'meanunit data'!L7","v":10.55},{"$f":"'meanunit data'!M7","v":10.084},{"$f":"'meanunit data'!N7","v":10.071},{"$f":"'meanunit data'!O7","v":9.18},{"$f":"'meanunit data'!P7","v":7.2510000000000003},{"$f":"'meanunit data'!Q7","v":9.1}]
[]
["All adults"]
["Weekly mean unitsa",{"$f":"'meanunit data'!C8","v":13.58},{"$f":"'meanunit data'!D8","v":10.930999999999999},{"$f":"'meanunit data'!E8","v":11.792999999999999},{"$f":"'meanunit data'!F8","v":11.98},{"$f":"'meanunit data'!G8","v":14.865},{"$f":"'meanunit data'!H8","v":12.28},{"$f":"'meanunit data'!I8","v":12.17},{"$f":"'meanunit data'!J8","v":12.125999999999999},{"$f":"'meanunit data'!K8","v":12.5},{"$f":"'meanunit data'!L8","v":13.7},{"$f":"'meanunit data'!M8","v":13.157999999999999},{"$f":"'meanunit data'!N8","v":12.609},{"$f":"'meanunit data'!O8","v":10.76},{"$f":"'meanunit data'!P8","v":11.976000000000001},{"$f":"'meanunit data'!Q8","v":12.57}]
["Lower CI",{"$f":"'meanunit data'!C9","v":12.45},{"$f":"'meanunit data'!D9","v":9.1820000000000004},{"$f":"'meanunit data'!E9","v":9.5969999999999995},{"$f":"'meanunit data'!F9","v":10.93},{"$f":"'meanunit data'!G9","v":12.726000000000001},{"$f":"'meanunit data'!H9","v":11.21},{"$f":"'meanunit data'!I9","v":11.4},{"$f":"'meanunit data'!J9","v":10.8},{"$f":"'meanunit data'!K9","v":11.19},{"$f":"'meanunit data'!L9","v":12.66},{"$f":"'meanunit data'!M9","v":11.319000000000001},{"$f":"'meanunit data'!N9","v":10.489000000000001},{"$f":"'meanunit data'!O9","v":9.84},{"$f":"'meanunit data'!P9","v":10.24},{"$f":"'meanunit data'!Q9","v":12.2}]
["Upper CI",{"$f":"'meanunit data'!C10","v":14.71},{"$f":"'meanunit data'!D10","v":12.68},{"$f":"'meanunit data'!E10","v":13.989000000000001},{"$f":"'meanunit data'!F10","v":13.03},{"$f":"'meanunit data'!G10","v":17.004999999999999},{"$f":"'meanunit data'!H10","v":13.34},{"$f":"'meanunit data'!I10","v":12.93},{"$f":"'meanunit data'!J10","v":13.452},{"$f":"'meanunit data'!K10","v":13.81},{"$f":"'meanunit data'!L10","v":14.73},{"$f":"'meanunit data'!M10","v":14.997999999999999},{"$f":"'meanunit data'!N10","v":14.728},{"$f":"'meanunit data'!O10","v":11.69},{"$f":"'meanunit data'!P10","v":13.712999999999999},{"$f":"'meanunit data'!Q10","v":12.94}]
[]
["Bases (weighted):"]
["Men",{"$f":"'meanunit data'!C11","v":513.35},{"$f":"'meanunit data'!D11","v":165.62799999999999},{"$f":"'meanunit data'!E11","v":213.33},{"$f":"'meanunit data'!F11","v":529.32000000000005},{"$f":"'meanunit data'!G11","v":437.50099999999998},{"$f":"'meanunit data'!H11","v":823.55},{"$f":"'meanunit data'!I11","v":1508.27},{"$f":"'meanunit data'!J11","v":460.98099999999999},{"$f":"'meanunit data'!K11","v":942.72},{"$f":"'meanunit data'!L11","v":1305.98},{"$f":"'meanunit data'!M11","v":34.295000000000002},{"$f":"'meanunit data'!N11","v":35.633000000000003},{"$f":"'meanunit data'!O11","v":590.1},{"$f":"'meanunit data'!P11","v":38.271000000000001},{"$f":"'meanunit data'!Q11","v":7598.92}]
["Women",{"$f":"'meanunit data'!C12","v":560.79},{"$f":"'meanunit data'!D12","v":190.708},{"$f":"'meanunit data'!E12","v":218.34399999999999},{"$f":"'meanunit data'!F12","v":522.01},{"$f":"'meanunit data'!G12","v":431.67599999999999},{"$f":"'meanunit data'!H12","v":844.8},{"$f":"'meanunit data'!I12","v":1563.99},{"$f":"'meanunit data'!J12","v":465.56099999999998},{"$f":"'meanunit data'!K12","v":980.78},{"$f":"'meanunit data'!L12","v":1229.3499999999999},{"$f":"'meanunit data'!M12","v":32.829000000000001},{"$f":"'meanunit data'!N12","v":32.215000000000003},{"$f":"'meanunit data'!O12","v":607.05999999999995},{"$f":"'meanunit data'!P12","v":34.01},{"$f":"'meanunit data'!Q12","v":7714.12}]
["All Adults",{"$f":"'meanunit data'!C13","v":1074.1500000000001},{"$f":"'meanunit data'!D13","v":356.33600000000001},{"$f":"'meanunit data'!E13","v":431.67399999999998},{"$f":"'meanunit data'!F13","v":1051.33},{"$f":"'meanunit data'!G13","v":869.17700000000002},{"$f":"'meanunit data'!H13","v":1668.35},{"$f":"'meanunit data'!I13","v":3072.26},{"$f":"'meanunit data'!J13","v":926.54100000000005},{"$f":"'meanunit data'!K13","v":1923.5},{"$f":"'meanunit data'!L13","v":2535.33},{"$f":"'meanunit data'!M13","v":67.123999999999995},{"$f":"'meanunit data'!N13","v":67.847999999999999},{"$f":"'meanunit data'!O13","v":1197.1500000000001},{"$f":"'meanunit data'!P13","v":72.28},{"$f":"'meanunit data'!Q13","v":15313.04}]
["Bases (unweighted)"]
["Men",{"$f":"'meanunit data'!C14","v":805},{"$f":"'meanunit data'!D14","v":177},{"$f":"'meanunit data'!E14","v":180},{"$f":"'meanunit data'!F14","v":768},{"$f":"'meanunit data'!G14","v":269},{"$f":"'meanunit data'!H14","v":954},{"$f":"'meanunit data'!I14","v":1075},{"$f":"'meanunit data'!J14","v":301},{"$f":"'meanunit data'!K14","v":545},{"$f":"'meanunit data'!L14","v":799},{"$f":"'meanunit data'!M14","v":207},{"$f":"'meanunit data'!N14","v":206},{"$f":"'meanunit data'!O14","v":409},{"$f":"'meanunit data'!P14","v":300},{"$f":"'meanunit data'!Q14","v":6995}]
["Women",{"$f":"'meanunit data'!C15","v":957},{"$f":"'meanunit data'!D15","v":236},{"$f":"'meanunit data'!E15","v":205},{"$f":"'meanunit data'!F15","v":904},{"$f":"'meanunit data'!G15","v":318},{"$f":"'meanunit data'!H15","v":1108},{"$f":"'meanunit data'!I15","v":1331},{"$f":"'meanunit data'!J15","v":365},{"$f":"'meanunit data'!K15","v":678},{"$f":"'meanunit data'!L15","v":902},{"$f":"'meanunit data'!M15","v":225},{"$f":"'meanunit data'!N15","v":225},{"$f":"'meanunit data'!O15","v":465},{"$f":"'meanunit data'!P15","v":333},{"$f":"'meanunit data'!Q15","v":8252}]
["All Adults",{"$f":"'meanunit data'!C16","v":1762},{"$f":"'meanunit data'!D16","v":413},{"$f":"'meanunit data'!E16","v":385},{"$f":"'meanunit data'!F16","v":1672},{"$f":"'meanunit data'!G16","v":587},{"$f":"'meanunit data'!H16","v":2062},{"$f":"'meanunit data'!I16","v":2406},{"$f":"'meanunit data'!J16","v":666},{"$f":"'meanunit data'!K16","v":1223},{"$f":"'meanunit data'!L16","v":1701},{"$f":"'meanunit data'!M16","v":432},{"$f":"'meanunit data'!N16","v":431},{"$f":"'meanunit data'!O16","v":874},{"$f":"'meanunit data'!P16","v":633},{"$f":"'meanunit data'!Q16","v":15247}]
[]
["a Among those who drank in the last year"]

{"sheet":"meanunit data","index":18,"n_rows":16,"n_cols":17,"rows_kept":16,"cut":false,"hidden":true,"merged":[]}
["F_sex","_NAME_","Ayrshire & Arran","Borders","Dumfries & Galloway","Fife","Forth Valley","Grampian","Greater Glasgow","Highland","Lanarkshire","Lothian","Orkney","Shetland","Tayside","Western Isles","Scotland"]
["Male","Mean",18.86,14.372,16.239999999999998,15.68,20.646000000000001,15.55,15.89,15.157999999999999,16.37,17.5,17.503,16.489000000000001,13.48,17.207999999999998,16.41]
["Male","LowerCLMean",16.899999999999999,11.772,12.765000000000001,13.89,16.728999999999999,13.85,14.69,13.042,14.27,15.82,14.672000000000001,13.272,11.96,14.608000000000001,15.8]
["Male","UpperCLMean",20.82,16.971,19.715,17.46,24.562999999999999,17.260000000000002,17.09,17.274999999999999,18.47,19.190000000000001,20.334,19.704999999999998,15.01,19.808,17.03]
["Female","Mean",8.75,7.9429999999999996,7.4480000000000004,8.24,9.0069999999999997,9.08,8.58,9.1240000000000006,8.7799999999999994,9.66,8.6199999999999992,8.3170000000000002,8.1199999999999992,6.0890000000000004,8.7799999999999994]
["Female","LowerCLMean",7.88,6.4189999999999996,6.0369999999999999,7.18,7.7679999999999998,8.14,7.9,7.8220000000000001,7.5,8.76,7.1559999999999997,6.5629999999999997,7.06,4.9269999999999996,8.4600000000000009]
["Female","UpperCLMean",9.6199999999999992,9.4670000000000005,8.859,9.2899999999999991,10.246,10.02,9.25,10.425000000000001,10.050000000000001,10.55,10.084,10.071,9.18,7.2510000000000003,9.1]
["Total","Mean",13.58,10.930999999999999,11.792999999999999,11.98,14.865,12.28,12.17,12.125999999999999,12.5,13.7,13.157999999999999,12.609,10.76,11.976000000000001,12.57]
["Total","LowerCLMean",12.45,9.1820000000000004,9.5969999999999995,10.93,12.726000000000001,11.21,11.4,10.8,11.19,12.66,11.319000000000001,10.489000000000001,9.84,10.24,12.2]
["Total","UpperCLMean",14.71,12.68,13.989000000000001,13.03,17.004999999999999,13.34,12.93,13.452,13.81,14.73,14.997999999999999,14.728,11.69,13.712999999999999,12.94]
["Male","SumWgt",513.35,165.62799999999999,213.33,529.32000000000005,437.50099999999998,823.55,1508.27,460.98099999999999,942.72,1305.98,34.295000000000002,35.633000000000003,590.1,38.271000000000001,7598.92]
["Female","SumWgt",560.79,190.708,218.34399999999999,522.01,431.67599999999999,844.8,1563.99,465.56099999999998,980.78,1229.3499999999999,32.829000000000001,32.215000000000003,607.05999999999995,34.01,7714.12]
["Total","SumWgt",1074.1500000000001,356.33600000000001,431.67399999999998,1051.33,869.17700000000002,1668.35,3072.26,926.54100000000005,1923.5,2535.33,67.123999999999995,67.847999999999999,1197.1500000000001,72.28,15313.04]
["Male","N",805,177,180,768,269,954,1075,301,545,799,207,206,409,300,6995]
["Female","N",957,236,205,904,318,1108,1331,365,678,902,225,225,465,333,8252]
["Total","N",1762,413,385,1672,587,2062,2406,666,1223,1701,432,431,874,633,15247]

{"sheet":"Mean units chart","index":19,"n_rows":40,"n_cols":18,"rows_kept":40,"cut":false,"hidden":false,"merged":[]}
[null,null,null,null,null,null,null,null,null,null,null,null,null,null,null,null,null,"INDEX"]
[]
[]
[]
[]
[]
[]
[]
[]
[]
[]
[]
[]
[]
[]
[]
[]
[]
[]
[]
[]
[]
[]
[]
[]
[]
[]
[]
[]
[]
[null,null,"Source: Scottish Health Survey"]
[]
[null,null,"Weekly mean units among those who drank in the last year"]
[null,null,"Ayrshire & Arran ","Borders","Dumfries & Galloway","Fife","Forth Valley","Grampian","Greater Glasgow & Clyde","Highland","Lanarkshire","Lothian","Orkney","Shetland","Tayside","Western Isles",null,"Scotland"]
[null,"All Adults"]
[null,"Weekly mean units",{"$f":"'Mean alcohol units'!B18","v":13.58},{"$f":"'Mean alcohol units'!C18","v":10.930999999999999},{"$f":"'Mean alcohol units'!D18","v":11.792999999999999},{"$f":"'Mean alcohol units'!E18","v":11.98},{"$f":"'Mean alcohol units'!F18","v":14.865},{"$f":"'Mean alcohol units'!G18","v":12.28},{"$f":"'Mean alcohol units'!H18","v":12.17},{"$f":"'Mean alcohol units'!I18","v":12.125999999999999},{"$f":"'Mean alcohol units'!J18","v":12.5},{"$f":"'Mean alcohol units'!K18","v":13.7},{"$f":"'Mean alcohol units'!L18","v":13.157999999999999},{"$f":"'Mean alcohol units'!M18","v":12.609},{"$f":"'Mean alcohol units'!N18","v":10.76},{"$f":"'Mean alcohol units'!O18","v":11.976000000000001},null,{"$f":"'Mean alcohol units'!P18","v":12.57}]
[null,"Lower CI",{"$f":"'Mean alcohol units'!B19","v":12.45},{"$f":"'Mean alcohol units'!C19","v":9.1820000000000004},{"$f":"'Mean alcohol units'!D19","v":9.5969999999999995},{"$f":"'Mean alcohol units'!E19","v":10.93},{"$f":"'Mean alcohol units'!F19","v":12.726000000000001},{"$f":"'Mean alcohol units'!G19","v":11.21},{"$f":"'Mean alcohol units'!H19","v":11.4},{"$f":"'Mean alcohol units'!I19","v":10.8},{"$f":"'Mean alcohol units'!J19","v":11.19},{"$f":"'Mean alcohol units'!K19","v":12.66},{"$f":"'Mean alcohol units'!L19","v":11.319000000000001},{"$f":"'Mean alcohol units'!M19","v":10.489000000000001},{"$f":"'Mean alcohol units'!N19","v":9.84},{"$f":"'Mean alcohol units'!O19","v":10.24},null,{"$f":"'Mean alcohol units'!P19","v":12.2}]
[null,"Upper CI",{"$f":"'Mean alcohol units'!B20","v":14.71},{"$f":"'Mean alcohol units'!C20","v":12.68},{"$f":"'Mean alcohol units'!D20","v":13.989000000000001},{"$f":"'Mean alcohol units'!E20","v":13.03},{"$f":"'Mean alcohol units'!F20","v":17.004999999999999},{"$f":"'Mean alcohol units'!G20","v":13.34},{"$f":"'Mean alcohol units'!H20","v":12.93},{"$f":"'Mean alcohol units'!I20","v":13.452},{"$f":"'Mean alcohol units'!J20","v":13.81},{"$f":"'Mean alcohol units'!K20","v":14.73},{"$f":"'Mean alcohol units'!L20","v":14.997999999999999},{"$f":"'Mean alcohol units'!M20","v":14.728},{"$f":"'Mean alcohol units'!N20","v":11.69},{"$f":"'Mean alcohol units'!O20","v":13.712999999999999},null,{"$f":"'Mean alcohol units'!P20","v":12.94}]
[]
["CLs",null,{"$f":"C36-C37","v":1.1300000000000008},{"$f":"D36-D37","v":1.7489999999999988},2.1959999999999997,1.0500000000000007,2.1389999999999993,1.0699999999999985,0.76999999999999957,1.3259999999999987,1.3100000000000005,1.0399999999999991,1.8389999999999986,2.1199999999999992,0.91999999999999993,1.7360000000000007,null,0.37000000000000099]

{"sheet":"Smoking behaviour","index":20,"n_rows":49,"n_cols":16,"rows_kept":49,"cut":false,"hidden":false,"merged":[[4,0,5,0],[0,0,1,0]]}
["Smoking behaviour, three categories, by NHS Board and sex",null,null,null,null,null,null,null,null,null,null,null,"INDEX"]
[]
[]
["Aged 16 and over",null,null,null,null,null,null,null,null,null,null,null,null,null,null,"2013/2014/2015/2016 combined"]
["Smoking behaviour, three categories","NHS Board"]
[null,"Ayrshire & Arran ","Borders","Dumfries & Galloway","Fife","Forth Valley","Grampian","Greater Glasgow & Clyde","Highland","Lanarkshire","Lothian","Orkney","Shetland","Tayside","Western Isles","Scotland"]
[null,"%","%","%","%","%","%","%","%","%","%","%","%","%","%","%"]
["Men"]
["Never smoked, or ex-occasional",{"$f":"'smk data'!D2","v":50.07},{"$f":"'smk data'!E2","v":53.305999999999997},{"$f":"'smk data'!F2","v":51.747},{"$f":"'smk data'!G2","v":48.86},{"$f":"'smk data'!H2","v":50.93},{"$f":"'smk data'!I2","v":50.95},{"$f":"'smk data'!J2","v":52.02},{"$f":"'smk data'!K2","v":49.83},{"$f":"'smk data'!L2","v":51.03},{"$f":"'smk data'!M2","v":56.61},{"$f":"'smk data'!N2","v":50.902999999999999},{"$f":"'smk data'!O2","v":53.363},{"$f":"'smk data'!P2","v":52.51},{"$f":"'smk data'!Q2","v":50.551000000000002},{"$f":"'smk data'!R2","v":52.06}]
["Lower CI",{"$f":"'smk data'!D3","v":46.68},{"$f":"'smk data'!E3","v":45.975999999999999},{"$f":"'smk data'!F3","v":43.813000000000002},{"$f":"'smk data'!G3","v":45.15},{"$f":"'smk data'!H3","v":44.4},{"$f":"'smk data'!I3","v":47.54},{"$f":"'smk data'!J3","v":48.97},{"$f":"'smk data'!K3","v":43.41},{"$f":"'smk data'!L3","v":46.76},{"$f":"'smk data'!M3","v":52.82},{"$f":"'smk data'!N3","v":43.018000000000001},{"$f":"'smk data'!O3","v":48.777000000000001},{"$f":"'smk data'!P3","v":47.18},{"$f":"'smk data'!Q3","v":45.542999999999999},{"$f":"'smk data'!R3","v":50.71}]
["Upper CI",{"$f":"'smk data'!D4","v":53.47},{"$f":"'smk data'!E4","v":60.636000000000003},{"$f":"'smk data'!F4","v":59.680999999999997},{"$f":"'smk data'!G4","v":52.57},{"$f":"'smk data'!H4","v":57.47},{"$f":"'smk data'!I4","v":54.37},{"$f":"'smk data'!J4","v":55.08},{"$f":"'smk data'!K4","v":56.25},{"$f":"'smk data'!L4","v":55.3},{"$f":"'smk data'!M4","v":60.41},{"$f":"'smk data'!N4","v":58.787999999999997},{"$f":"'smk data'!O4","v":57.948},{"$f":"'smk data'!P4","v":57.85},{"$f":"'smk data'!Q4","v":55.558999999999997},{"$f":"'smk data'!R4","v":53.41}]
["Ex-regular smoker, or occasional",{"$f":"'smk data'!D5","v":26.02},{"$f":"'smk data'!E5","v":26.754000000000001},{"$f":"'smk data'!F5","v":25.082999999999998},{"$f":"'smk data'!G5","v":27.43},{"$f":"'smk data'!H5","v":25.66},{"$f":"'smk data'!I5","v":26.86},{"$f":"'smk data'!J5","v":22.85},{"$f":"'smk data'!K5","v":27.86},{"$f":"'smk data'!L5","v":26.52},{"$f":"'smk data'!M5","v":24.83},{"$f":"'smk data'!N5","v":28.463999999999999},{"$f":"'smk data'!O5","v":23.378},{"$f":"'smk data'!P5","v":24.68},{"$f":"'smk data'!Q5","v":29.126000000000001},{"$f":"'smk data'!R5","v":25.41}]
["Lower CI",{"$f":"'smk data'!D6","v":23.33},{"$f":"'smk data'!E6","v":19.553000000000001},{"$f":"'smk data'!F6","v":19.16},{"$f":"'smk data'!G6","v":24.24},{"$f":"'smk data'!H6","v":20.420000000000002},{"$f":"'smk data'!I6","v":24.32},{"$f":"'smk data'!J6","v":20.54},{"$f":"'smk data'!K6","v":22.65},{"$f":"'smk data'!L6","v":22.81},{"$f":"'smk data'!M6","v":21.79},{"$f":"'smk data'!N6","v":22.045999999999999},{"$f":"'smk data'!O6","v":17.664000000000001},{"$f":"'smk data'!P6","v":20.68},{"$f":"'smk data'!Q6","v":24.402999999999999},{"$f":"'smk data'!R6","v":24.32}]
["Upper CI",{"$f":"'smk data'!D7","v":28.71},{"$f":"'smk data'!E7","v":33.954000000000001},{"$f":"'smk data'!F7","v":31.006},{"$f":"'smk data'!G7","v":30.62},{"$f":"'smk data'!H7","v":30.9},{"$f":"'smk data'!I7","v":29.41},{"$f":"'smk data'!J7","v":25.17},{"$f":"'smk data'!K7","v":33.07},{"$f":"'smk data'!L7","v":30.23},{"$f":"'smk data'!M7","v":27.86},{"$f":"'smk data'!N7","v":34.883000000000003},{"$f":"'smk data'!O7","v":29.093},{"$f":"'smk data'!P7","v":28.69},{"$f":"'smk data'!Q7","v":33.847999999999999},{"$f":"'smk data'!R7","v":26.49}]
["Regular smoker",{"$f":"'smk data'!D8","v":23.91},{"$f":"'smk data'!E8","v":19.940000000000001},{"$f":"'smk data'!F8","v":23.17},{"$f":"'smk data'!G8","v":23.71},{"$f":"'smk data'!H8","v":23.4},{"$f":"'smk data'!I8","v":22.18},{"$f":"'smk data'!J8","v":25.13},{"$f":"'smk data'!K8","v":22.31},{"$f":"'smk data'!L8","v":22.45},{"$f":"'smk data'!M8","v":18.559999999999999},{"$f":"'smk data'!N8","v":20.632999999999999},{"$f":"'smk data'!O8","v":23.259},{"$f":"'smk data'!P8","v":22.8},{"$f":"'smk data'!Q8","v":20.324000000000002},{"$f":"'smk data'!R8","v":22.53}]
["Lower CI",{"$f":"'smk data'!D9","v":21.09},{"$f":"'smk data'!E9","v":14.64},{"$f":"'smk data'!F9","v":17.550999999999998},{"$f":"'smk data'!G9","v":20.43},{"$f":"'smk data'!H9","v":17.63},{"$f":"'smk data'!I9","v":19.03},{"$f":"'smk data'!J9","v":22.44},{"$f":"'smk data'!K9","v":16.86},{"$f":"'smk data'!L9","v":18.87},{"$f":"'smk data'!M9","v":15.86},{"$f":"'smk data'!N9","v":14.279},{"$f":"'smk data'!O9","v":17.72},{"$f":"'smk data'!P9","v":18.55},{"$f":"'smk data'!Q9","v":15.882},{"$f":"'smk data'!R9","v":21.39}]
["Upper CI",{"$f":"'smk data'!D10","v":26.72},{"$f":"'smk data'!E10","v":25.241},{"$f":"'smk data'!F10","v":28.789000000000001},{"$f":"'smk data'!G10","v":27},{"$f":"'smk data'!H10","v":29.18},{"$f":"'smk data'!I10","v":25.33},{"$f":"'smk data'!J10","v":27.81},{"$f":"'smk data'!K10","v":27.76},{"$f":"'smk data'!L10","v":26.03},{"$f":"'smk data'!M10","v":21.26},{"$f":"'smk data'!N10","v":26.986999999999998},{"$f":"'smk data'!O10","v":28.797999999999998},{"$f":"'smk data'!P10","v":27.05},{"$f":"'smk data'!Q10","v":24.765000000000001},{"$f":"'smk data'!R10","v":23.67}]
[]
["Women"]
["Never smoked, or ex-occasional",{"$f":"'smk data'!D11","v":55.44},{"$f":"'smk data'!E11","v":57.154000000000003},{"$f":"'smk data'!F11","v":53.929000000000002},{"$f":"'smk data'!G11","v":56.95},{"$f":"'smk data'!H11","v":57.52},{"$f":"'smk data'!I11","v":60.88},{"$f":"'smk data'!J11","v":56.89},{"$f":"'smk data'!K11","v":53.03},{"$f":"'smk data'!L11","v":54.93},{"$f":"'smk data'!M11","v":57.49},{"$f":"'smk data'!N11","v":64.192999999999998},{"$f":"'smk data'!O11","v":53.701000000000001},{"$f":"'smk data'!P11","v":56.86},{"$f":"'smk data'!Q11","v":61.27},{"$f":"'smk data'!R11","v":56.83}]
["Lower CI",{"$f":"'smk data'!D12","v":52.17},{"$f":"'smk data'!E12","v":51.317999999999998},{"$f":"'smk data'!F12","v":48.542999999999999},{"$f":"'smk data'!G12","v":53.74},{"$f":"'smk data'!H12","v":52.78},{"$f":"'smk data'!I12","v":58.08},{"$f":"'smk data'!J12","v":54.1},{"$f":"'smk data'!K12","v":47.73},{"$f":"'smk data'!L12","v":51.12},{"$f":"'smk data'!M12","v":53.76},{"$f":"'smk data'!N12","v":58.424999999999997},{"$f":"'smk data'!O12","v":48.381},{"$f":"'smk data'!P12","v":52.13},{"$f":"'smk data'!Q12","v":56.113999999999997},{"$f":"'smk data'!R12","v":55.58}]
["Upper CI",{"$f":"'smk data'!D13","v":58.7},{"$f":"'smk data'!E13","v":62.99},{"$f":"'smk data'!F13","v":59.314999999999998},{"$f":"'smk data'!G13","v":60.16},{"$f":"'smk data'!H13","v":62.27},{"$f":"'smk data'!I13","v":63.68},{"$f":"'smk data'!J13","v":59.69},{"$f":"'smk data'!K13","v":58.33},{"$f":"'smk data'!L13","v":58.73},{"$f":"'smk data'!M13","v":61.22},{"$f":"'smk data'!N13","v":69.960999999999999},{"$f":"'smk data'!O13","v":59.021000000000001},{"$f":"'smk data'!P13","v":61.59},{"$f":"'smk data'!Q13","v":66.426000000000002},{"$f":"'smk data'!R13","v":58.09}]
["Ex-regular smoker, or occasional",{"$f":"'smk data'!D14","v":25.19},{"$f":"'smk data'!E14","v":25.841000000000001},{"$f":"'smk data'!F14","v":25.989000000000001},{"$f":"'smk data'!G14","v":21.63},{"$f":"'smk data'!H14","v":24.35},{"$f":"'smk data'!I14","v":20.43},{"$f":"'smk data'!J14","v":20.56},{"$f":"'smk data'!K14","v":27.8},{"$f":"'smk data'!L14","v":24.46},{"$f":"'smk data'!M14","v":23.45},{"$f":"'smk data'!N14","v":22.484000000000002},{"$f":"'smk data'!O14","v":27.384},{"$f":"'smk data'!P14","v":23.59},{"$f":"'smk data'!Q14","v":22.844000000000001},{"$f":"'smk data'!R14","v":23.1}]
["Lower CI",{"$f":"'smk data'!D15","v":22.53},{"$f":"'smk data'!E15","v":20.484999999999999},{"$f":"'smk data'!F15","v":20.297000000000001},{"$f":"'smk data'!G15","v":18.989999999999998},{"$f":"'smk data'!H15","v":20.149999999999999},{"$f":"'smk data'!I15","v":18.36},{"$f":"'smk data'!J15","v":18.73},{"$f":"'smk data'!K15","v":23.29},{"$f":"'smk data'!L15","v":21.57},{"$f":"'smk data'!M15","v":20.350000000000001},{"$f":"'smk data'!N15","v":17.651},{"$f":"'smk data'!O15","v":21.731999999999999},{"$f":"'smk data'!P15","v":19.97},{"$f":"'smk data'!Q15","v":18.942},{"$f":"'smk data'!R15","v":22.1}]
["Upper CI",{"$f":"'smk data'!D16","v":27.86},{"$f":"'smk data'!E16","v":31.196999999999999},{"$f":"'smk data'!F16","v":31.681000000000001},{"$f":"'smk data'!G16","v":24.28},{"$f":"'smk data'!H16","v":28.54},{"$f":"'smk data'!I16","v":22.51},{"$f":"'smk data'!J16","v":22.39},{"$f":"'smk data'!K16","v":32.32},{"$f":"'smk data'!L16","v":27.34},{"$f":"'smk data'!M16","v":26.55},{"$f":"'smk data'!N16","v":27.315999999999999},{"$f":"'smk data'!O16","v":33.036000000000001},{"$f":"'smk data'!P16","v":27.22},{"$f":"'smk data'!Q16","v":26.747},{"$f":"'smk data'!R16","v":24.1}]
["Regular smoker",{"$f":"'smk data'!D17","v":19.37},{"$f":"'smk data'!E17","v":17.004999999999999},{"$f":"'smk data'!F17","v":20.082000000000001},{"$f":"'smk data'!G17","v":21.41},{"$f":"'smk data'!H17","v":18.13},{"$f":"'smk data'!I17","v":18.68},{"$f":"'smk data'!J17","v":22.54},{"$f":"'smk data'!K17","v":19.16},{"$f":"'smk data'!L17","v":20.62},{"$f":"'smk data'!M17","v":19.07},{"$f":"'smk data'!N17","v":13.324},{"$f":"'smk data'!O17","v":18.914999999999999},{"$f":"'smk data'!P17","v":19.55},{"$f":"'smk data'!Q17","v":15.885999999999999},{"$f":"'smk data'!R17","v":20.07}]
["Lower CI",{"$f":"'smk data'!D18","v":17.010000000000002},{"$f":"'smk data'!E18","v":11.775},{"$f":"'smk data'!F18","v":14.718999999999999},{"$f":"'smk data'!G18","v":18.53},{"$f":"'smk data'!H18","v":14.57},{"$f":"'smk data'!I18","v":16.36},{"$f":"'smk data'!J18","v":20.170000000000002},{"$f":"'smk data'!K18","v":14.79},{"$f":"'smk data'!L18","v":17.78},{"$f":"'smk data'!M18","v":15.99},{"$f":"'smk data'!N18","v":9.3710000000000004},{"$f":"'smk data'!O18","v":13.858000000000001},{"$f":"'smk data'!P18","v":16.21},{"$f":"'smk data'!Q18","v":12.144},{"$f":"'smk data'!R18","v":19.079999999999998}]
["Upper CI",{"$f":"'smk data'!D19","v":21.74},{"$f":"'smk data'!E19","v":22.234000000000002},{"$f":"'smk data'!F19","v":25.443999999999999},{"$f":"'smk data'!G19","v":24.3},{"$f":"'smk data'!H19","v":21.69},{"$f":"'smk data'!I19","v":21},{"$f":"'smk data'!J19","v":24.92},{"$f":"'smk data'!K19","v":23.54},{"$f":"'smk data'!L19","v":23.46},{"$f":"'smk data'!M19","v":22.15},{"$f":"'smk data'!N19","v":17.277000000000001},{"$f":"'smk data'!O19","v":23.972000000000001},{"$f":"'smk data'!P19","v":22.89},{"$f":"'smk data'!Q19","v":19.628},{"$f":"'smk data'!R19","v":21.05}]
[]
["All Adults"]
["Never smoked, or ex-occasional",{"$f":"'smk data'!D20","v":52.98},{"$f":"'smk data'!E20","v":55.408999999999999},{"$f":"'smk data'!F20","v":52.856000000000002},{"$f":"'smk data'!G20","v":53.05},{"$f":"'smk data'!H20","v":54.41},{"$f":"'smk data'!I20","v":56.17},{"$f":"'smk data'!J20","v":54.57},{"$f":"'smk data'!K20","v":51.49},{"$f":"'smk data'!L20","v":53.08},{"$f":"'smk data'!M20","v":57.05},{"$f":"'smk data'!N20","v":57.554000000000002},{"$f":"'smk data'!O20","v":53.526000000000003},{"$f":"'smk data'!P20","v":54.81},{"$f":"'smk data'!Q20","v":55.93},{"$f":"'smk data'!R20","v":54.55}]
["Lower CI",{"$f":"'smk data'!D21","v":50.42},{"$f":"'smk data'!E21","v":50.987000000000002},{"$f":"'smk data'!F21","v":47.104999999999997},{"$f":"'smk data'!G21","v":50.52},{"$f":"'smk data'!H21","v":49.89},{"$f":"'smk data'!I21","v":53.63},{"$f":"'smk data'!J21","v":52.3},{"$f":"'smk data'!K21","v":46.59},{"$f":"'smk data'!L21","v":49.82},{"$f":"'smk data'!M21","v":54.09},{"$f":"'smk data'!N21","v":51.843000000000004},{"$f":"'smk data'!O21","v":49.642000000000003},{"$f":"'smk data'!P21","v":51.12},{"$f":"'smk data'!Q21","v":52.387999999999998},{"$f":"'smk data'!R21","v":53.5}]
["Upper CI",{"$f":"'smk data'!D22","v":55.54},{"$f":"'smk data'!E22","v":59.83},{"$f":"'smk data'!F22","v":58.606999999999999},{"$f":"'smk data'!G22","v":55.58},{"$f":"'smk data'!H22","v":58.93},{"$f":"'smk data'!I22","v":58.71},{"$f":"'smk data'!J22","v":56.84},{"$f":"'smk data'!K22","v":56.4},{"$f":"'smk data'!L22","v":56.34},{"$f":"'smk data'!M22","v":60.01},{"$f":"'smk data'!N22","v":63.265000000000001},{"$f":"'smk data'!O22","v":57.411000000000001},{"$f":"'smk data'!P22","v":58.49},{"$f":"'smk data'!Q22","v":59.472000000000001},{"$f":"'smk data'!R22","v":55.59}]
["Ex-regular smoker, or occasional",{"$f":"'smk data'!D23","v":25.57},{"$f":"'smk data'!E23","v":26.254999999999999},{"$f":"'smk data'!F23","v":25.544},{"$f":"'smk data'!G23","v":24.43},{"$f":"'smk data'!H23","v":24.97},{"$f":"'smk data'!I23","v":23.49},{"$f":"'smk data'!J23","v":21.65},{"$f":"'smk data'!K23","v":27.83},{"$f":"'smk data'!L23","v":25.43},{"$f":"'smk data'!M23","v":24.14},{"$f":"'smk data'!N23","v":25.471},{"$f":"'smk data'!O23","v":25.318000000000001},{"$f":"'smk data'!P23","v":24.11},{"$f":"'smk data'!Q23","v":25.972999999999999},{"$f":"'smk data'!R23","v":24.21}]
["Lower CI",{"$f":"'smk data'!D24","v":23.56},{"$f":"'smk data'!E24","v":22.138999999999999},{"$f":"'smk data'!F24","v":20.815000000000001},{"$f":"'smk data'!G24","v":22.36},{"$f":"'smk data'!H24","v":21.53},{"$f":"'smk data'!I24","v":21.75},{"$f":"'smk data'!J24","v":20.149999999999999},{"$f":"'smk data'!K24","v":24.05},{"$f":"'smk data'!L24","v":22.82},{"$f":"'smk data'!M24","v":21.79},{"$f":"'smk data'!N24","v":21.945},{"$f":"'smk data'!O24","v":20.36},{"$f":"'smk data'!P24","v":21.24},{"$f":"'smk data'!Q24","v":22.568000000000001},{"$f":"'smk data'!R24","v":23.43}]
["Upper CI",{"$f":"'smk data'!D25","v":27.58},{"$f":"'smk data'!E25","v":30.370999999999999},{"$f":"'smk data'!F25","v":30.273},{"$f":"'smk data'!G25","v":26.5},{"$f":"'smk data'!H25","v":28.4},{"$f":"'smk data'!I25","v":25.22},{"$f":"'smk data'!J25","v":23.16},{"$f":"'smk data'!K25","v":31.61},{"$f":"'smk data'!L25","v":28.05},{"$f":"'smk data'!M25","v":26.49},{"$f":"'smk data'!N25","v":28.998000000000001},{"$f":"'smk data'!O25","v":30.274999999999999},{"$f":"'smk data'!P25","v":26.98},{"$f":"'smk data'!Q25","v":29.378},{"$f":"'smk data'!R25","v":24.98}]
["Regular smoker",{"$f":"'smk data'!D26","v":21.45},{"$f":"'smk data'!E26","v":18.335999999999999},{"$f":"'smk data'!F26","v":21.6},{"$f":"'smk data'!G26","v":22.52},{"$f":"'smk data'!H26","v":20.62},{"$f":"'smk data'!I26","v":20.350000000000001},{"$f":"'smk data'!J26","v":23.78},{"$f":"'smk data'!K26","v":20.68},{"$f":"'smk data'!L26","v":21.48},{"$f":"'smk data'!M26","v":18.809999999999999},{"$f":"'smk data'!N26","v":16.975000000000001},{"$f":"'smk data'!O26","v":21.155999999999999},{"$f":"'smk data'!P26","v":21.08},{"$f":"'smk data'!Q26","v":18.096},{"$f":"'smk data'!R26","v":21.25}]
["Lower CI",{"$f":"'smk data'!D27","v":19.46},{"$f":"'smk data'!E27","v":14.105},{"$f":"'smk data'!F27","v":17.166},{"$f":"'smk data'!G27","v":20.079999999999998},{"$f":"'smk data'!H27","v":16.809999999999999},{"$f":"'smk data'!I27","v":18.170000000000002},{"$f":"'smk data'!J27","v":21.82},{"$f":"'smk data'!K27","v":16.93},{"$f":"'smk data'!L27","v":18.850000000000001},{"$f":"'smk data'!M27","v":16.47},{"$f":"'smk data'!N27","v":12.516},{"$f":"'smk data'!O27","v":16.963000000000001},{"$f":"'smk data'!P27","v":18.05},{"$f":"'smk data'!Q27","v":14.988},{"$f":"'smk data'!R27","v":20.399999999999999}]
["Upper CI",{"$f":"'smk data'!D28","v":23.44},{"$f":"'smk data'!E28","v":22.568000000000001},{"$f":"'smk data'!F28","v":26.035},{"$f":"'smk data'!G28","v":24.97},{"$f":"'smk data'!H28","v":24.43},{"$f":"'smk data'!I28","v":22.52},{"$f":"'smk data'!J28","v":25.73},{"$f":"'smk data'!K28","v":24.42},{"$f":"'smk data'!L28","v":24.12},{"$f":"'smk data'!M28","v":21.15},{"$f":"'smk data'!N28","v":21.434000000000001},{"$f":"'smk data'!O28","v":25.347999999999999},{"$f":"'smk data'!P28","v":24.11},{"$f":"'smk data'!Q28","v":21.204000000000001},{"$f":"'smk data'!R28","v":22.1}]
[]
[]
["Bases (weighted):"]
["Men",{"$f":"'smk data'!D29","v":601.02},{"$f":"'smk data'!E29","v":183.85599999999999},{"$f":"'smk data'!F29","v":258.50799999999998},{"$f":"'smk data'!G29","v":616.07000000000005},{"$f":"'smk data'!H29","v":493.15},{"$f":"'smk data'!I29","v":972.59},{"$f":"'smk data'!J29","v":1861.36},{"$f":"'smk data'!K29","v":539.16999999999996},{"$f":"'smk data'!L29","v":1129.05},{"$f":"'smk data'!M29","v":1508.77},{"$f":"'smk data'!N29","v":38.805},{"$f":"'smk data'!O29","v":41.798000000000002},{"$f":"'smk data'!P29","v":681.92},{"$f":"'smk data'!Q29","v":48.037999999999997},{"$f":"'smk data'!R29","v":8974.11}]
["Women",{"$f":"'smk data'!D30","v":709.47},{"$f":"'smk data'!E30","v":221.46},{"$f":"'smk data'!F30","v":267.19099999999997},{"$f":"'smk data'!G30","v":660.75},{"$f":"'smk data'!H30","v":550.89},{"$f":"'smk data'!I30","v":1076.03},{"$f":"'smk data'!J30","v":2041.5},{"$f":"'smk data'!K30","v":583.34},{"$f":"'smk data'!L30","v":1257.25},{"$f":"'smk data'!M30","v":1493.47},{"$f":"'smk data'!N30","v":38.875},{"$f":"'smk data'!O30","v":39.228000000000002},{"$f":"'smk data'!P30","v":763.38},{"$f":"'smk data'!Q30","v":48.390999999999998},{"$f":"'smk data'!R30","v":9751.2199999999993}]
["All Adults",{"$f":"'smk data'!D31","v":1310.5},{"$f":"'smk data'!E31","v":405.31599999999997},{"$f":"'smk data'!F31","v":525.69899999999996},{"$f":"'smk data'!G31","v":1276.81},{"$f":"'smk data'!H31","v":1044.04},{"$f":"'smk data'!I31","v":2048.63},{"$f":"'smk data'!J31","v":3902.86},{"$f":"'smk data'!K31","v":1122.51},{"$f":"'smk data'!L31","v":2386.3000000000002},{"$f":"'smk data'!M31","v":3002.24},{"$f":"'smk data'!N31","v":77.679000000000002},{"$f":"'smk data'!O31","v":81.025999999999996},{"$f":"'smk data'!P31","v":1445.3},{"$f":"'smk data'!Q31","v":96.429000000000002},{"$f":"'smk data'!R31","v":18725.330000000002}]
["Bases (unweighted)"]
["Men",{"$f":"'smk data'!D32","v":941},{"$f":"'smk data'!E32","v":199},{"$f":"'smk data'!F32","v":219},{"$f":"'smk data'!G32","v":899},{"$f":"'smk data'!H32","v":305},{"$f":"'smk data'!I32","v":1129},{"$f":"'smk data'!J32","v":1332},{"$f":"'smk data'!K32","v":354},{"$f":"'smk data'!L32","v":655},{"$f":"'smk data'!M32","v":927},{"$f":"'smk data'!N32","v":234},{"$f":"'smk data'!O32","v":246},{"$f":"'smk data'!P32","v":472},{"$f":"'smk data'!Q32","v":386},{"$f":"'smk data'!R32","v":8298}]
["Women",{"$f":"'smk data'!D33","v":1207},{"$f":"'smk data'!E33","v":277},{"$f":"'smk data'!F33","v":253},{"$f":"'smk data'!G33","v":1139},{"$f":"'smk data'!H33","v":410},{"$f":"'smk data'!I33","v":1427},{"$f":"'smk data'!J33","v":1742},{"$f":"'smk data'!K33","v":462},{"$f":"'smk data'!L33","v":875},{"$f":"'smk data'!M33","v":1103},{"$f":"'smk data'!N33","v":270},{"$f":"'smk data'!O33","v":276},{"$f":"'smk data'!P33","v":586},{"$f":"'smk data'!Q33","v":460},{"$f":"'smk data'!R33","v":10487}]
["All Adults",{"$f":"'smk data'!D34","v":2148},{"$f":"'smk data'!E34","v":476},{"$f":"'smk data'!F34","v":472},{"$f":"'smk data'!G34","v":2038},{"$f":"'smk data'!H34","v":715},{"$f":"'smk data'!I34","v":2556},{"$f":"'smk data'!J34","v":3074},{"$f":"'smk data'!K34","v":816},{"$f":"'smk data'!L34","v":1530},{"$f":"'smk data'!M34","v":2030},{"$f":"'smk data'!N34","v":504},{"$f":"'smk data'!O34","v":522},{"$f":"'smk data'!P34","v":1058},{"$f":"'smk data'!Q34","v":846},{"$f":"'smk data'!R34","v":18785}]

{"sheet":"smk data","index":21,"n_rows":34,"n_cols":18,"rows_kept":34,"cut":false,"hidden":true,"merged":[]}
["F_sex","F_rcigst1","_NAME_","Ayrshire & Arran","Borders","Dumfries & Galloway","Fife","Forth Valley","Grampian","Greater Glasgow","Highland","Lanarkshire","Lothian","Orkney","Shetland","Tayside","Western Isles","Scotland"]
["Male","Never smoked or used to smoke cigarettes occasionally","RowPercent",50.07,53.305999999999997,51.747,48.86,50.93,50.95,52.02,49.83,51.03,56.61,50.902999999999999,53.363,52.51,50.551000000000002,52.06]
["Male","Never smoked or used to smoke cigarettes occasionally","RowLowerCL",46.68,45.975999999999999,43.813000000000002,45.15,44.4,47.54,48.97,43.41,46.76,52.82,43.018000000000001,48.777000000000001,47.18,45.542999999999999,50.71]
["Male","Never smoked or used to smoke cigarettes occasionally","RowUpperCL",53.47,60.636000000000003,59.680999999999997,52.57,57.47,54.37,55.08,56.25,55.3,60.41,58.787999999999997,57.948,57.85,55.558999999999997,53.41]
["Male","Used to smoke cigarettes regularly","RowPercent",26.02,26.754000000000001,25.082999999999998,27.43,25.66,26.86,22.85,27.86,26.52,24.83,28.463999999999999,23.378,24.68,29.126000000000001,25.41]
["Male","Used to smoke cigarettes regularly","RowLowerCL",23.33,19.553000000000001,19.16,24.24,20.420000000000002,24.32,20.54,22.65,22.81,21.79,22.045999999999999,17.664000000000001,20.68,24.402999999999999,24.32]
["Male","Used to smoke cigarettes regularly","RowUpperCL",28.71,33.954000000000001,31.006,30.62,30.9,29.41,25.17,33.07,30.23,27.86,34.883000000000003,29.093,28.69,33.847999999999999,26.49]
["Male","Current cigarette smoker","RowPercent",23.91,19.940000000000001,23.17,23.71,23.4,22.18,25.13,22.31,22.45,18.559999999999999,20.632999999999999,23.259,22.8,20.324000000000002,22.53]
["Male","Current cigarette smoker","RowLowerCL",21.09,14.64,17.550999999999998,20.43,17.63,19.03,22.44,16.86,18.87,15.86,14.279,17.72,18.55,15.882,21.39]
["Male","Current cigarette smoker","RowUpperCL",26.72,25.241,28.789000000000001,27,29.18,25.33,27.81,27.76,26.03,21.26,26.986999999999998,28.797999999999998,27.05,24.765000000000001,23.67]
["Female","Never smoked or used to smoke cigarettes occasionally","RowPercent",55.44,57.154000000000003,53.929000000000002,56.95,57.52,60.88,56.89,53.03,54.93,57.49,64.192999999999998,53.701000000000001,56.86,61.27,56.83]
["Female","Never smoked or used to smoke cigarettes occasionally","RowLowerCL",52.17,51.317999999999998,48.542999999999999,53.74,52.78,58.08,54.1,47.73,51.12,53.76,58.424999999999997,48.381,52.13,56.113999999999997,55.58]
["Female","Never smoked or used to smoke cigarettes occasionally","RowUpperCL",58.7,62.99,59.314999999999998,60.16,62.27,63.68,59.69,58.33,58.73,61.22,69.960999999999999,59.021000000000001,61.59,66.426000000000002,58.09]
["Female","Used to smoke cigarettes regularly","RowPercent",25.19,25.841000000000001,25.989000000000001,21.63,24.35,20.43,20.56,27.8,24.46,23.45,22.484000000000002,27.384,23.59,22.844000000000001,23.1]
["Female","Used to smoke cigarettes regularly","RowLowerCL",22.53,20.484999999999999,20.297000000000001,18.989999999999998,20.149999999999999,18.36,18.73,23.29,21.57,20.350000000000001,17.651,21.731999999999999,19.97,18.942,22.1]
["Female","Used to smoke cigarettes regularly","RowUpperCL",27.86,31.196999999999999,31.681000000000001,24.28,28.54,22.51,22.39,32.32,27.34,26.55,27.315999999999999,33.036000000000001,27.22,26.747,24.1]
["Female","Current cigarette smoker","RowPercent",19.37,17.004999999999999,20.082000000000001,21.41,18.13,18.68,22.54,19.16,20.62,19.07,13.324,18.914999999999999,19.55,15.885999999999999,20.07]
["Female","Current cigarette smoker","RowLowerCL",17.010000000000002,11.775,14.718999999999999,18.53,14.57,16.36,20.170000000000002,14.79,17.78,15.99,9.3710000000000004,13.858000000000001,16.21,12.144,19.079999999999998]
["Female","Current cigarette smoker","RowUpperCL",21.74,22.234000000000002,25.443999999999999,24.3,21.69,21,24.92,23.54,23.46,22.15,17.277000000000001,23.972000000000001,22.89,19.628,21.05]
["Total","Never smoked or used to smoke cigarettes occasionally","RowPercent",52.98,55.408999999999999,52.856000000000002,53.05,54.41,56.17,54.57,51.49,53.08,57.05,57.554000000000002,53.526000000000003,54.81,55.93,54.55]
["Total","Never smoked or used to smoke cigarettes occasionally","RowLowerCL",50.42,50.987000000000002,47.104999999999997,50.52,49.89,53.63,52.3,46.59,49.82,54.09,51.843000000000004,49.642000000000003,51.12,52.387999999999998,53.5]
["Total","Never smoked or used to smoke cigarettes occasionally","RowUpperCL",55.54,59.83,58.606999999999999,55.58,58.93,58.71,56.84,56.4,56.34,60.01,63.265000000000001,57.411000000000001,58.49,59.472000000000001,55.59]
["Total","Used to smoke cigarettes regularly","RowPercent",25.57,26.254999999999999,25.544,24.43,24.97,23.49,21.65,27.83,25.43,24.14,25.471,25.318000000000001,24.11,25.972999999999999,24.21]
["Total","Used to smoke cigarettes regularly","RowLowerCL",23.56,22.138999999999999,20.815000000000001,22.36,21.53,21.75,20.149999999999999,24.05,22.82,21.79,21.945,20.36,21.24,22.568000000000001,23.43]
["Total","Used to smoke cigarettes regularly","RowUpperCL",27.58,30.370999999999999,30.273,26.5,28.4,25.22,23.16,31.61,28.05,26.49,28.998000000000001,30.274999999999999,26.98,29.378,24.98]
["Total","Current cigarette smoker","RowPercent",21.45,18.335999999999999,21.6,22.52,20.62,20.350000000000001,23.78,20.68,21.48,18.809999999999999,16.975000000000001,21.155999999999999,21.08,18.096,21.25]
["Total","Current cigarette smoker","RowLowerCL",19.46,14.105,17.166,20.079999999999998,16.809999999999999,18.170000000000002,21.82,16.93,18.850000000000001,16.47,12.516,16.963000000000001,18.05,14.988,20.399999999999999]
["Total","Current cigarette smoker","RowUpperCL",23.44,22.568000000000001,26.035,24.97,24.43,22.52,25.73,24.42,24.12,21.15,21.434000000000001,25.347999999999999,24.11,21.204000000000001,22.1]
["Male",".","WgtFreq",601.02,183.85599999999999,258.50799999999998,616.07000000000005,493.15,972.59,1861.36,539.16999999999996,1129.05,1508.77,38.805,41.798000000000002,681.92,48.037999999999997,8974.11]
["Female",".","WgtFreq",709.47,221.46,267.19099999999997,660.75,550.89,1076.03,2041.5,583.34,1257.25,1493.47,38.875,39.228000000000002,763.38,48.390999999999998,9751.2199999999993]
["Total",".","WgtFreq",1310.5,405.31599999999997,525.69899999999996,1276.81,1044.04,2048.63,3902.86,1122.51,2386.3000000000002,3002.24,77.679000000000002,81.025999999999996,1445.3,96.429000000000002,18725.330000000002]
["Male",".","Frequency",941,199,219,899,305,1129,1332,354,655,927,234,246,472,386,8298]
["Female",".","Frequency",1207,277,253,1139,410,1427,1742,462,875,1103,270,276,586,460,10487]
["Total",".","Frequency",2148,476,472,2038,715,2556,3074,816,1530,2030,504,522,1058,846,18785]

{"sheet":"Smoking chart","index":22,"n_rows":48,"n_cols":18,"rows_kept":48,"cut":false,"hidden":false,"merged":[[31,2,32,14]]}
[null,null,null,null,null,null,null,null,null,null,null,null,null,null,null,null,null,"INDEX"]
[]
[]
[]
[]
[]
[]
[]
[]
[]
[]
[]
[]
[]
[]
[]
[]
[]
[]
[]
[]
[]
[]
[]
[]
[]
[]
[]
[]
[]
[null,null,"Source: Scottish Health Survey"]
[]
[]
[null,null,"Ayrshire & Arran ","Borders","Dumfries & Galloway","Fife","Forth Valley","Grampian","Greater Glasgow & Clyde","Highland","Lanarkshire","Lothian","Orkney","Shetland","Tayside","Western Isles",null,"Scotland"]
[null,"All Adults"]
[null,"Never smoked, or ex-occasional",{"$f":"'Smoking behaviour'!B31","v":52.98},{"$f":"'Smoking behaviour'!C31","v":55.408999999999999},{"$f":"'Smoking behaviour'!D31","v":52.856000000000002},{"$f":"'Smoking behaviour'!E31","v":53.05},{"$f":"'Smoking behaviour'!F31","v":54.41},{"$f":"'Smoking behaviour'!G31","v":56.17},{"$f":"'Smoking behaviour'!H31","v":54.57},{"$f":"'Smoking behaviour'!I31","v":51.49},{"$f":"'Smoking behaviour'!J31","v":53.08},{"$f":"'Smoking behaviour'!K31","v":57.05},{"$f":"'Smoking behaviour'!L31","v":57.554000000000002},{"$f":"'Smoking behaviour'!M31","v":53.526000000000003},{"$f":"'Smoking behaviour'!N31","v":54.81},{"$f":"'Smoking behaviour'!O31","v":55.93},null,{"$f":"'Smoking behaviour'!P31","v":54.55}]
[null,"Lower CI",{"$f":"'Smoking behaviour'!B32","v":50.42},{"$f":"'Smoking behaviour'!C32","v":50.987000000000002},{"$f":"'Smoking behaviour'!D32","v":47.104999999999997},{"$f":"'Smoking behaviour'!E32","v":50.52},{"$f":"'Smoking behaviour'!F32","v":49.89},{"$f":"'Smoking behaviour'!G32","v":53.63},{"$f":"'Smoking behaviour'!H32","v":52.3},{"$f":"'Smoking behaviour'!I32","v":46.59},{"$f":"'Smoking behaviour'!J32","v":49.82},{"$f":"'Smoking behaviour'!K32","v":54.09},{"$f":"'Smoking behaviour'!L32","v":51.843000000000004},{"$f":"'Smoking behaviour'!M32","v":49.642000000000003},{"$f":"'Smoking behaviour'!N32","v":51.12},{"$f":"'Smoking behaviour'!O32","v":52.387999999999998},null,{"$f":"'Smoking behaviour'!P32","v":53.5}]
[null,"Upper CI",{"$f":"'Smoking behaviour'!B33","v":55.54},{"$f":"'Smoking behaviour'!C33","v":59.83},{"$f":"'Smoking behaviour'!D33","v":58.606999999999999},{"$f":"'Smoking behaviour'!E33","v":55.58},{"$f":"'Smoking behaviour'!F33","v":58.93},{"$f":"'Smoking behaviour'!G33","v":58.71},{"$f":"'Smoking behaviour'!H33","v":56.84},{"$f":"'Smoking behaviour'!I33","v":56.4},{"$f":"'Smoking behaviour'!J33","v":56.34},{"$f":"'Smoking behaviour'!K33","v":60.01},{"$f":"'Smoking behaviour'!L33","v":63.265000000000001},{"$f":"'Smoking behaviour'!M33","v":57.411000000000001},{"$f":"'Smoking behaviour'!N33","v":58.49},{"$f":"'Smoking behaviour'!O33","v":59.472000000000001},null,{"$f":"'Smoking behaviour'!P33","v":55.59}]
[null,"Ex-regular smoker, or occasional",{"$f":"'Smoking behaviour'!B34","v":25.57},{"$f":"'Smoking behaviour'!C34","v":26.254999999999999},{"$f":"'Smoking behaviour'!D34","v":25.544},{"$f":"'Smoking behaviour'!E34","v":24.43},{"$f":"'Smoking behaviour'!F34","v":24.97},{"$f":"'Smoking behaviour'!G34","v":23.49},{"$f":"'Smoking behaviour'!H34","v":21.65},{"$f":"'Smoking behaviour'!I34","v":27.83},{"$f":"'Smoking behaviour'!J34","v":25.43},{"$f":"'Smoking behaviour'!K34","v":24.14},{"$f":"'Smoking behaviour'!L34","v":25.471},{"$f":"'Smoking behaviour'!M34","v":25.318000000000001},{"$f":"'Smoking behaviour'!N34","v":24.11},{"$f":"'Smoking behaviour'!O34","v":25.972999999999999},null,{"$f":"'Smoking behaviour'!P34","v":24.21}]
[null,"Lower CI",{"$f":"'Smoking behaviour'!B35","v":23.56},{"$f":"'Smoking behaviour'!C35","v":22.138999999999999},{"$f":"'Smoking behaviour'!D35","v":20.815000000000001},{"$f":"'Smoking behaviour'!E35","v":22.36},{"$f":"'Smoking behaviour'!F35","v":21.53},{"$f":"'Smoking behaviour'!G35","v":21.75},{"$f":"'Smoking behaviour'!H35","v":20.149999999999999},{"$f":"'Smoking behaviour'!I35","v":24.05},{"$f":"'Smoking behaviour'!J35","v":22.82},{"$f":"'Smoking behaviour'!K35","v":21.79},{"$f":"'Smoking behaviour'!L35","v":21.945},{"$f":"'Smoking behaviour'!M35","v":20.36},{"$f":"'Smoking behaviour'!N35","v":21.24},{"$f":"'Smoking behaviour'!O35","v":22.568000000000001},null,{"$f":"'Smoking behaviour'!P35","v":23.43}]
[null,"Upper CI",{"$f":"'Smoking behaviour'!B36","v":27.58},{"$f":"'Smoking behaviour'!C36","v":30.370999999999999},{"$f":"'Smoking behaviour'!D36","v":30.273},{"$f":"'Smoking behaviour'!E36","v":26.5},{"$f":"'Smoking behaviour'!F36","v":28.4},{"$f":"'Smoking behaviour'!G36","v":25.22},{"$f":"'Smoking behaviour'!H36","v":23.16},{"$f":"'Smoking behaviour'!I36","v":31.61},{"$f":"'Smoking behaviour'!J36","v":28.05},{"$f":"'Smoking behaviour'!K36","v":26.49},{"$f":"'Smoking behaviour'!L36","v":28.998000000000001},{"$f":"'Smoking behaviour'!M36","v":30.274999999999999},{"$f":"'Smoking behaviour'!N36","v":26.98},{"$f":"'Smoking behaviour'!O36","v":29.378},null,{"$f":"'Smoking behaviour'!P36","v":24.98}]
[null,"Regular smoker",{"$f":"'Smoking behaviour'!B37","v":21.45},{"$f":"'Smoking behaviour'!C37","v":18.335999999999999},{"$f":"'Smoking behaviour'!D37","v":21.6},{"$f":"'Smoking behaviour'!E37","v":22.52},{"$f":"'Smoking behaviour'!F37","v":20.62},{"$f":"'Smoking behaviour'!G37","v":20.350000000000001},{"$f":"'Smoking behaviour'!H37","v":23.78},{"$f":"'Smoking behaviour'!I37","v":20.68},{"$f":"'Smoking behaviour'!J37","v":21.48},{"$f":"'Smoking behaviour'!K37","v":18.809999999999999},{"$f":"'Smoking behaviour'!L37","v":16.975000000000001},{"$f":"'Smoking behaviour'!M37","v":21.155999999999999},{"$f":"'Smoking behaviour'!N37","v":21.08},{"$f":"'Smoking behaviour'!O37","v":18.096},null,{"$f":"'Smoking behaviour'!P37","v":21.25}]
[null,"Lower CI",{"$f":"'Smoking behaviour'!B38","v":19.46},{"$f":"'Smoking behaviour'!C38","v":14.105},{"$f":"'Smoking behaviour'!D38","v":17.166},{"$f":"'Smoking behaviour'!E38","v":20.079999999999998},{"$f":"'Smoking behaviour'!F38","v":16.809999999999999},{"$f":"'Smoking behaviour'!G38","v":18.170000000000002},{"$f":"'Smoking behaviour'!H38","v":21.82},{"$f":"'Smoking behaviour'!I38","v":16.93},{"$f":"'Smoking behaviour'!J38","v":18.850000000000001},{"$f":"'Smoking behaviour'!K38","v":16.47},{"$f":"'Smoking behaviour'!L38","v":12.516},{"$f":"'Smoking behaviour'!M38","v":16.963000000000001},{"$f":"'Smoking behaviour'!N38","v":18.05},{"$f":"'Smoking behaviour'!O38","v":14.988},null,{"$f":"'Smoking behaviour'!P38","v":20.399999999999999}]
[null,"Upper CI",{"$f":"'Smoking behaviour'!B39","v":23.44},{"$f":"'Smoking behaviour'!C39","v":22.568000000000001},{"$f":"'Smoking behaviour'!D39","v":26.035},{"$f":"'Smoking behaviour'!E39","v":24.97},{"$f":"'Smoking behaviour'!F39","v":24.43},{"$f":"'Smoking behaviour'!G39","v":22.52},{"$f":"'Smoking behaviour'!H39","v":25.73},{"$f":"'Smoking behaviour'!I39","v":24.42},{"$f":"'Smoking behaviour'!J39","v":24.12},{"$f":"'Smoking behaviour'!K39","v":21.15},{"$f":"'Smoking behaviour'!L39","v":21.434000000000001},{"$f":"'Smoking behaviour'!M39","v":25.347999999999999},{"$f":"'Smoking behaviour'!N39","v":24.11},{"$f":"'Smoking behaviour'!O39","v":21.204000000000001},null,{"$f":"'Smoking behaviour'!P39","v":22.1}]
[]
["CLs","Never smoked, or ex-occasional",{"$f":"C36-C37","v":2.5599999999999952},{"$f":"D36-D37","v":4.421999999999997},5.7510000000000048,2.529999999999994,4.519999999999996,2.5399999999999991,2.2700000000000031,4.8999999999999986,3.259999999999998,2.9599999999999937,5.7109999999999985,3.8840000000000003,3.6900000000000048,3.5420000000000016,null,{"$f":"R36-R37","v":1.0499999999999972}]
[null,"Ex-regular smoker, or occasional",{"$f":"C39-C40","v":2.0100000000000016},{"$f":"D39-D40","v":4.1159999999999997},4.7289999999999992,2.0700000000000003,3.4399999999999977,1.7399999999999984,1.5,3.7799999999999976,2.6099999999999994,2.3500000000000014,3.5259999999999998,4.958000000000002,2.870000000000001,3.4049999999999976,null,{"$f":"R39-R40","v":0.78000000000000114}]
[null,"Regular smoker",{"$f":"C42-C43","v":1.9899999999999984},{"$f":"D42-D43","v":4.2309999999999981},4.4340000000000011,2.4400000000000013,3.8100000000000023,2.1799999999999997,1.9600000000000009,3.75,2.629999999999999,2.34,4.4590000000000014,4.1929999999999978,3.0299999999999976,3.1080000000000005,null,{"$f":"R42-R43","v":0.85000000000000142}]

{"sheet":"Overweight","index":23,"n_rows":32,"n_cols":16,"rows_kept":32,"cut":false,"hidden":false,"merged":[[4,0,5,0],[0,0,1,0]]}
["Prevalence of overweight (including obesity), by NHS Board and sex",null,null,null,null,null,null,null,null,null,null,null,"INDEX"]
[]
[]
["Aged 16 and over",null,null,null,null,null,null,null,null,null,null,null,null,null,null,"2013/2014/2015/2016 combined"]
["Overweight (including obese)a","NHS Board"]
[null,"Ayrshire & Arran ","Borders","Dumfries & Galloway","Fife","Forth Valley","Grampian","Greater Glasgow & Clyde","Highland","Lanarkshire","Lothian","Orkney","Shetland","Tayside","Western Isles","Scotland"]
[null,"%","%","%","%","%","%","%","%","%","%","%","%","%","%","%"]
["Men"]
["Overweight (including obese)a",{"$f":"'ovwt data'!D5","v":72.84},{"$f":"'ovwt data'!E5","v":72.36},{"$f":"'ovwt data'!F5","v":68.352999999999994},{"$f":"'ovwt data'!G5","v":71.08},{"$f":"'ovwt data'!H5","v":68.254999999999995},{"$f":"'ovwt data'!I5","v":70.37},{"$f":"'ovwt data'!J5","v":65.23},{"$f":"'ovwt data'!K5","v":67.408000000000001},{"$f":"'ovwt data'!L5","v":74.42},{"$f":"'ovwt data'!M5","v":63.91},{"$f":"'ovwt data'!N5","v":71.555000000000007},{"$f":"'ovwt data'!O5","v":77.055000000000007},{"$f":"'ovwt data'!P5","v":69.34},{"$f":"'ovwt data'!Q5","v":73.215000000000003},{"$f":"'ovwt data'!R5","v":68.55}]
["Lower CI",{"$f":"'ovwt data'!D6","v":69.959999999999994},{"$f":"'ovwt data'!E6","v":64.486999999999995},{"$f":"'ovwt data'!F6","v":62.662999999999997},{"$f":"'ovwt data'!G6","v":66.739999999999995},{"$f":"'ovwt data'!H6","v":62.442},{"$f":"'ovwt data'!I6","v":67.12},{"$f":"'ovwt data'!J6","v":61.76},{"$f":"'ovwt data'!K6","v":61.421999999999997},{"$f":"'ovwt data'!L6","v":70.239999999999995},{"$f":"'ovwt data'!M6","v":60},{"$f":"'ovwt data'!N6","v":64.846000000000004},{"$f":"'ovwt data'!O6","v":68.801000000000002},{"$f":"'ovwt data'!P6","v":63.64},{"$f":"'ovwt data'!Q6","v":66.917000000000002},{"$f":"'ovwt data'!R6","v":67.099999999999994}]
["Upper CI",{"$f":"'ovwt data'!D7","v":75.709999999999994},{"$f":"'ovwt data'!E7","v":80.233000000000004},{"$f":"'ovwt data'!F7","v":74.042000000000002},{"$f":"'ovwt data'!G7","v":75.42},{"$f":"'ovwt data'!H7","v":74.067999999999998},{"$f":"'ovwt data'!I7","v":73.61},{"$f":"'ovwt data'!J7","v":68.709999999999994},{"$f":"'ovwt data'!K7","v":73.394000000000005},{"$f":"'ovwt data'!L7","v":78.599999999999994},{"$f":"'ovwt data'!M7","v":67.819999999999993},{"$f":"'ovwt data'!N7","v":78.263000000000005},{"$f":"'ovwt data'!O7","v":85.308999999999997},{"$f":"'ovwt data'!P7","v":75.05},{"$f":"'ovwt data'!Q7","v":79.513999999999996},{"$f":"'ovwt data'!R7","v":70.010000000000005}]
[]
["Women"]
["Overweight (including obese)a",{"$f":"'ovwt data'!D11","v":67.72},{"$f":"'ovwt data'!E11","v":64.483000000000004},{"$f":"'ovwt data'!F11","v":67.837999999999994},{"$f":"'ovwt data'!G11","v":62.58},{"$f":"'ovwt data'!H11","v":62.186999999999998},{"$f":"'ovwt data'!I11","v":59.48},{"$f":"'ovwt data'!J11","v":58.82},{"$f":"'ovwt data'!K11","v":61.686999999999998},{"$f":"'ovwt data'!L11","v":66.55},{"$f":"'ovwt data'!M11","v":54.82},{"$f":"'ovwt data'!N11","v":72.661000000000001},{"$f":"'ovwt data'!O11","v":67.287000000000006},{"$f":"'ovwt data'!P11","v":62.18},{"$f":"'ovwt data'!Q11","v":69.605000000000004},{"$f":"'ovwt data'!R11","v":61.3}]
["Lower CI",{"$f":"'ovwt data'!D12","v":64.650000000000006},{"$f":"'ovwt data'!E12","v":58.344999999999999},{"$f":"'ovwt data'!F12","v":60.927999999999997},{"$f":"'ovwt data'!G12","v":59.49},{"$f":"'ovwt data'!H12","v":56.826000000000001},{"$f":"'ovwt data'!I12","v":56.26},{"$f":"'ovwt data'!J12","v":55.98},{"$f":"'ovwt data'!K12","v":56.01},{"$f":"'ovwt data'!L12","v":62.75},{"$f":"'ovwt data'!M12","v":50.91},{"$f":"'ovwt data'!N12","v":66.355000000000004},{"$f":"'ovwt data'!O12","v":59.762999999999998},{"$f":"'ovwt data'!P12","v":57.16},{"$f":"'ovwt data'!Q12","v":63.030999999999999},{"$f":"'ovwt data'!R12","v":59.97}]
["Upper CI",{"$f":"'ovwt data'!D13","v":70.790000000000006},{"$f":"'ovwt data'!E13","v":70.62},{"$f":"'ovwt data'!F13","v":74.748000000000005},{"$f":"'ovwt data'!G13","v":65.67},{"$f":"'ovwt data'!H13","v":67.548000000000002},{"$f":"'ovwt data'!I13","v":62.7},{"$f":"'ovwt data'!J13","v":61.67},{"$f":"'ovwt data'!K13","v":67.364000000000004},{"$f":"'ovwt data'!L13","v":70.349999999999994},{"$f":"'ovwt data'!M13","v":58.73},{"$f":"'ovwt data'!N13","v":78.966999999999999},{"$f":"'ovwt data'!O13","v":74.811000000000007},{"$f":"'ovwt data'!P13","v":67.2},{"$f":"'ovwt data'!Q13","v":76.179000000000002},{"$f":"'ovwt data'!R13","v":62.63}]
[]
["All Adults"]
["Overweight (including obese)a",{"$f":"'ovwt data'!D17","v":70.010000000000005},{"$f":"'ovwt data'!E17","v":68.167000000000002},{"$f":"'ovwt data'!F17","v":68.088999999999999},{"$f":"'ovwt data'!G17","v":66.77},{"$f":"'ovwt data'!H17","v":65.239999999999995},{"$f":"'ovwt data'!I17","v":64.73},{"$f":"'ovwt data'!J17","v":62.01},{"$f":"'ovwt data'!K17","v":64.572999999999993},{"$f":"'ovwt data'!L17","v":70.41},{"$f":"'ovwt data'!M17","v":59.52},{"$f":"'ovwt data'!N17","v":72.084999999999994},{"$f":"'ovwt data'!O17","v":72.447000000000003},{"$f":"'ovwt data'!P17","v":65.540000000000006},{"$f":"'ovwt data'!Q17","v":71.465000000000003},{"$f":"'ovwt data'!R17","v":64.87}]
["Lower CI",{"$f":"'ovwt data'!D18","v":67.849999999999994},{"$f":"'ovwt data'!E18","v":63.136000000000003},{"$f":"'ovwt data'!F18","v":63.292999999999999},{"$f":"'ovwt data'!G18","v":63.99},{"$f":"'ovwt data'!H18","v":61.003},{"$f":"'ovwt data'!I18","v":62.32},{"$f":"'ovwt data'!J18","v":59.51},{"$f":"'ovwt data'!K18","v":60.000999999999998},{"$f":"'ovwt data'!L18","v":67.52},{"$f":"'ovwt data'!M18","v":56.69},{"$f":"'ovwt data'!N18","v":66.641000000000005},{"$f":"'ovwt data'!O18","v":66.072000000000003},{"$f":"'ovwt data'!P18","v":61.71},{"$f":"'ovwt data'!Q18","v":66.376000000000005},{"$f":"'ovwt data'!R18","v":63.8}]
["Upper CI",{"$f":"'ovwt data'!D19","v":72.17},{"$f":"'ovwt data'!E19","v":73.197000000000003},{"$f":"'ovwt data'!F19","v":72.885000000000005},{"$f":"'ovwt data'!G19","v":69.55},{"$f":"'ovwt data'!H19","v":69.477000000000004},{"$f":"'ovwt data'!I19","v":67.14},{"$f":"'ovwt data'!J19","v":64.510000000000005},{"$f":"'ovwt data'!K19","v":69.144000000000005},{"$f":"'ovwt data'!L19","v":73.290000000000006},{"$f":"'ovwt data'!M19","v":62.35},{"$f":"'ovwt data'!N19","v":77.528999999999996},{"$f":"'ovwt data'!O19","v":78.822000000000003},{"$f":"'ovwt data'!P19","v":69.38},{"$f":"'ovwt data'!Q19","v":76.555000000000007},{"$f":"'ovwt data'!R19","v":65.930000000000007}]
[]
["Bases (weighted):"]
["Men",{"$f":"'ovwt data'!D20","v":498.91},{"$f":"'ovwt data'!E20","v":166.21},{"$f":"'ovwt data'!F20","v":215.131},{"$f":"'ovwt data'!G20","v":519.45000000000005},{"$f":"'ovwt data'!H20","v":413.53500000000003},{"$f":"'ovwt data'!I20","v":890.97},{"$f":"'ovwt data'!J20","v":1648.74},{"$f":"'ovwt data'!K20","v":451.26},{"$f":"'ovwt data'!L20","v":934.57},{"$f":"'ovwt data'!M20","v":1305.49},{"$f":"'ovwt data'!N20","v":36.195999999999998},{"$f":"'ovwt data'!O20","v":34.381999999999998},{"$f":"'ovwt data'!P20","v":582.51},{"$f":"'ovwt data'!Q20","v":36.587000000000003},{"$f":"'ovwt data'!R20","v":7733.94}]
["Women",{"$f":"'ovwt data'!D21","v":612.92999999999995},{"$f":"'ovwt data'!E21","v":189.21799999999999},{"$f":"'ovwt data'!F21","v":225.44},{"$f":"'ovwt data'!G21","v":535.52},{"$f":"'ovwt data'!H21","v":408.39},{"$f":"'ovwt data'!I21","v":958.37},{"$f":"'ovwt data'!J21","v":1669.76},{"$f":"'ovwt data'!K21","v":443.495},{"$f":"'ovwt data'!L21","v":973.06},{"$f":"'ovwt data'!M21","v":1220.02},{"$f":"'ovwt data'!N21","v":33.32},{"$f":"'ovwt data'!O21","v":30.702000000000002},{"$f":"'ovwt data'!P21","v":658.3},{"$f":"'ovwt data'!Q21","v":34.420999999999999},{"$f":"'ovwt data'!R21","v":7992.93}]
["All Adults",{"$f":"'ovwt data'!D22","v":1111.8399999999999},{"$f":"'ovwt data'!E22","v":355.428},{"$f":"'ovwt data'!F22","v":440.572},{"$f":"'ovwt data'!G22","v":1054.96},{"$f":"'ovwt data'!H22","v":821.92499999999995},{"$f":"'ovwt data'!I22","v":1849.33},{"$f":"'ovwt data'!J22","v":3318.5},{"$f":"'ovwt data'!K22","v":894.755},{"$f":"'ovwt data'!L22","v":1907.62},{"$f":"'ovwt data'!M22","v":2525.5100000000002},{"$f":"'ovwt data'!N22","v":69.516000000000005},{"$f":"'ovwt data'!O22","v":65.082999999999998},{"$f":"'ovwt data'!P22","v":1240.81},{"$f":"'ovwt data'!Q22","v":71.007999999999996},{"$f":"'ovwt data'!R22","v":15726.87}]
["Bases (unweighted)"]
["Men",{"$f":"'ovwt data'!D23","v":777},{"$f":"'ovwt data'!E23","v":178},{"$f":"'ovwt data'!F23","v":182},{"$f":"'ovwt data'!G23","v":747},{"$f":"'ovwt data'!H23","v":251},{"$f":"'ovwt data'!I23","v":1025},{"$f":"'ovwt data'!J23","v":1161},{"$f":"'ovwt data'!K23","v":290},{"$f":"'ovwt data'!L23","v":541},{"$f":"'ovwt data'!M23","v":800},{"$f":"'ovwt data'!N23","v":219},{"$f":"'ovwt data'!O23","v":200},{"$f":"'ovwt data'!P23","v":404},{"$f":"'ovwt data'!Q23","v":306},{"$f":"'ovwt data'!R23","v":7081}]
["Women",{"$f":"'ovwt data'!D24","v":1043},{"$f":"'ovwt data'!E24","v":240},{"$f":"'ovwt data'!F24","v":208},{"$f":"'ovwt data'!G24","v":926},{"$f":"'ovwt data'!H24","v":307},{"$f":"'ovwt data'!I24","v":1266},{"$f":"'ovwt data'!J24","v":1419},{"$f":"'ovwt data'!K24","v":351},{"$f":"'ovwt data'!L24","v":685},{"$f":"'ovwt data'!M24","v":909},{"$f":"'ovwt data'!N24","v":235},{"$f":"'ovwt data'!O24","v":215},{"$f":"'ovwt data'!P24","v":511},{"$f":"'ovwt data'!Q24","v":338},{"$f":"'ovwt data'!R24","v":8653}]
["All Adults",{"$f":"'ovwt data'!D25","v":1820},{"$f":"'ovwt data'!E25","v":418},{"$f":"'ovwt data'!F25","v":390},{"$f":"'ovwt data'!G25","v":1673},{"$f":"'ovwt data'!H25","v":558},{"$f":"'ovwt data'!I25","v":2291},{"$f":"'ovwt data'!J25","v":2580},{"$f":"'ovwt data'!K25","v":641},{"$f":"'ovwt data'!L25","v":1226},{"$f":"'ovwt data'!M25","v":1709},{"$f":"'ovwt data'!N25","v":454},{"$f":"'ovwt data'!O25","v":415},{"$f":"'ovwt data'!P25","v":915},{"$f":"'ovwt data'!Q25","v":644},{"$f":"'ovwt data'!R25","v":15734}]
[]
["a BMI 25 or higher"]

{"sheet":"ovwt data","index":24,"n_rows":25,"n_cols":18,"rows_kept":25,"cut":false,"hidden":true,"merged":[]}
["F_sex","F_bmi25","_NAME_","Ayrshire & Arran","Borders","Dumfries & Galloway","Fife","Forth Valley","Grampian","Greater Glasgow","Highland","Lanarkshire","Lothian","Orkney","Shetland","Tayside","Western Isles","Scotland"]
["Male","Under 25","RowPercent",27.16,27.64,31.646999999999998,28.92,31.745000000000001,29.63,34.770000000000003,32.591999999999999,25.58,36.090000000000003,28.445,22.945,30.66,26.785,31.45]
["Male","Under 25","RowLowerCL",24.29,19.766999999999999,25.957999999999998,24.58,25.931999999999999,26.39,31.29,26.606000000000002,21.4,32.18,21.736999999999998,14.691000000000001,24.95,20.486000000000001,29.99]
["Male","Under 25","RowUpperCL",30.04,35.512999999999998,37.337000000000003,33.26,37.558,32.880000000000003,38.24,38.578000000000003,29.76,40,35.154000000000003,31.199000000000002,36.36,33.082999999999998,32.9]
["Male","25 and over","RowPercent",72.84,72.36,68.352999999999994,71.08,68.254999999999995,70.37,65.23,67.408000000000001,74.42,63.91,71.555000000000007,77.055000000000007,69.34,73.215000000000003,68.55]
["Male","25 and over","RowLowerCL",69.959999999999994,64.486999999999995,62.662999999999997,66.739999999999995,62.442,67.12,61.76,61.421999999999997,70.239999999999995,60,64.846000000000004,68.801000000000002,63.64,66.917000000000002,67.099999999999994]
["Male","25 and over","RowUpperCL",75.709999999999994,80.233000000000004,74.042000000000002,75.42,74.067999999999998,73.61,68.709999999999994,73.394000000000005,78.599999999999994,67.819999999999993,78.263000000000005,85.308999999999997,75.05,79.513999999999996,70.010000000000005]
["Female","Under 25","RowPercent",32.28,35.517000000000003,32.161999999999999,37.42,37.813000000000002,40.520000000000003,41.18,38.313000000000002,33.450000000000003,45.18,27.338999999999999,32.713000000000001,37.82,30.395,38.700000000000003]
["Female","Under 25","RowLowerCL",29.21,29.38,25.251999999999999,34.33,32.451999999999998,37.299999999999997,38.33,32.636000000000003,29.65,41.27,21.033000000000001,25.189,32.799999999999997,23.821000000000002,37.369999999999997]
["Female","Under 25","RowUpperCL",35.35,41.655000000000001,39.072000000000003,40.51,43.173999999999999,43.74,44.02,43.99,37.25,49.09,33.645000000000003,40.237000000000002,42.84,36.969000000000001,40.03]
["Female","25 and over","RowPercent",67.72,64.483000000000004,67.837999999999994,62.58,62.186999999999998,59.48,58.82,61.686999999999998,66.55,54.82,72.661000000000001,67.287000000000006,62.18,69.605000000000004,61.3]
["Female","25 and over","RowLowerCL",64.650000000000006,58.344999999999999,60.927999999999997,59.49,56.826000000000001,56.26,55.98,56.01,62.75,50.91,66.355000000000004,59.762999999999998,57.16,63.030999999999999,59.97]
["Female","25 and over","RowUpperCL",70.790000000000006,70.62,74.748000000000005,65.67,67.548000000000002,62.7,61.67,67.364000000000004,70.349999999999994,58.73,78.966999999999999,74.811000000000007,67.2,76.179000000000002,62.63]
["Total","Under 25","RowPercent",29.99,31.832999999999998,31.911000000000001,33.229999999999997,34.76,35.270000000000003,37.99,35.427,29.59,40.479999999999997,27.914999999999999,27.553000000000001,34.46,28.535,35.130000000000003]
["Total","Under 25","RowLowerCL",27.83,26.803000000000001,27.114999999999998,30.45,30.523,32.86,35.49,30.856000000000002,26.71,37.65,22.471,21.178000000000001,30.62,23.445,34.07]
["Total","Under 25","RowUpperCL",32.15,36.863999999999997,36.707000000000001,36.01,38.997,37.68,40.49,39.999000000000002,32.479999999999997,43.31,33.359000000000002,33.927999999999997,38.29,33.624000000000002,36.200000000000003]
["Total","25 and over","RowPercent",70.010000000000005,68.167000000000002,68.088999999999999,66.77,65.239999999999995,64.73,62.01,64.572999999999993,70.41,59.52,72.084999999999994,72.447000000000003,65.540000000000006,71.465000000000003,64.87]
["Total","25 and over","RowLowerCL",67.849999999999994,63.136000000000003,63.292999999999999,63.99,61.003,62.32,59.51,60.000999999999998,67.52,56.69,66.641000000000005,66.072000000000003,61.71,66.376000000000005,63.8]
["Total","25 and over","RowUpperCL",72.17,73.197000000000003,72.885000000000005,69.55,69.477000000000004,67.14,64.510000000000005,69.144000000000005,73.290000000000006,62.35,77.528999999999996,78.822000000000003,69.38,76.555000000000007,65.930000000000007]
["Male",".","WgtFreq",498.91,166.21,215.131,519.45000000000005,413.53500000000003,890.97,1648.74,451.26,934.57,1305.49,36.195999999999998,34.381999999999998,582.51,36.587000000000003,7733.94]
["Female",".","WgtFreq",612.92999999999995,189.21799999999999,225.44,535.52,408.39,958.37,1669.76,443.495,973.06,1220.02,33.32,30.702000000000002,658.3,34.420999999999999,7992.93]
["Total",".","WgtFreq",1111.8399999999999,355.428,440.572,1054.96,821.92499999999995,1849.33,3318.5,894.755,1907.62,2525.5100000000002,69.516000000000005,65.082999999999998,1240.81,71.007999999999996,15726.87]
["Male",".","Frequency",777,178,182,747,251,1025,1161,290,541,800,219,200,404,306,7081]
["Female",".","Frequency",1043,240,208,926,307,1266,1419,351,685,909,235,215,511,338,8653]
["Total",".","Frequency",1820,418,390,1673,558,2291,2580,641,1226,1709,454,415,915,644,15734]

{"sheet":"Overweight chart","index":25,"n_rows":40,"n_cols":18,"rows_kept":40,"cut":false,"hidden":false,"merged":[]}
[null,null,null,null,null,null,null,null,null,null,null,null,null,null,null,null,null,"INDEX"]
[]
[]
[]
[]
[]
[]
[]
[]
[]
[]
[]
[]
[]
[]
[]
[]
[]
[]
[]
[]
[]
[]
[]
[]
[]
[]
[]
[]
[]
[null,null,"Source: Scottish Health Survey"]
[null,null,"Overweight: BMI 25+"]
[]
[null,null,"Ayrshire & Arran ","Borders","Dumfries & Galloway","Fife","Forth Valley","Grampian","Greater Glasgow & Clyde","Highland","Lanarkshire","Lothian","Orkney","Shetland","Tayside","Western Isles",null,"Scotland"]
[null,"All Adults"]
[null,"Overweight (including obese)a",{"$f":"Overweight!B19","v":70.010000000000005},{"$f":"Overweight!C19","v":68.167000000000002},{"$f":"Overweight!D19","v":68.088999999999999},{"$f":"Overweight!E19","v":66.77},{"$f":"Overweight!F19","v":65.239999999999995},{"$f":"Overweight!G19","v":64.73},{"$f":"Overweight!H19","v":62.01},{"$f":"Overweight!I19","v":64.572999999999993},{"$f":"Overweight!J19","v":70.41},{"$f":"Overweight!K19","v":59.52},{"$f":"Overweight!L19","v":72.084999999999994},{"$f":"Overweight!M19","v":72.447000000000003},{"$f":"Overweight!N19","v":65.540000000000006},{"$f":"Overweight!O19","v":71.465000000000003},null,{"$f":"Overweight!P19","v":64.87}]
[null,"Lower CI",{"$f":"Overweight!B20","v":67.849999999999994},{"$f":"Overweight!C20","v":63.136000000000003},{"$f":"Overweight!D20","v":63.292999999999999},{"$f":"Overweight!E20","v":63.99},{"$f":"Overweight!F20","v":61.003},{"$f":"Overweight!G20","v":62.32},{"$f":"Overweight!H20","v":59.51},{"$f":"Overweight!I20","v":60.000999999999998},{"$f":"Overweight!J20","v":67.52},{"$f":"Overweight!K20","v":56.69},{"$f":"Overweight!L20","v":66.641000000000005},{"$f":"Overweight!M20","v":66.072000000000003},{"$f":"Overweight!N20","v":61.71},{"$f":"Overweight!O20","v":66.376000000000005},null,{"$f":"Overweight!P20","v":63.8}]
[null,"Upper CI",{"$f":"Overweight!B21","v":72.17},{"$f":"Overweight!C21","v":73.197000000000003},{"$f":"Overweight!D21","v":72.885000000000005},{"$f":"Overweight!E21","v":69.55},{"$f":"Overweight!F21","v":69.477000000000004},{"$f":"Overweight!G21","v":67.14},{"$f":"Overweight!H21","v":64.510000000000005},{"$f":"Overweight!I21","v":69.144000000000005},{"$f":"Overweight!J21","v":73.290000000000006},{"$f":"Overweight!K21","v":62.35},{"$f":"Overweight!L21","v":77.528999999999996},{"$f":"Overweight!M21","v":78.822000000000003},{"$f":"Overweight!N21","v":69.38},{"$f":"Overweight!O21","v":76.555000000000007},null,{"$f":"Overweight!P21","v":65.930000000000007}]
[]
["CLs",null,{"$f":"C36-C37","v":2.1600000000000108},{"$f":"D36-D37","v":5.0309999999999988},4.7959999999999994,2.779999999999994,4.2369999999999948,2.4100000000000037,2.5,4.5719999999999956,2.8900000000000006,2.8300000000000054,5.4439999999999884,6.375,3.8300000000000054,5.0889999999999986,null,1.0700000000000074]

{"sheet":"Obesity","index":26,"n_rows":32,"n_cols":16,"rows_kept":32,"cut":false,"hidden":false,"merged":[[4,0,5,0],[0,0,1,0]]}
["Prevalence of obesity by NHS Board and sex",null,null,null,null,null,null,null,null,null,null,null,null,"INDEX"]
[]
[]
["Aged 16 and over",null,null,null,null,null,null,null,null,null,null,null,null,null,null,"2013/2014/2015/2016 combined"]
["Obesitya","NHS Board"]
[null,"Ayrshire & Arran ","Borders","Dumfries & Galloway","Fife","Forth Valley","Grampian","Greater Glasgow & Clyde","Highland","Lanarkshire","Lothian","Orkney","Shetland","Tayside","Western Isles","Scotland"]
[null,"%","%","%","%","%","%","%","%","%","%","%","%","%","%","%"]
["Men"]
["Obesea",{"$f":"'obesity data'!D5","v":31.77},{"$f":"'obesity data'!E5","v":26.343},{"$f":"'obesity data'!F5","v":30.971},{"$f":"'obesity data'!G5","v":30.7},{"$f":"'obesity data'!H5","v":29.13},{"$f":"'obesity data'!I5","v":28.19},{"$f":"'obesity data'!J5","v":24.48},{"$f":"'obesity data'!K5","v":23.404},{"$f":"'obesity data'!L5","v":32.85},{"$f":"'obesity data'!M5","v":22.5},{"$f":"'obesity data'!N5","v":31.109000000000002},{"$f":"'obesity data'!O5","v":38.741},{"$f":"'obesity data'!P5","v":26.57},{"$f":"'obesity data'!Q5","v":28.954000000000001},{"$f":"'obesity data'!R5","v":27.15}]
["Lower CI",{"$f":"'obesity data'!D6","v":28.12},{"$f":"'obesity data'!E6","v":19.280999999999999},{"$f":"'obesity data'!F6","v":23.849},{"$f":"'obesity data'!G6","v":26.83},{"$f":"'obesity data'!H6","v":22.86},{"$f":"'obesity data'!I6","v":25.11},{"$f":"'obesity data'!J6","v":21.82},{"$f":"'obesity data'!K6","v":17.571000000000002},{"$f":"'obesity data'!L6","v":28.37},{"$f":"'obesity data'!M6","v":19.14},{"$f":"'obesity data'!N6","v":24.460999999999999},{"$f":"'obesity data'!O6","v":29.239000000000001},{"$f":"'obesity data'!P6","v":22.51},{"$f":"'obesity data'!Q6","v":22.76},{"$f":"'obesity data'!R6","v":25.91}]
["Upper CI",{"$f":"'obesity data'!D7","v":35.409999999999997},{"$f":"'obesity data'!E7","v":33.405000000000001},{"$f":"'obesity data'!F7","v":38.094000000000001},{"$f":"'obesity data'!G7","v":34.57},{"$f":"'obesity data'!H7","v":35.399000000000001},{"$f":"'obesity data'!I7","v":31.26},{"$f":"'obesity data'!J7","v":27.15},{"$f":"'obesity data'!K7","v":29.236000000000001},{"$f":"'obesity data'!L7","v":37.33},{"$f":"'obesity data'!M7","v":25.87},{"$f":"'obesity data'!N7","v":37.756999999999998},{"$f":"'obesity data'!O7","v":48.241999999999997},{"$f":"'obesity data'!P7","v":30.63},{"$f":"'obesity data'!Q7","v":35.148000000000003},{"$f":"'obesity data'!R7","v":28.4}]
[]
["Women"]
["Obesea",{"$f":"'obesity data'!D11","v":34.97},{"$f":"'obesity data'!E11","v":27.712},{"$f":"'obesity data'!F11","v":31.122},{"$f":"'obesity data'!G11","v":33.15},{"$f":"'obesity data'!H11","v":33.329000000000001},{"$f":"'obesity data'!I11","v":27.9},{"$f":"'obesity data'!J11","v":26.82},{"$f":"'obesity data'!K11","v":30.788},{"$f":"'obesity data'!L11","v":31.76},{"$f":"'obesity data'!M11","v":24.78},{"$f":"'obesity data'!N11","v":36.448},{"$f":"'obesity data'!O11","v":36.965000000000003},{"$f":"'obesity data'!P11","v":30.74},{"$f":"'obesity data'!Q11","v":39.119},{"$f":"'obesity data'!R11","v":29.44}]
["Lower CI",{"$f":"'obesity data'!D12","v":31.97},{"$f":"'obesity data'!E12","v":21.532},{"$f":"'obesity data'!F12","v":24.414999999999999},{"$f":"'obesity data'!G12","v":30.21},{"$f":"'obesity data'!H12","v":28.745999999999999},{"$f":"'obesity data'!I12","v":25.1},{"$f":"'obesity data'!J12","v":24.27},{"$f":"'obesity data'!K12","v":25.966000000000001},{"$f":"'obesity data'!L12","v":27.58},{"$f":"'obesity data'!M12","v":21.63},{"$f":"'obesity data'!N12","v":28.716999999999999},{"$f":"'obesity data'!O12","v":29.896999999999998},{"$f":"'obesity data'!P12","v":25.54},{"$f":"'obesity data'!Q12","v":33.137999999999998},{"$f":"'obesity data'!R12","v":28.31}]
["Upper CI",{"$f":"'obesity data'!D13","v":37.979999999999997},{"$f":"'obesity data'!E13","v":33.890999999999998},{"$f":"'obesity data'!F13","v":37.829000000000001},{"$f":"'obesity data'!G13","v":36.1},{"$f":"'obesity data'!H13","v":37.912999999999997},{"$f":"'obesity data'!I13","v":30.7},{"$f":"'obesity data'!J13","v":29.36},{"$f":"'obesity data'!K13","v":35.610999999999997},{"$f":"'obesity data'!L13","v":35.950000000000003},{"$f":"'obesity data'!M13","v":27.94},{"$f":"'obesity data'!N13","v":44.18},{"$f":"'obesity data'!O13","v":44.033999999999999},{"$f":"'obesity data'!P13","v":35.950000000000003},{"$f":"'obesity data'!Q13","v":45.098999999999997},{"$f":"'obesity data'!R13","v":30.57}]
[]
["All Adults"]
["Obesea",{"$f":"'obesity data'!D17","v":33.53},{"$f":"'obesity data'!E17","v":27.071999999999999},{"$f":"'obesity data'!F17","v":31.047999999999998},{"$f":"'obesity data'!G17","v":31.95},{"$f":"'obesity data'!H17","v":31.216000000000001},{"$f":"'obesity data'!I17","v":28.04},{"$f":"'obesity data'!J17","v":25.66},{"$f":"'obesity data'!K17","v":27.064},{"$f":"'obesity data'!L17","v":32.29},{"$f":"'obesity data'!M17","v":23.61},{"$f":"'obesity data'!N17","v":33.667999999999999},{"$f":"'obesity data'!O17","v":37.902999999999999},{"$f":"'obesity data'!P17","v":28.78},{"$f":"'obesity data'!Q17","v":33.881},{"$f":"'obesity data'!R17","v":28.32}]
["Lower CI",{"$f":"'obesity data'!D18","v":31.26},{"$f":"'obesity data'!E18","v":21.863},{"$f":"'obesity data'!F18","v":26.154},{"$f":"'obesity data'!G18","v":29.22},{"$f":"'obesity data'!H18","v":27.039000000000001},{"$f":"'obesity data'!I18","v":25.71},{"$f":"'obesity data'!J18","v":23.68},{"$f":"'obesity data'!K18","v":23.1},{"$f":"'obesity data'!L18","v":29.21},{"$f":"'obesity data'!M18","v":21.15},{"$f":"'obesity data'!N18","v":28.244},{"$f":"'obesity data'!O18","v":31.172999999999998},{"$f":"'obesity data'!P18","v":25.06},{"$f":"'obesity data'!Q18","v":29.402000000000001},{"$f":"'obesity data'!R18","v":27.43}]
["Upper CI",{"$f":"'obesity data'!D19","v":35.81},{"$f":"'obesity data'!E19","v":32.28},{"$f":"'obesity data'!F19","v":35.942999999999998},{"$f":"'obesity data'!G19","v":34.67},{"$f":"'obesity data'!H19","v":35.393999999999998},{"$f":"'obesity data'!I19","v":30.36},{"$f":"'obesity data'!J19","v":27.64},{"$f":"'obesity data'!K19","v":31.027999999999999},{"$f":"'obesity data'!L19","v":35.380000000000003},{"$f":"'obesity data'!M19","v":26.06},{"$f":"'obesity data'!N19","v":39.093000000000004},{"$f":"'obesity data'!O19","v":44.634},{"$f":"'obesity data'!P19","v":32.51},{"$f":"'obesity data'!Q19","v":38.36},{"$f":"'obesity data'!R19","v":29.2}]
[]
["Bases (weighted):"]
["Men",{"$f":"'obesity data'!D20","v":498.91},{"$f":"'obesity data'!E20","v":166.21},{"$f":"'obesity data'!F20","v":215.131},{"$f":"'obesity data'!G20","v":519.45000000000005},{"$f":"'obesity data'!H20","v":413.53500000000003},{"$f":"'obesity data'!I20","v":890.97},{"$f":"'obesity data'!J20","v":1648.74},{"$f":"'obesity data'!K20","v":451.26},{"$f":"'obesity data'!L20","v":934.57},{"$f":"'obesity data'!M20","v":1305.49},{"$f":"'obesity data'!N20","v":36.195999999999998},{"$f":"'obesity data'!O20","v":34.381999999999998},{"$f":"'obesity data'!P20","v":582.51},{"$f":"'obesity data'!Q20","v":36.587000000000003},{"$f":"'obesity data'!R20","v":7733.94}]
["Women",{"$f":"'obesity data'!D21","v":612.92999999999995},{"$f":"'obesity data'!E21","v":189.21799999999999},{"$f":"'obesity data'!F21","v":225.44},{"$f":"'obesity data'!G21","v":535.52},{"$f":"'obesity data'!H21","v":408.39},{"$f":"'obesity data'!I21","v":958.37},{"$f":"'obesity data'!J21","v":1669.76},{"$f":"'obesity data'!K21","v":443.495},{"$f":"'obesity data'!L21","v":973.06},{"$f":"'obesity data'!M21","v":1220.02},{"$f":"'obesity data'!N21","v":33.32},{"$f":"'obesity data'!O21","v":30.702000000000002},{"$f":"'obesity data'!P21","v":658.3},{"$f":"'obesity data'!Q21","v":34.420999999999999},{"$f":"'obesity data'!R21","v":7992.93}]
["All Adults",{"$f":"'obesity data'!D22","v":1111.8399999999999},{"$f":"'obesity data'!E22","v":355.428},{"$f":"'obesity data'!F22","v":440.572},{"$f":"'obesity data'!G22","v":1054.96},{"$f":"'obesity data'!H22","v":821.92499999999995},{"$f":"'obesity data'!I22","v":1849.33},{"$f":"'obesity data'!J22","v":3318.5},{"$f":"'obesity data'!K22","v":894.755},{"$f":"'obesity data'!L22","v":1907.62},{"$f":"'obesity data'!M22","v":2525.5100000000002},{"$f":"'obesity data'!N22","v":69.516000000000005},{"$f":"'obesity data'!O22","v":65.082999999999998},{"$f":"'obesity data'!P22","v":1240.81},{"$f":"'obesity data'!Q22","v":71.007999999999996},{"$f":"'obesity data'!R22","v":15726.87}]
["Bases (unweighted)"]
["Men",{"$f":"'obesity data'!D23","v":777},{"$f":"'obesity data'!E23","v":178},{"$f":"'obesity data'!F23","v":182},{"$f":"'obesity data'!G23","v":747},{"$f":"'obesity data'!H23","v":251},{"$f":"'obesity data'!I23","v":1025},{"$f":"'obesity data'!J23","v":1161},{"$f":"'obesity data'!K23","v":290},{"$f":"'obesity data'!L23","v":541},{"$f":"'obesity data'!M23","v":800},{"$f":"'obesity data'!N23","v":219},{"$f":"'obesity data'!O23","v":200},{"$f":"'obesity data'!P23","v":404},{"$f":"'obesity data'!Q23","v":306},{"$f":"'obesity data'!R23","v":7081}]
["Women",{"$f":"'obesity data'!D24","v":1043},{"$f":"'obesity data'!E24","v":240},{"$f":"'obesity data'!F24","v":208},{"$f":"'obesity data'!G24","v":926},{"$f":"'obesity data'!H24","v":307},{"$f":"'obesity data'!I24","v":1266},{"$f":"'obesity data'!J24","v":1419},{"$f":"'obesity data'!K24","v":351},{"$f":"'obesity data'!L24","v":685},{"$f":"'obesity data'!M24","v":909},{"$f":"'obesity data'!N24","v":235},{"$f":"'obesity data'!O24","v":215},{"$f":"'obesity data'!P24","v":511},{"$f":"'obesity data'!Q24","v":338},{"$f":"'obesity data'!R24","v":8653}]
["All Adults",{"$f":"'obesity data'!D25","v":1820},{"$f":"'obesity data'!E25","v":418},{"$f":"'obesity data'!F25","v":390},{"$f":"'obesity data'!G25","v":1673},{"$f":"'obesity data'!H25","v":558},{"$f":"'obesity data'!I25","v":2291},{"$f":"'obesity data'!J25","v":2580},{"$f":"'obesity data'!K25","v":641},{"$f":"'obesity data'!L25","v":1226},{"$f":"'obesity data'!M25","v":1709},{"$f":"'obesity data'!N25","v":454},{"$f":"'obesity data'!O25","v":415},{"$f":"'obesity data'!P25","v":915},{"$f":"'obesity data'!Q25","v":644},{"$f":"'obesity data'!R25","v":15734}]
[]
["a BMI 30 or higher"]

{"sheet":"obesity data","index":27,"n_rows":25,"n_cols":18,"rows_kept":25,"cut":false,"hidden":true,"merged":[]}
["F_sex","F_bmi30","_NAME_","Ayrshire & Arran","Borders","Dumfries & Galloway","Fife","Forth Valley","Grampian","Greater Glasgow","Highland","Lanarkshire","Lothian","Orkney","Shetland","Tayside","Western Isles","Scotland"]
["Male","Under 30","RowPercent",68.23,73.656999999999996,69.028999999999996,69.3,70.87,71.81,75.52,76.596000000000004,67.150000000000006,77.5,68.891000000000005,61.259,73.430000000000007,71.046000000000006,72.849999999999994]
["Male","Under 30","RowLowerCL",64.59,66.594999999999999,61.905999999999999,65.430000000000007,64.600999999999999,68.739999999999995,72.849999999999994,70.763999999999996,62.67,74.13,62.243000000000002,51.758000000000003,69.37,64.852000000000004,71.599999999999994]
["Male","Under 30","RowUpperCL",71.88,80.718999999999994,76.150999999999996,73.17,77.14,74.89,78.180000000000007,82.429000000000002,71.63,80.86,75.539000000000001,70.760999999999996,77.489999999999995,77.239999999999995,74.09]
["Male","30 and over","RowPercent",31.77,26.343,30.971,30.7,29.13,28.19,24.48,23.404,32.85,22.5,31.109000000000002,38.741,26.57,28.954000000000001,27.15]
["Male","30 and over","RowLowerCL",28.12,19.280999999999999,23.849,26.83,22.86,25.11,21.82,17.571000000000002,28.37,19.14,24.460999999999999,29.239000000000001,22.51,22.76,25.91]
["Male","30 and over","RowUpperCL",35.409999999999997,33.405000000000001,38.094000000000001,34.57,35.399000000000001,31.26,27.15,29.236000000000001,37.33,25.87,37.756999999999998,48.241999999999997,30.63,35.148000000000003,28.4]
["Female","Under 30","RowPercent",65.03,72.287999999999997,68.878,66.849999999999994,66.671000000000006,72.099999999999994,73.180000000000007,69.212000000000003,68.239999999999995,75.22,63.552,63.034999999999997,69.260000000000005,60.881,70.56]
["Female","Under 30","RowLowerCL",62.02,66.108999999999995,62.170999999999999,63.9,62.087000000000003,69.3,70.64,64.388999999999996,64.05,72.06,55.82,55.966000000000001,64.05,54.901000000000003,69.430000000000007]
["Female","Under 30","RowUpperCL",68.03,78.468000000000004,75.584999999999994,69.790000000000006,71.254000000000005,74.900000000000006,75.73,74.034000000000006,72.42,78.37,71.283000000000001,70.102999999999994,74.459999999999994,66.861999999999995,71.69]
["Female","30 and over","RowPercent",34.97,27.712,31.122,33.15,33.329000000000001,27.9,26.82,30.788,31.76,24.78,36.448,36.965000000000003,30.74,39.119,29.44]
["Female","30 and over","RowLowerCL",31.97,21.532,24.414999999999999,30.21,28.745999999999999,25.1,24.27,25.966000000000001,27.58,21.63,28.716999999999999,29.896999999999998,25.54,33.137999999999998,28.31]
["Female","30 and over","RowUpperCL",37.979999999999997,33.890999999999998,37.829000000000001,36.1,37.912999999999997,30.7,29.36,35.610999999999997,35.950000000000003,27.94,44.18,44.033999999999999,35.950000000000003,45.098999999999997,30.57]
["Total","Under 30","RowPercent",66.47,72.927999999999997,68.951999999999998,68.05,68.784000000000006,71.959999999999994,74.34,72.936000000000007,67.709999999999994,76.39,66.331999999999994,62.097000000000001,71.22,66.119,71.680000000000007]
["Total","Under 30","RowLowerCL",64.19,67.72,64.057000000000002,65.33,64.605999999999995,69.64,72.36,68.971999999999994,64.62,73.94,60.906999999999996,55.366,67.489999999999995,61.64,70.8]
["Total","Under 30","RowUpperCL",68.739999999999995,78.137,73.846000000000004,70.78,72.960999999999999,74.290000000000006,76.319999999999993,76.900000000000006,70.790000000000006,78.849999999999994,71.756,68.826999999999998,74.94,70.597999999999999,72.569999999999993]
["Total","30 and over","RowPercent",33.53,27.071999999999999,31.047999999999998,31.95,31.216000000000001,28.04,25.66,27.064,32.29,23.61,33.667999999999999,37.902999999999999,28.78,33.881,28.32]
["Total","30 and over","RowLowerCL",31.26,21.863,26.154,29.22,27.039000000000001,25.71,23.68,23.1,29.21,21.15,28.244,31.172999999999998,25.06,29.402000000000001,27.43]
["Total","30 and over","RowUpperCL",35.81,32.28,35.942999999999998,34.67,35.393999999999998,30.36,27.64,31.027999999999999,35.380000000000003,26.06,39.093000000000004,44.634,32.51,38.36,29.2]
["Male",".","WgtFreq",498.91,166.21,215.131,519.45000000000005,413.53500000000003,890.97,1648.74,451.26,934.57,1305.49,36.195999999999998,34.381999999999998,582.51,36.587000000000003,7733.94]
["Female",".","WgtFreq",612.92999999999995,189.21799999999999,225.44,535.52,408.39,958.37,1669.76,443.495,973.06,1220.02,33.32,30.702000000000002,658.3,34.420999999999999,7992.93]
["Total",".","WgtFreq",1111.8399999999999,355.428,440.572,1054.96,821.92499999999995,1849.33,3318.5,894.755,1907.62,2525.5100000000002,69.516000000000005,65.082999999999998,1240.81,71.007999999999996,15726.87]
["Male",".","Frequency",777,178,182,747,251,1025,1161,290,541,800,219,200,404,306,7081]
["Female",".","Frequency",1043,240,208,926,307,1266,1419,351,685,909,235,215,511,338,8653]
["Total",".","Frequency",1820,418,390,1673,558,2291,2580,641,1226,1709,454,415,915,644,15734]

{"sheet":"Obesity chart","index":28,"n_rows":40,"n_cols":18,"rows_kept":40,"cut":false,"hidden":false,"merged":[]}
[null,null,null,null,null,null,null,null,null,null,null,null,null,null,null,null,null,"INDEX"]
[]
[]
[]
[]
[]
[]
[]
[]
[]
[]
[]
[]
[]
[]
[]
[]
[]
[]
[]
[]
[]
[]
[]
[]
[]
[]
[]
[]
[]
[null,null,"Source: Scottish Health Survey"]
[null,null,"Obese: BMI 30+"]
[]
[null,null,"Ayrshire & Arran ","Borders","Dumfries & Galloway","Fife","Forth Valley","Grampian","Greater Glasgow & Clyde","Highland","Lanarkshire","Lothian","Orkney","Shetland","Tayside","Western Isles",null,"Scotland"]
[null,"All Adults"]
[null,"Obesea",{"$f":"Obesity!B19","v":33.53},{"$f":"Obesity!C19","v":27.071999999999999},{"$f":"Obesity!D19","v":31.047999999999998},{"$f":"Obesity!E19","v":31.95},{"$f":"Obesity!F19","v":31.216000000000001},{"$f":"Obesity!G19","v":28.04},{"$f":"Obesity!H19","v":25.66},{"$f":"Obesity!I19","v":27.064},{"$f":"Obesity!J19","v":32.29},{"$f":"Obesity!K19","v":23.61},{"$f":"Obesity!L19","v":33.667999999999999},{"$f":"Obesity!M19","v":37.902999999999999},{"$f":"Obesity!N19","v":28.78},{"$f":"Obesity!O19","v":33.881},null,{"$f":"Obesity!P19","v":28.32}]
[null,"Lower CI",{"$f":"Obesity!B20","v":31.26},{"$f":"Obesity!C20","v":21.863},{"$f":"Obesity!D20","v":26.154},{"$f":"Obesity!E20","v":29.22},{"$f":"Obesity!F20","v":27.039000000000001},{"$f":"Obesity!G20","v":25.71},{"$f":"Obesity!H20","v":23.68},{"$f":"Obesity!I20","v":23.1},{"$f":"Obesity!J20","v":29.21},{"$f":"Obesity!K20","v":21.15},{"$f":"Obesity!L20","v":28.244},{"$f":"Obesity!M20","v":31.172999999999998},{"$f":"Obesity!N20","v":25.06},{"$f":"Obesity!O20","v":29.402000000000001},null,{"$f":"Obesity!P20","v":27.43}]
[null,"Upper CI",{"$f":"Obesity!B21","v":35.81},{"$f":"Obesity!C21","v":32.28},{"$f":"Obesity!D21","v":35.942999999999998},{"$f":"Obesity!E21","v":34.67},{"$f":"Obesity!F21","v":35.393999999999998},{"$f":"Obesity!G21","v":30.36},{"$f":"Obesity!H21","v":27.64},{"$f":"Obesity!I21","v":31.027999999999999},{"$f":"Obesity!J21","v":35.380000000000003},{"$f":"Obesity!K21","v":26.06},{"$f":"Obesity!L21","v":39.093000000000004},{"$f":"Obesity!M21","v":44.634},{"$f":"Obesity!N21","v":32.51},{"$f":"Obesity!O21","v":38.36},null,{"$f":"Obesity!P21","v":29.2}]
[]
["CLs",null,{"$f":"C36-C37","v":2.2699999999999996},{"$f":"D36-D37","v":5.2089999999999996},4.8939999999999984,2.7300000000000004,4.1769999999999996,2.3299999999999983,1.9800000000000004,3.9639999999999986,3.0799999999999983,2.4600000000000009,5.4239999999999995,6.73,3.7200000000000024,4.4789999999999992,null,0.89000000000000057]

{"sheet":"Fruit and vegetables","index":29,"n_rows":49,"n_cols":16,"rows_kept":49,"cut":false,"hidden":false,"merged":[[4,0,5,0],[0,0,1,0]]}
["Daily fruit and vegetable consumption, three categories, by NHS Board and sex",null,null,null,null,null,null,null,null,null,null,null,"INDEX"]
[]
[]
["Aged 16 and over",null,null,null,null,null,null,null,null,null,null,null,null,null,null,"2013/2014/2015/2016 combined"]
["Daily fruit and vegatable consumption, three categories","NHS Board"]
[null,"Ayrshire & Arran ","Borders","Dumfries & Galloway","Fife","Forth Valley","Grampian","Greater Glasgow & Clyde","Highland","Lanarkshire","Lothian","Orkney","Shetland","Tayside","Western Isles","Scotland"]
[null,"%","%","%","%","%","%","%","%","%","%","%","%","%","%","%"]
["Men"]
["None",{"$f":"'frtveg data'!D2","v":15.31},{"$f":"'frtveg data'!E2","v":12.933},{"$f":"'frtveg data'!F2","v":11.871},{"$f":"'frtveg data'!G2","v":11.42},{"$f":"'frtveg data'!H2","v":13.55},{"$f":"'frtveg data'!I2","v":9.9600000000000009},{"$f":"'frtveg data'!J2","v":14.87},{"$f":"'frtveg data'!K2","v":11.68},{"$f":"'frtveg data'!L2","v":13.86},{"$f":"'frtveg data'!M2","v":10.11},{"$f":"'frtveg data'!N2","v":10.47},{"$f":"'frtveg data'!O2","v":11.811},{"$f":"'frtveg data'!P2","v":11.07},{"$f":"'frtveg data'!Q2","v":9.9420000000000002},{"$f":"'frtveg data'!R2","v":12.47}]
["Lower CI",{"$f":"'frtveg data'!D3","v":12.94},{"$f":"'frtveg data'!E3","v":8.4269999999999996},{"$f":"'frtveg data'!F3","v":7.0519999999999996},{"$f":"'frtveg data'!G3","v":9.1300000000000008},{"$f":"'frtveg data'!H3","v":9.25},{"$f":"'frtveg data'!I3","v":8},{"$f":"'frtveg data'!J3","v":12.52},{"$f":"'frtveg data'!K3","v":8.08},{"$f":"'frtveg data'!L3","v":10.41},{"$f":"'frtveg data'!M3","v":7.72},{"$f":"'frtveg data'!N3","v":5.79},{"$f":"'frtveg data'!O3","v":7.133},{"$f":"'frtveg data'!P3","v":8.1199999999999992},{"$f":"'frtveg data'!Q3","v":6.2750000000000004},{"$f":"'frtveg data'!R3","v":11.52}]
["Upper CI",{"$f":"'frtveg data'!D4","v":17.690000000000001},{"$f":"'frtveg data'!E4","v":17.439},{"$f":"'frtveg data'!F4","v":16.690000000000001},{"$f":"'frtveg data'!G4","v":13.72},{"$f":"'frtveg data'!H4","v":17.850000000000001},{"$f":"'frtveg data'!I4","v":11.92},{"$f":"'frtveg data'!J4","v":17.22},{"$f":"'frtveg data'!K4","v":15.27},{"$f":"'frtveg data'!L4","v":17.32},{"$f":"'frtveg data'!M4","v":12.49},{"$f":"'frtveg data'!N4","v":15.15},{"$f":"'frtveg data'!O4","v":16.488},{"$f":"'frtveg data'!P4","v":14.03},{"$f":"'frtveg data'!Q4","v":13.608000000000001},{"$f":"'frtveg data'!R4","v":13.41}]
["Less than 5 portions",{"$f":"'frtveg data'!D5","v":69.44},{"$f":"'frtveg data'!E5","v":66.661000000000001},{"$f":"'frtveg data'!F5","v":66.036000000000001},{"$f":"'frtveg data'!G5","v":68.84},{"$f":"'frtveg data'!H5","v":65.430000000000007},{"$f":"'frtveg data'!I5","v":71.08},{"$f":"'frtveg data'!J5","v":66.010000000000005},{"$f":"'frtveg data'!K5","v":72.239999999999995},{"$f":"'frtveg data'!L5","v":67.069999999999993},{"$f":"'frtveg data'!M5","v":65.72},{"$f":"'frtveg data'!N5","v":72.122},{"$f":"'frtveg data'!O5","v":69.451999999999998},{"$f":"'frtveg data'!P5","v":69.56},{"$f":"'frtveg data'!Q5","v":67.814999999999998},{"$f":"'frtveg data'!R5","v":67.739999999999995}]
["Lower CI",{"$f":"'frtveg data'!D6","v":66.56},{"$f":"'frtveg data'!E6","v":58.856999999999999},{"$f":"'frtveg data'!F6","v":59.195999999999998},{"$f":"'frtveg data'!G6","v":65.599999999999994},{"$f":"'frtveg data'!H6","v":58.79},{"$f":"'frtveg data'!I6","v":68.25},{"$f":"'frtveg data'!J6","v":63.31},{"$f":"'frtveg data'!K6","v":67.180000000000007},{"$f":"'frtveg data'!L6","v":62.39},{"$f":"'frtveg data'!M6","v":62.11},{"$f":"'frtveg data'!N6","v":65.790000000000006},{"$f":"'frtveg data'!O6","v":63.054000000000002},{"$f":"'frtveg data'!P6","v":64.819999999999993},{"$f":"'frtveg data'!Q6","v":62.383000000000003},{"$f":"'frtveg data'!R6","v":66.459999999999994}]
["Upper CI",{"$f":"'frtveg data'!D7","v":72.31},{"$f":"'frtveg data'!E7","v":74.465000000000003},{"$f":"'frtveg data'!F7","v":72.875},{"$f":"'frtveg data'!G7","v":72.08},{"$f":"'frtveg data'!H7","v":72.069999999999993},{"$f":"'frtveg data'!I7","v":73.92},{"$f":"'frtveg data'!J7","v":68.709999999999994},{"$f":"'frtveg data'!K7","v":77.3},{"$f":"'frtveg data'!L7","v":71.739999999999995},{"$f":"'frtveg data'!M7","v":69.33},{"$f":"'frtveg data'!N7","v":78.453999999999994},{"$f":"'frtveg data'!O7","v":75.849000000000004},{"$f":"'frtveg data'!P7","v":74.3},{"$f":"'frtveg data'!Q7","v":73.248000000000005},{"$f":"'frtveg data'!R7","v":69.02}]
["5 portions or more",{"$f":"'frtveg data'!D8","v":15.25},{"$f":"'frtveg data'!E8","v":20.405999999999999},{"$f":"'frtveg data'!F8","v":22.093},{"$f":"'frtveg data'!G8","v":19.739999999999998},{"$f":"'frtveg data'!H8","v":21.02},{"$f":"'frtveg data'!I8","v":18.96},{"$f":"'frtveg data'!J8","v":19.12},{"$f":"'frtveg data'!K8","v":16.079999999999998},{"$f":"'frtveg data'!L8","v":19.07},{"$f":"'frtveg data'!M8","v":24.17},{"$f":"'frtveg data'!N8","v":17.408000000000001},{"$f":"'frtveg data'!O8","v":18.738},{"$f":"'frtveg data'!P8","v":19.37},{"$f":"'frtveg data'!Q8","v":22.242999999999999},{"$f":"'frtveg data'!R8","v":19.79}]
["Lower CI",{"$f":"'frtveg data'!D9","v":12.72},{"$f":"'frtveg data'!E9","v":14.917999999999999},{"$f":"'frtveg data'!F9","v":16.719000000000001},{"$f":"'frtveg data'!G9","v":16.79},{"$f":"'frtveg data'!H9","v":15.47},{"$f":"'frtveg data'!I9","v":16.48},{"$f":"'frtveg data'!J9","v":16.71},{"$f":"'frtveg data'!K9","v":11.97},{"$f":"'frtveg data'!L9","v":15.39},{"$f":"'frtveg data'!M9","v":20.98},{"$f":"'frtveg data'!N9","v":11.849},{"$f":"'frtveg data'!O9","v":11.821},{"$f":"'frtveg data'!P9","v":15.09},{"$f":"'frtveg data'!Q9","v":17.337},{"$f":"'frtveg data'!R9","v":18.7}]
["Upper CI",{"$f":"'frtveg data'!D10","v":17.79},{"$f":"'frtveg data'!E10","v":25.893999999999998},{"$f":"'frtveg data'!F10","v":27.466999999999999},{"$f":"'frtveg data'!G10","v":22.68},{"$f":"'frtveg data'!H10","v":26.57},{"$f":"'frtveg data'!I10","v":21.44},{"$f":"'frtveg data'!J10","v":21.54},{"$f":"'frtveg data'!K10","v":20.2},{"$f":"'frtveg data'!L10","v":22.75},{"$f":"'frtveg data'!M10","v":27.36},{"$f":"'frtveg data'!N10","v":22.968},{"$f":"'frtveg data'!O10","v":25.655000000000001},{"$f":"'frtveg data'!P10","v":23.64},{"$f":"'frtveg data'!Q10","v":27.149000000000001},{"$f":"'frtveg data'!R10","v":20.89}]
[]
["Women"]
["None",{"$f":"'frtveg data'!D11","v":10.88},{"$f":"'frtveg data'!E11","v":6.2320000000000002},{"$f":"'frtveg data'!F11","v":7.7560000000000002},{"$f":"'frtveg data'!G11","v":7.82},{"$f":"'frtveg data'!H11","v":7.8},{"$f":"'frtveg data'!I11","v":7.19},{"$f":"'frtveg data'!J11","v":9.64},{"$f":"'frtveg data'!K11","v":7.16},{"$f":"'frtveg data'!L11","v":11.28},{"$f":"'frtveg data'!M11","v":7.22},{"$f":"'frtveg data'!N11","v":7.1749999999999998},{"$f":"'frtveg data'!O11","v":6.7359999999999998},{"$f":"'frtveg data'!P11","v":9.24},{"$f":"'frtveg data'!Q11","v":6.3860000000000001},{"$f":"'frtveg data'!R11","v":8.73}]
["Lower CI",{"$f":"'frtveg data'!D12","v":9.01},{"$f":"'frtveg data'!E12","v":3.0049999999999999},{"$f":"'frtveg data'!F12","v":4.2569999999999997},{"$f":"'frtveg data'!G12","v":6.12},{"$f":"'frtveg data'!H12","v":4.87},{"$f":"'frtveg data'!I12","v":5.58},{"$f":"'frtveg data'!J12","v":8},{"$f":"'frtveg data'!K12","v":4.72},{"$f":"'frtveg data'!L12","v":8.6300000000000008},{"$f":"'frtveg data'!M12","v":5.15},{"$f":"'frtveg data'!N12","v":5.1390000000000002},{"$f":"'frtveg data'!O12","v":3.746},{"$f":"'frtveg data'!P12","v":6.28},{"$f":"'frtveg data'!Q12","v":4},{"$f":"'frtveg data'!R12","v":7.99}]
["Upper CI",{"$f":"'frtveg data'!D13","v":12.76},{"$f":"'frtveg data'!E13","v":9.4600000000000009},{"$f":"'frtveg data'!F13","v":11.255000000000001},{"$f":"'frtveg data'!G13","v":9.52},{"$f":"'frtveg data'!H13","v":10.73},{"$f":"'frtveg data'!I13","v":8.81},{"$f":"'frtveg data'!J13","v":11.28},{"$f":"'frtveg data'!K13","v":9.61},{"$f":"'frtveg data'!L13","v":13.93},{"$f":"'frtveg data'!M13","v":9.2899999999999991},{"$f":"'frtveg data'!N13","v":9.2110000000000003},{"$f":"'frtveg data'!O13","v":9.7270000000000003},{"$f":"'frtveg data'!P13","v":12.2},{"$f":"'frtveg data'!Q13","v":8.7710000000000008},{"$f":"'frtveg data'!R13","v":9.4600000000000009}]
["Less than 5 portions",{"$f":"'frtveg data'!D14","v":74.03},{"$f":"'frtveg data'!E14","v":71.153999999999996},{"$f":"'frtveg data'!F14","v":77.388999999999996},{"$f":"'frtveg data'!G14","v":67.349999999999994},{"$f":"'frtveg data'!H14","v":68.400000000000006},{"$f":"'frtveg data'!I14","v":71.11},{"$f":"'frtveg data'!J14","v":68.59},{"$f":"'frtveg data'!K14","v":71.34},{"$f":"'frtveg data'!L14","v":72.66},{"$f":"'frtveg data'!M14","v":65.95},{"$f":"'frtveg data'!N14","v":70.602999999999994},{"$f":"'frtveg data'!O14","v":70.950999999999993},{"$f":"'frtveg data'!P14","v":66.790000000000006},{"$f":"'frtveg data'!Q14","v":71.891999999999996},{"$f":"'frtveg data'!R14","v":69.650000000000006}]
["Lower CI",{"$f":"'frtveg data'!D15","v":71.44},{"$f":"'frtveg data'!E15","v":65.745000000000005},{"$f":"'frtveg data'!F15","v":72.558000000000007},{"$f":"'frtveg data'!G15","v":64.31},{"$f":"'frtveg data'!H15","v":62.95},{"$f":"'frtveg data'!I15","v":68.319999999999993},{"$f":"'frtveg data'!J15","v":66.2},{"$f":"'frtveg data'!K15","v":66.34},{"$f":"'frtveg data'!L15","v":69.36},{"$f":"'frtveg data'!M15","v":62.62},{"$f":"'frtveg data'!N15","v":64.751999999999995},{"$f":"'frtveg data'!O15","v":65.88},{"$f":"'frtveg data'!P15","v":62.59},{"$f":"'frtveg data'!Q15","v":66.061000000000007},{"$f":"'frtveg data'!R15","v":68.59}]
["Upper CI",{"$f":"'frtveg data'!D16","v":76.61},{"$f":"'frtveg data'!E16","v":76.563000000000002},{"$f":"'frtveg data'!F16","v":82.218999999999994},{"$f":"'frtveg data'!G16","v":70.400000000000006},{"$f":"'frtveg data'!H16","v":73.849999999999994},{"$f":"'frtveg data'!I16","v":73.900000000000006},{"$f":"'frtveg data'!J16","v":70.989999999999995},{"$f":"'frtveg data'!K16","v":76.34},{"$f":"'frtveg data'!L16","v":75.95},{"$f":"'frtveg data'!M16","v":69.28},{"$f":"'frtveg data'!N16","v":76.453999999999994},{"$f":"'frtveg data'!O16","v":76.022000000000006},{"$f":"'frtveg data'!P16","v":70.989999999999995},{"$f":"'frtveg data'!Q16","v":77.724000000000004},{"$f":"'frtveg data'!R16","v":70.72}]
["5 portions or more",{"$f":"'frtveg data'!D17","v":15.09},{"$f":"'frtveg data'!E17","v":22.614000000000001},{"$f":"'frtveg data'!F17","v":14.856},{"$f":"'frtveg data'!G17","v":24.82},{"$f":"'frtveg data'!H17","v":23.8},{"$f":"'frtveg data'!I17","v":21.7},{"$f":"'frtveg data'!J17","v":21.77},{"$f":"'frtveg data'!K17","v":21.5},{"$f":"'frtveg data'!L17","v":16.059999999999999},{"$f":"'frtveg data'!M17","v":26.82},{"$f":"'frtveg data'!N17","v":22.222000000000001},{"$f":"'frtveg data'!O17","v":22.312999999999999},{"$f":"'frtveg data'!P17","v":23.96},{"$f":"'frtveg data'!Q17","v":21.722000000000001},{"$f":"'frtveg data'!R17","v":21.62}]
["Lower CI",{"$f":"'frtveg data'!D18","v":12.9},{"$f":"'frtveg data'!E18","v":16.687999999999999},{"$f":"'frtveg data'!F18","v":10.083},{"$f":"'frtveg data'!G18","v":21.95},{"$f":"'frtveg data'!H18","v":18.52},{"$f":"'frtveg data'!I18","v":18.96},{"$f":"'frtveg data'!J18","v":19.559999999999999},{"$f":"'frtveg data'!K18","v":16.88},{"$f":"'frtveg data'!L18","v":13.33},{"$f":"'frtveg data'!M18","v":23.81},{"$f":"'frtveg data'!N18","v":17.082000000000001},{"$f":"'frtveg data'!O18","v":17.260000000000002},{"$f":"'frtveg data'!P18","v":19.420000000000002},{"$f":"'frtveg data'!Q18","v":15.843999999999999},{"$f":"'frtveg data'!R18","v":20.6}]
["Upper CI",{"$f":"'frtveg data'!D19","v":17.29},{"$f":"'frtveg data'!E19","v":28.539000000000001},{"$f":"'frtveg data'!F19","v":19.629000000000001},{"$f":"'frtveg data'!G19","v":27.7},{"$f":"'frtveg data'!H19","v":29.08},{"$f":"'frtveg data'!I19","v":24.44},{"$f":"'frtveg data'!J19","v":23.97},{"$f":"'frtveg data'!K19","v":26.11},{"$f":"'frtveg data'!L19","v":18.79},{"$f":"'frtveg data'!M19","v":29.84},{"$f":"'frtveg data'!N19","v":27.361999999999998},{"$f":"'frtveg data'!O19","v":27.364999999999998},{"$f":"'frtveg data'!P19","v":28.51},{"$f":"'frtveg data'!Q19","v":27.600999999999999},{"$f":"'frtveg data'!R19","v":22.64}]
[]
["All Adults"]
["None",{"$f":"'frtveg data'!D20","v":12.92},{"$f":"'frtveg data'!E20","v":9.266},{"$f":"'frtveg data'!F20","v":9.7620000000000005},{"$f":"'frtveg data'!G20","v":9.56},{"$f":"'frtveg data'!H20","v":10.52},{"$f":"'frtveg data'!I20","v":8.51},{"$f":"'frtveg data'!J20","v":12.14},{"$f":"'frtveg data'!K20","v":9.33},{"$f":"'frtveg data'!L20","v":12.51},{"$f":"'frtveg data'!M20","v":8.68},{"$f":"'frtveg data'!N20","v":8.8170000000000002},{"$f":"'frtveg data'!O20","v":9.3529999999999998},{"$f":"'frtveg data'!P20","v":10.1},{"$f":"'frtveg data'!Q20","v":8.1620000000000008},{"$f":"'frtveg data'!R20","v":10.52}]
["Lower CI",{"$f":"'frtveg data'!D21","v":11.23},{"$f":"'frtveg data'!E21","v":6.2489999999999997},{"$f":"'frtveg data'!F21","v":6.6870000000000003},{"$f":"'frtveg data'!G21","v":7.96},{"$f":"'frtveg data'!H21","v":7.88},{"$f":"'frtveg data'!I21","v":7.07},{"$f":"'frtveg data'!J21","v":10.51},{"$f":"'frtveg data'!K21","v":7.25},{"$f":"'frtveg data'!L21","v":10.029999999999999},{"$f":"'frtveg data'!M21","v":6.94},{"$f":"'frtveg data'!N21","v":6.2370000000000001},{"$f":"'frtveg data'!O21","v":6.2569999999999997},{"$f":"'frtveg data'!P21","v":7.76},{"$f":"'frtveg data'!Q21","v":5.9130000000000003},{"$f":"'frtveg data'!R21","v":9.86}]
["Upper CI",{"$f":"'frtveg data'!D22","v":14.62},{"$f":"'frtveg data'!E22","v":12.282},{"$f":"'frtveg data'!F22","v":12.837999999999999},{"$f":"'frtveg data'!G22","v":11.16},{"$f":"'frtveg data'!H22","v":13.15},{"$f":"'frtveg data'!I22","v":9.94},{"$f":"'frtveg data'!J22","v":13.77},{"$f":"'frtveg data'!K22","v":11.41},{"$f":"'frtveg data'!L22","v":14.98},{"$f":"'frtveg data'!M22","v":10.42},{"$f":"'frtveg data'!N22","v":11.398},{"$f":"'frtveg data'!O22","v":12.45},{"$f":"'frtveg data'!P22","v":12.45},{"$f":"'frtveg data'!Q22","v":10.412000000000001},{"$f":"'frtveg data'!R22","v":11.19}]
["Less than 5 portions",{"$f":"'frtveg data'!D23","v":71.91},{"$f":"'frtveg data'!E23","v":69.12},{"$f":"'frtveg data'!F23","v":71.852999999999994},{"$f":"'frtveg data'!G23","v":68.069999999999993},{"$f":"'frtveg data'!H23","v":67},{"$f":"'frtveg data'!I23","v":71.099999999999994},{"$f":"'frtveg data'!J23","v":67.36},{"$f":"'frtveg data'!K23","v":71.77},{"$f":"'frtveg data'!L23","v":70},{"$f":"'frtveg data'!M23","v":65.84},{"$f":"'frtveg data'!N23","v":71.36},{"$f":"'frtveg data'!O23","v":70.177999999999997},{"$f":"'frtveg data'!P23","v":68.09},{"$f":"'frtveg data'!Q23","v":69.855000000000004},{"$f":"'frtveg data'!R23","v":68.73}]
["Lower CI",{"$f":"'frtveg data'!D24","v":69.59},{"$f":"'frtveg data'!E24","v":63.783999999999999},{"$f":"'frtveg data'!F24","v":67.388000000000005},{"$f":"'frtveg data'!G24","v":65.680000000000007},{"$f":"'frtveg data'!H24","v":62.51},{"$f":"'frtveg data'!I24","v":68.94},{"$f":"'frtveg data'!J24","v":65.38},{"$f":"'frtveg data'!K24","v":68.08},{"$f":"'frtveg data'!L24","v":66.930000000000007},{"$f":"'frtveg data'!M24","v":63.15},{"$f":"'frtveg data'!N24","v":67.343999999999994},{"$f":"'frtveg data'!O24","v":66.168999999999997},{"$f":"'frtveg data'!P24","v":64.430000000000007},{"$f":"'frtveg data'!Q24","v":65.605000000000004},{"$f":"'frtveg data'!R24","v":67.84}]
["Upper CI",{"$f":"'frtveg data'!D25","v":74.239999999999995},{"$f":"'frtveg data'!E25","v":74.456999999999994},{"$f":"'frtveg data'!F25","v":76.317999999999998},{"$f":"'frtveg data'!G25","v":70.459999999999994},{"$f":"'frtveg data'!H25","v":71.48},{"$f":"'frtveg data'!I25","v":73.25},{"$f":"'frtveg data'!J25","v":69.34},{"$f":"'frtveg data'!K25","v":75.47},{"$f":"'frtveg data'!L25","v":73.06},{"$f":"'frtveg data'!M25","v":68.52},{"$f":"'frtveg data'!N25","v":75.376000000000005},{"$f":"'frtveg data'!O25","v":74.186999999999998},{"$f":"'frtveg data'!P25","v":71.75},{"$f":"'frtveg data'!Q25","v":74.105000000000004},{"$f":"'frtveg data'!R25","v":69.63}]
["5 portions or more",{"$f":"'frtveg data'!D26","v":15.16},{"$f":"'frtveg data'!E26","v":21.614000000000001},{"$f":"'frtveg data'!F26","v":18.384},{"$f":"'frtveg data'!G26","v":22.37},{"$f":"'frtveg data'!H26","v":22.49},{"$f":"'frtveg data'!I26","v":20.399999999999999},{"$f":"'frtveg data'!J26","v":20.5},{"$f":"'frtveg data'!K26","v":18.899999999999999},{"$f":"'frtveg data'!L26","v":17.489999999999998},{"$f":"'frtveg data'!M26","v":25.48},{"$f":"'frtveg data'!N26","v":19.823},{"$f":"'frtveg data'!O26","v":20.469000000000001},{"$f":"'frtveg data'!P26","v":21.81},{"$f":"'frtveg data'!Q26","v":21.981999999999999},{"$f":"'frtveg data'!R26","v":20.74}]
["Lower CI",{"$f":"'frtveg data'!D27","v":13.21},{"$f":"'frtveg data'!E27","v":17.065999999999999},{"$f":"'frtveg data'!F27","v":14.177},{"$f":"'frtveg data'!G27","v":20.21},{"$f":"'frtveg data'!H27","v":18.309999999999999},{"$f":"'frtveg data'!I27","v":18.37},{"$f":"'frtveg data'!J27","v":18.670000000000002},{"$f":"'frtveg data'!K27","v":15.54},{"$f":"'frtveg data'!L27","v":15.09},{"$f":"'frtveg data'!M27","v":22.98},{"$f":"'frtveg data'!N27","v":15.762},{"$f":"'frtveg data'!O27","v":15.715},{"$f":"'frtveg data'!P27","v":18.07},{"$f":"'frtveg data'!Q27","v":17.515999999999998},{"$f":"'frtveg data'!R27","v":19.920000000000002}]
["Upper CI",{"$f":"'frtveg data'!D28","v":17.12},{"$f":"'frtveg data'!E28","v":26.163},{"$f":"'frtveg data'!F28","v":22.591999999999999},{"$f":"'frtveg data'!G28","v":24.53},{"$f":"'frtveg data'!H28","v":26.67},{"$f":"'frtveg data'!I28","v":22.42},{"$f":"'frtveg data'!J28","v":22.33},{"$f":"'frtveg data'!K28","v":22.25},{"$f":"'frtveg data'!L28","v":19.899999999999999},{"$f":"'frtveg data'!M28","v":27.99},{"$f":"'frtveg data'!N28","v":23.884},{"$f":"'frtveg data'!O28","v":25.222999999999999},{"$f":"'frtveg data'!P28","v":25.54},{"$f":"'frtveg data'!Q28","v":26.449000000000002},{"$f":"'frtveg data'!R28","v":21.57}]
[]
[]
["Bases (weighted):"]
["Men",{"$f":"'frtveg data'!D29","v":606.12},{"$f":"'frtveg data'!E29","v":183.85599999999999},{"$f":"'frtveg data'!F29","v":262.10599999999999},{"$f":"'frtveg data'!G29","v":618.84},{"$f":"'frtveg data'!H29","v":494.73},{"$f":"'frtveg data'!I29","v":977.8},{"$f":"'frtveg data'!J29","v":1880.15},{"$f":"'frtveg data'!K29","v":541.45000000000005},{"$f":"'frtveg data'!L29","v":1147.4000000000001},{"$f":"'frtveg data'!M29","v":1530.31},{"$f":"'frtveg data'!N29","v":38.805},{"$f":"'frtveg data'!O29","v":41.939},{"$f":"'frtveg data'!P29","v":681.92},{"$f":"'frtveg data'!Q29","v":48.445999999999998},{"$f":"'frtveg data'!R29","v":9053.8799999999992}]
["Women",{"$f":"'frtveg data'!D30","v":710.87},{"$f":"'frtveg data'!E30","v":222.27600000000001},{"$f":"'frtveg data'!F30","v":275.46600000000001},{"$f":"'frtveg data'!G30","v":663.33},{"$f":"'frtveg data'!H30","v":552.52},{"$f":"'frtveg data'!I30","v":1079.33},{"$f":"'frtveg data'!J30","v":2051.62},{"$f":"'frtveg data'!K30","v":586.85},{"$f":"'frtveg data'!L30","v":1263.93},{"$f":"'frtveg data'!M30","v":1496.34},{"$f":"'frtveg data'!N30","v":39.048000000000002},{"$f":"'frtveg data'!O30","v":39.383000000000003},{"$f":"'frtveg data'!P30","v":771.2},{"$f":"'frtveg data'!Q30","v":48.518000000000001},{"$f":"'frtveg data'!R30","v":9800.67}]
["All Adults",{"$f":"'frtveg data'!D31","v":1316.99},{"$f":"'frtveg data'!E31","v":406.13299999999998},{"$f":"'frtveg data'!F31","v":537.572},{"$f":"'frtveg data'!G31","v":1282.17},{"$f":"'frtveg data'!H31","v":1047.25},{"$f":"'frtveg data'!I31","v":2057.13},{"$f":"'frtveg data'!J31","v":3931.77},{"$f":"'frtveg data'!K31","v":1128.31},{"$f":"'frtveg data'!L31","v":2411.33},{"$f":"'frtveg data'!M31","v":3026.64},{"$f":"'frtveg data'!N31","v":77.852999999999994},{"$f":"'frtveg data'!O31","v":81.322000000000003},{"$f":"'frtveg data'!P31","v":1453.11},{"$f":"'frtveg data'!Q31","v":96.963999999999999},{"$f":"'frtveg data'!R31","v":18854.55}]
["Bases (unweighted)"]
["Men",{"$f":"'frtveg data'!D32","v":948},{"$f":"'frtveg data'!E32","v":199},{"$f":"'frtveg data'!F32","v":221},{"$f":"'frtveg data'!G32","v":902},{"$f":"'frtveg data'!H32","v":306},{"$f":"'frtveg data'!I32","v":1133},{"$f":"'frtveg data'!J32","v":1341},{"$f":"'frtveg data'!K32","v":355},{"$f":"'frtveg data'!L32","v":660},{"$f":"'frtveg data'!M32","v":935},{"$f":"'frtveg data'!N32","v":234},{"$f":"'frtveg data'!O32","v":247},{"$f":"'frtveg data'!P32","v":472},{"$f":"'frtveg data'!Q32","v":387},{"$f":"'frtveg data'!R32","v":8340}]
["Women",{"$f":"'frtveg data'!D33","v":1209},{"$f":"'frtveg data'!E33","v":278},{"$f":"'frtveg data'!F33","v":258},{"$f":"'frtveg data'!G33","v":1142},{"$f":"'frtveg data'!H33","v":411},{"$f":"'frtveg data'!I33","v":1429},{"$f":"'frtveg data'!J33","v":1748},{"$f":"'frtveg data'!K33","v":463},{"$f":"'frtveg data'!L33","v":878},{"$f":"'frtveg data'!M33","v":1105},{"$f":"'frtveg data'!N33","v":271},{"$f":"'frtveg data'!O33","v":277},{"$f":"'frtveg data'!P33","v":590},{"$f":"'frtveg data'!Q33","v":461},{"$f":"'frtveg data'!R33","v":10520}]
["All Adults",{"$f":"'frtveg data'!D34","v":2157},{"$f":"'frtveg data'!E34","v":477},{"$f":"'frtveg data'!F34","v":479},{"$f":"'frtveg data'!G34","v":2044},{"$f":"'frtveg data'!H34","v":717},{"$f":"'frtveg data'!I34","v":2562},{"$f":"'frtveg data'!J34","v":3089},{"$f":"'frtveg data'!K34","v":818},{"$f":"'frtveg data'!L34","v":1538},{"$f":"'frtveg data'!M34","v":2040},{"$f":"'frtveg data'!N34","v":505},{"$f":"'frtveg data'!O34","v":524},{"$f":"'frtveg data'!P34","v":1062},{"$f":"'frtveg data'!Q34","v":848},{"$f":"'frtveg data'!R34","v":18860}]

{"sheet":"frtveg data","index":30,"n_rows":34,"n_cols":18,"rows_kept":34,"cut":false,"hidden":true,"merged":[]}
["F_sex","F_porftvg3","_NAME_","Ayrshire & Arran","Borders","Dumfries & Galloway","Fife","Forth Valley","Grampian","Greater Glasgow","Highland","Lanarkshire","Lothian","Orkney","Shetland","Tayside","Western Isles","Scotland"]
["Male","None","RowPercent",15.31,12.933,11.871,11.42,13.55,9.9600000000000009,14.87,11.68,13.86,10.11,10.47,11.811,11.07,9.9420000000000002,12.47]
["Male","None","RowLowerCL",12.94,8.4269999999999996,7.0519999999999996,9.1300000000000008,9.25,8,12.52,8.08,10.41,7.72,5.79,7.133,8.1199999999999992,6.2750000000000004,11.52]
["Male","None","RowUpperCL",17.690000000000001,17.439,16.690000000000001,13.72,17.850000000000001,11.92,17.22,15.27,17.32,12.49,15.15,16.488,14.03,13.608000000000001,13.41]
["Male","Less than 5 portions","RowPercent",69.44,66.661000000000001,66.036000000000001,68.84,65.430000000000007,71.08,66.010000000000005,72.239999999999995,67.069999999999993,65.72,72.122,69.451999999999998,69.56,67.814999999999998,67.739999999999995]
["Male","Less than 5 portions","RowLowerCL",66.56,58.856999999999999,59.195999999999998,65.599999999999994,58.79,68.25,63.31,67.180000000000007,62.39,62.11,65.790000000000006,63.054000000000002,64.819999999999993,62.383000000000003,66.459999999999994]
["Male","Less than 5 portions","RowUpperCL",72.31,74.465000000000003,72.875,72.08,72.069999999999993,73.92,68.709999999999994,77.3,71.739999999999995,69.33,78.453999999999994,75.849000000000004,74.3,73.248000000000005,69.02]
["Male","5 portions or more","RowPercent",15.25,20.405999999999999,22.093,19.739999999999998,21.02,18.96,19.12,16.079999999999998,19.07,24.17,17.408000000000001,18.738,19.37,22.242999999999999,19.79]
["Male","5 portions or more","RowLowerCL",12.72,14.917999999999999,16.719000000000001,16.79,15.47,16.48,16.71,11.97,15.39,20.98,11.849,11.821,15.09,17.337,18.7]
["Male","5 portions or more","RowUpperCL",17.79,25.893999999999998,27.466999999999999,22.68,26.57,21.44,21.54,20.2,22.75,27.36,22.968,25.655000000000001,23.64,27.149000000000001,20.89]
["Female","None","RowPercent",10.88,6.2320000000000002,7.7560000000000002,7.82,7.8,7.19,9.64,7.16,11.28,7.22,7.1749999999999998,6.7359999999999998,9.24,6.3860000000000001,8.73]
["Female","None","RowLowerCL",9.01,3.0049999999999999,4.2569999999999997,6.12,4.87,5.58,8,4.72,8.6300000000000008,5.15,5.1390000000000002,3.746,6.28,4,7.99]
["Female","None","RowUpperCL",12.76,9.4600000000000009,11.255000000000001,9.52,10.73,8.81,11.28,9.61,13.93,9.2899999999999991,9.2110000000000003,9.7270000000000003,12.2,8.7710000000000008,9.4600000000000009]
["Female","Less than 5 portions","RowPercent",74.03,71.153999999999996,77.388999999999996,67.349999999999994,68.400000000000006,71.11,68.59,71.34,72.66,65.95,70.602999999999994,70.950999999999993,66.790000000000006,71.891999999999996,69.650000000000006]
["Female","Less than 5 portions","RowLowerCL",71.44,65.745000000000005,72.558000000000007,64.31,62.95,68.319999999999993,66.2,66.34,69.36,62.62,64.751999999999995,65.88,62.59,66.061000000000007,68.59]
["Female","Less than 5 portions","RowUpperCL",76.61,76.563000000000002,82.218999999999994,70.400000000000006,73.849999999999994,73.900000000000006,70.989999999999995,76.34,75.95,69.28,76.453999999999994,76.022000000000006,70.989999999999995,77.724000000000004,70.72]
["Female","5 portions or more","RowPercent",15.09,22.614000000000001,14.856,24.82,23.8,21.7,21.77,21.5,16.059999999999999,26.82,22.222000000000001,22.312999999999999,23.96,21.722000000000001,21.62]
["Female","5 portions or more","RowLowerCL",12.9,16.687999999999999,10.083,21.95,18.52,18.96,19.559999999999999,16.88,13.33,23.81,17.082000000000001,17.260000000000002,19.420000000000002,15.843999999999999,20.6]
["Female","5 portions or more","RowUpperCL",17.29,28.539000000000001,19.629000000000001,27.7,29.08,24.44,23.97,26.11,18.79,29.84,27.361999999999998,27.364999999999998,28.51,27.600999999999999,22.64]
["Total","None","RowPercent",12.92,9.266,9.7620000000000005,9.56,10.52,8.51,12.14,9.33,12.51,8.68,8.8170000000000002,9.3529999999999998,10.1,8.1620000000000008,10.52]
["Total","None","RowLowerCL",11.23,6.2489999999999997,6.6870000000000003,7.96,7.88,7.07,10.51,7.25,10.029999999999999,6.94,6.2370000000000001,6.2569999999999997,7.76,5.9130000000000003,9.86]
["Total","None","RowUpperCL",14.62,12.282,12.837999999999999,11.16,13.15,9.94,13.77,11.41,14.98,10.42,11.398,12.45,12.45,10.412000000000001,11.19]
["Total","Less than 5 portions","RowPercent",71.91,69.12,71.852999999999994,68.069999999999993,67,71.099999999999994,67.36,71.77,70,65.84,71.36,70.177999999999997,68.09,69.855000000000004,68.73]
["Total","Less than 5 portions","RowLowerCL",69.59,63.783999999999999,67.388000000000005,65.680000000000007,62.51,68.94,65.38,68.08,66.930000000000007,63.15,67.343999999999994,66.168999999999997,64.430000000000007,65.605000000000004,67.84]
["Total","Less than 5 portions","RowUpperCL",74.239999999999995,74.456999999999994,76.317999999999998,70.459999999999994,71.48,73.25,69.34,75.47,73.06,68.52,75.376000000000005,74.186999999999998,71.75,74.105000000000004,69.63]
["Total","5 portions or more","RowPercent",15.16,21.614000000000001,18.384,22.37,22.49,20.399999999999999,20.5,18.899999999999999,17.489999999999998,25.48,19.823,20.469000000000001,21.81,21.981999999999999,20.74]
["Total","5 portions or more","RowLowerCL",13.21,17.065999999999999,14.177,20.21,18.309999999999999,18.37,18.670000000000002,15.54,15.09,22.98,15.762,15.715,18.07,17.515999999999998,19.920000000000002]
["Total","5 portions or more","RowUpperCL",17.12,26.163,22.591999999999999,24.53,26.67,22.42,22.33,22.25,19.899999999999999,27.99,23.884,25.222999999999999,25.54,26.449000000000002,21.57]
["Male",".","WgtFreq",606.12,183.85599999999999,262.10599999999999,618.84,494.73,977.8,1880.15,541.45000000000005,1147.4000000000001,1530.31,38.805,41.939,681.92,48.445999999999998,9053.8799999999992]
["Female",".","WgtFreq",710.87,222.27600000000001,275.46600000000001,663.33,552.52,1079.33,2051.62,586.85,1263.93,1496.34,39.048000000000002,39.383000000000003,771.2,48.518000000000001,9800.67]
["Total",".","WgtFreq",1316.99,406.13299999999998,537.572,1282.17,1047.25,2057.13,3931.77,1128.31,2411.33,3026.64,77.852999999999994,81.322000000000003,1453.11,96.963999999999999,18854.55]
["Male",".","Frequency",948,199,221,902,306,1133,1341,355,660,935,234,247,472,387,8340]
["Female",".","Frequency",1209,278,258,1142,411,1429,1748,463,878,1105,271,277,590,461,10520]
["Total",".","Frequency",2157,477,479,2044,717,2562,3089,818,1538,2040,505,524,1062,848,18860]

{"sheet":"Fruit and veg chart","index":31,"n_rows":48,"n_cols":18,"rows_kept":48,"cut":false,"hidden":false,"merged":[[31,2,32,14]]}
[null,null,null,null,null,null,null,null,null,null,null,null,null,null,null,null,null,"INDEX"]
[]
[]
[]
[]
[]
[]
[]
[]
[]
[]
[]
[]
[]
[]
[]
[]
[]
[]
[]
[]
[]
[]
[]
[]
[]
[]
[]
[]
[]
[null,null,"Source: Scottish Health Survey"]
[]
[]
[null,null,"Ayrshire & Arran ","Borders","Dumfries & Galloway","Fife","Forth Valley","Grampian","Greater Glasgow & Clyde","Highland","Lanarkshire","Lothian","Orkney","Shetland","Tayside","Western Isles",null,"Scotland"]
[null,"All Adults"]
[null,"None",{"$f":"'Fruit and vegetables'!B31","v":12.92},{"$f":"'Fruit and vegetables'!C31","v":9.266},{"$f":"'Fruit and vegetables'!D31","v":9.7620000000000005},{"$f":"'Fruit and vegetables'!E31","v":9.56},{"$f":"'Fruit and vegetables'!F31","v":10.52},{"$f":"'Fruit and vegetables'!G31","v":8.51},{"$f":"'Fruit and vegetables'!H31","v":12.14},{"$f":"'Fruit and vegetables'!I31","v":9.33},{"$f":"'Fruit and vegetables'!J31","v":12.51},{"$f":"'Fruit and vegetables'!K31","v":8.68},{"$f":"'Fruit and vegetables'!L31","v":8.8170000000000002},{"$f":"'Fruit and vegetables'!M31","v":9.3529999999999998},{"$f":"'Fruit and vegetables'!N31","v":10.1},{"$f":"'Fruit and vegetables'!O31","v":8.1620000000000008},null,{"$f":"'Fruit and vegetables'!P31","v":10.52}]
[null,"Lower CI",{"$f":"'Fruit and vegetables'!B32","v":11.23},{"$f":"'Fruit and vegetables'!C32","v":6.2489999999999997},{"$f":"'Fruit and vegetables'!D32","v":6.6870000000000003},{"$f":"'Fruit and vegetables'!E32","v":7.96},{"$f":"'Fruit and vegetables'!F32","v":7.88},{"$f":"'Fruit and vegetables'!G32","v":7.07},{"$f":"'Fruit and vegetables'!H32","v":10.51},{"$f":"'Fruit and vegetables'!I32","v":7.25},{"$f":"'Fruit and vegetables'!J32","v":10.029999999999999},{"$f":"'Fruit and vegetables'!K32","v":6.94},{"$f":"'Fruit and vegetables'!L32","v":6.2370000000000001},{"$f":"'Fruit and vegetables'!M32","v":6.2569999999999997},{"$f":"'Fruit and vegetables'!N32","v":7.76},{"$f":"'Fruit and vegetables'!O32","v":5.9130000000000003},null,{"$f":"'Fruit and vegetables'!P32","v":9.86}]
[null,"Upper CI",{"$f":"'Fruit and vegetables'!B33","v":14.62},{"$f":"'Fruit and vegetables'!C33","v":12.282},{"$f":"'Fruit and vegetables'!D33","v":12.837999999999999},{"$f":"'Fruit and vegetables'!E33","v":11.16},{"$f":"'Fruit and vegetables'!F33","v":13.15},{"$f":"'Fruit and vegetables'!G33","v":9.94},{"$f":"'Fruit and vegetables'!H33","v":13.77},{"$f":"'Fruit and vegetables'!I33","v":11.41},{"$f":"'Fruit and vegetables'!J33","v":14.98},{"$f":"'Fruit and vegetables'!K33","v":10.42},{"$f":"'Fruit and vegetables'!L33","v":11.398},{"$f":"'Fruit and vegetables'!M33","v":12.45},{"$f":"'Fruit and vegetables'!N33","v":12.45},{"$f":"'Fruit and vegetables'!O33","v":10.412000000000001},null,{"$f":"'Fruit and vegetables'!P33","v":11.19}]
[null,"Less than 5 portions",{"$f":"'Fruit and vegetables'!B34","v":71.91},{"$f":"'Fruit and vegetables'!C34","v":69.12},{"$f":"'Fruit and vegetables'!D34","v":71.852999999999994},{"$f":"'Fruit and vegetables'!E34","v":68.069999999999993},{"$f":"'Fruit and vegetables'!F34","v":67},{"$f":"'Fruit and vegetables'!G34","v":71.099999999999994},{"$f":"'Fruit and vegetables'!H34","v":67.36},{"$f":"'Fruit and vegetables'!I34","v":71.77},{"$f":"'Fruit and vegetables'!J34","v":70},{"$f":"'Fruit and vegetables'!K34","v":65.84},{"$f":"'Fruit and vegetables'!L34","v":71.36},{"$f":"'Fruit and vegetables'!M34","v":70.177999999999997},{"$f":"'Fruit and vegetables'!N34","v":68.09},{"$f":"'Fruit and vegetables'!O34","v":69.855000000000004},null,{"$f":"'Fruit and vegetables'!P34","v":68.73}]
[null,"Lower CI",{"$f":"'Fruit and vegetables'!B35","v":69.59},{"$f":"'Fruit and vegetables'!C35","v":63.783999999999999},{"$f":"'Fruit and vegetables'!D35","v":67.388000000000005},{"$f":"'Fruit and vegetables'!E35","v":65.680000000000007},{"$f":"'Fruit and vegetables'!F35","v":62.51},{"$f":"'Fruit and vegetables'!G35","v":68.94},{"$f":"'Fruit and vegetables'!H35","v":65.38},{"$f":"'Fruit and vegetables'!I35","v":68.08},{"$f":"'Fruit and vegetables'!J35","v":66.930000000000007},{"$f":"'Fruit and vegetables'!K35","v":63.15},{"$f":"'Fruit and vegetables'!L35","v":67.343999999999994},{"$f":"'Fruit and vegetables'!M35","v":66.168999999999997},{"$f":"'Fruit and vegetables'!N35","v":64.430000000000007},{"$f":"'Fruit and vegetables'!O35","v":65.605000000000004},null,{"$f":"'Fruit and vegetables'!P35","v":67.84}]
[null,"Upper CI",{"$f":"'Fruit and vegetables'!B36","v":74.239999999999995},{"$f":"'Fruit and vegetables'!C36","v":74.456999999999994},{"$f":"'Fruit and vegetables'!D36","v":76.317999999999998},{"$f":"'Fruit and vegetables'!E36","v":70.459999999999994},{"$f":"'Fruit and vegetables'!F36","v":71.48},{"$f":"'Fruit and vegetables'!G36","v":73.25},{"$f":"'Fruit and vegetables'!H36","v":69.34},{"$f":"'Fruit and vegetables'!I36","v":75.47},{"$f":"'Fruit and vegetables'!J36","v":73.06},{"$f":"'Fruit and vegetables'!K36","v":68.52},{"$f":"'Fruit and vegetables'!L36","v":75.376000000000005},{"$f":"'Fruit and vegetables'!M36","v":74.186999999999998},{"$f":"'Fruit and vegetables'!N36","v":71.75},{"$f":"'Fruit and vegetables'!O36","v":74.105000000000004},null,{"$f":"'Fruit and vegetables'!P36","v":69.63}]
[null,"5 portions or more",{"$f":"'Fruit and vegetables'!B37","v":15.16},{"$f":"'Fruit and vegetables'!C37","v":21.614000000000001},{"$f":"'Fruit and vegetables'!D37","v":18.384},{"$f":"'Fruit and vegetables'!E37","v":22.37},{"$f":"'Fruit and vegetables'!F37","v":22.49},{"$f":"'Fruit and vegetables'!G37","v":20.399999999999999},{"$f":"'Fruit and vegetables'!H37","v":20.5},{"$f":"'Fruit and vegetables'!I37","v":18.899999999999999},{"$f":"'Fruit and vegetables'!J37","v":17.489999999999998},{"$f":"'Fruit and vegetables'!K37","v":25.48},{"$f":"'Fruit and vegetables'!L37","v":19.823},{"$f":"'Fruit and vegetables'!M37","v":20.469000000000001},{"$f":"'Fruit and vegetables'!N37","v":21.81},{"$f":"'Fruit and vegetables'!O37","v":21.981999999999999},null,{"$f":"'Fruit and vegetables'!P37","v":20.74}]
[null,"Lower CI",{"$f":"'Fruit and vegetables'!B38","v":13.21},{"$f":"'Fruit and vegetables'!C38","v":17.065999999999999},{"$f":"'Fruit and vegetables'!D38","v":14.177},{"$f":"'Fruit and vegetables'!E38","v":20.21},{"$f":"'Fruit and vegetables'!F38","v":18.309999999999999},{"$f":"'Fruit and vegetables'!G38","v":18.37},{"$f":"'Fruit and vegetables'!H38","v":18.670000000000002},{"$f":"'Fruit and vegetables'!I38","v":15.54},{"$f":"'Fruit and vegetables'!J38","v":15.09},{"$f":"'Fruit and vegetables'!K38","v":22.98},{"$f":"'Fruit and vegetables'!L38","v":15.762},{"$f":"'Fruit and vegetables'!M38","v":15.715},{"$f":"'Fruit and vegetables'!N38","v":18.07},{"$f":"'Fruit and vegetables'!O38","v":17.515999999999998},null,{"$f":"'Fruit and vegetables'!P38","v":19.920000000000002}]
[null,"Upper CI",{"$f":"'Fruit and vegetables'!B39","v":17.12},{"$f":"'Fruit and vegetables'!C39","v":26.163},{"$f":"'Fruit and vegetables'!D39","v":22.591999999999999},{"$f":"'Fruit and vegetables'!E39","v":24.53},{"$f":"'Fruit and vegetables'!F39","v":26.67},{"$f":"'Fruit and vegetables'!G39","v":22.42},{"$f":"'Fruit and vegetables'!H39","v":22.33},{"$f":"'Fruit and vegetables'!I39","v":22.25},{"$f":"'Fruit and vegetables'!J39","v":19.899999999999999},{"$f":"'Fruit and vegetables'!K39","v":27.99},{"$f":"'Fruit and vegetables'!L39","v":23.884},{"$f":"'Fruit and vegetables'!M39","v":25.222999999999999},{"$f":"'Fruit and vegetables'!N39","v":25.54},{"$f":"'Fruit and vegetables'!O39","v":26.449000000000002},null,{"$f":"'Fruit and vegetables'!P39","v":21.57}]
[]
["CLs","None",{"$f":"C36-C37","v":1.6899999999999995},{"$f":"D36-D37","v":3.0170000000000003},3.0750000000000002,1.6000000000000005,2.6399999999999997,1.4399999999999995,1.6300000000000008,2.08,2.4800000000000004,1.7399999999999993,2.58,3.0960000000000001,2.34,2.2490000000000006,null,{"$f":"R36-R37","v":0.66000000000000014}]
[null,"Less than 5 portions",{"$f":"C39-C40","v":2.3199999999999932},{"$f":"D39-D40","v":5.3360000000000056},4.4649999999999892,2.3899999999999864,4.490000000000002,2.1599999999999966,1.980000000000004,3.6899999999999977,3.0699999999999932,2.6900000000000048,4.0160000000000053,4.0090000000000003,3.6599999999999966,4.25,null,{"$f":"R39-R40","v":0.89000000000000057}]
[null,"5 portions or more",{"$f":"C42-C43","v":1.9499999999999993},{"$f":"D42-D43","v":4.5480000000000018},4.2070000000000007,2.16,4.18,2.0299999999999976,1.8299999999999983,3.3599999999999994,2.3999999999999986,2.5,4.0609999999999999,4.7540000000000013,3.7399999999999984,4.4660000000000011,null,{"$f":"R42-R43","v":0.81999999999999673}]

{"sheet":"Mean fruit and vegetables","index":32,"n_rows":29,"n_cols":16,"rows_kept":29,"cut":false,"hidden":false,"merged":[[4,0,5,0],[0,0,1,0]]}
["Mean daily portions of fruit and vegetables, by NHS Board and sex",null,null,null,null,null,null,null,null,null,null,null,"INDEX"]
[]
[]
["Aged 16 and over",null,null,null,null,null,null,null,null,null,null,null,null,null,null,"2013/2014/2015/2016 combined"]
["Mean daily portions of fruit and vegetables","NHS Board"]
[null,"Ayrshire & Arran ","Borders","Dumfries & Galloway","Fife","Forth Valley","Grampian","Greater Glasgow & Clyde","Highland","Lanarkshire","Lothian","Orkney","Shetland","Tayside","Western Isles","Scotland"]
["Men"]
["Mean",{"$f":"'meanfrtveg data'!C2","v":2.67},{"$f":"'meanfrtveg data'!D2","v":3.117},{"$f":"'meanfrtveg data'!E2","v":3.2189999999999999},{"$f":"'meanfrtveg data'!F2","v":3.05},{"$f":"'meanfrtveg data'!G2","v":3.12},{"$f":"'meanfrtveg data'!H2","v":3.12},{"$f":"'meanfrtveg data'!I2","v":2.87},{"$f":"'meanfrtveg data'!J2","v":2.98},{"$f":"'meanfrtveg data'!K2","v":2.84},{"$f":"'meanfrtveg data'!L2","v":3.33},{"$f":"'meanfrtveg data'!M2","v":2.9649999999999999},{"$f":"'meanfrtveg data'!N2","v":2.8860000000000001},{"$f":"'meanfrtveg data'!O2","v":2.91},{"$f":"'meanfrtveg data'!P2","v":3.22},{"$f":"'meanfrtveg data'!Q2","v":3.01}]
["Lower CI",{"$f":"'meanfrtveg data'!C3","v":2.5},{"$f":"'meanfrtveg data'!D3","v":2.847},{"$f":"'meanfrtveg data'!E3","v":2.9},{"$f":"'meanfrtveg data'!F3","v":2.86},{"$f":"'meanfrtveg data'!G3","v":2.76},{"$f":"'meanfrtveg data'!H3","v":2.95},{"$f":"'meanfrtveg data'!I3","v":2.72},{"$f":"'meanfrtveg data'!J3","v":2.69},{"$f":"'meanfrtveg data'!K3","v":2.61},{"$f":"'meanfrtveg data'!L3","v":3.12},{"$f":"'meanfrtveg data'!M3","v":2.6179999999999999},{"$f":"'meanfrtveg data'!N3","v":2.5489999999999999},{"$f":"'meanfrtveg data'!O3","v":2.64},{"$f":"'meanfrtveg data'!P3","v":2.94},{"$f":"'meanfrtveg data'!Q3","v":2.94}]
["Upper CI",{"$f":"'meanfrtveg data'!C4","v":2.83},{"$f":"'meanfrtveg data'!D4","v":3.387},{"$f":"'meanfrtveg data'!E4","v":3.5379999999999998},{"$f":"'meanfrtveg data'!F4","v":3.25},{"$f":"'meanfrtveg data'!G4","v":3.48},{"$f":"'meanfrtveg data'!H4","v":3.3},{"$f":"'meanfrtveg data'!I4","v":3.03},{"$f":"'meanfrtveg data'!J4","v":3.26},{"$f":"'meanfrtveg data'!K4","v":3.06},{"$f":"'meanfrtveg data'!L4","v":3.55},{"$f":"'meanfrtveg data'!M4","v":3.3119999999999998},{"$f":"'meanfrtveg data'!N4","v":3.2229999999999999},{"$f":"'meanfrtveg data'!O4","v":3.18},{"$f":"'meanfrtveg data'!P4","v":3.4990000000000001},{"$f":"'meanfrtveg data'!Q4","v":3.08}]
[]
["Women"]
["Mean",{"$f":"'meanfrtveg data'!C5","v":2.79},{"$f":"'meanfrtveg data'!D5","v":3.41},{"$f":"'meanfrtveg data'!E5","v":2.9689999999999999},{"$f":"'meanfrtveg data'!F5","v":3.48},{"$f":"'meanfrtveg data'!G5","v":3.49},{"$f":"'meanfrtveg data'!H5","v":3.29},{"$f":"'meanfrtveg data'!I5","v":3.17},{"$f":"'meanfrtveg data'!J5","v":3.37},{"$f":"'meanfrtveg data'!K5","v":2.96},{"$f":"'meanfrtveg data'!L5","v":3.58},{"$f":"'meanfrtveg data'!M5","v":3.4},{"$f":"'meanfrtveg data'!N5","v":3.47},{"$f":"'meanfrtveg data'!O5","v":3.39},{"$f":"'meanfrtveg data'!P5","v":3.4860000000000002},{"$f":"'meanfrtveg data'!Q5","v":3.26}]
["Lower CI",{"$f":"'meanfrtveg data'!C6","v":2.63},{"$f":"'meanfrtveg data'!D6","v":3.0110000000000001},{"$f":"'meanfrtveg data'!E6","v":2.6269999999999998},{"$f":"'meanfrtveg data'!F6","v":3.3},{"$f":"'meanfrtveg data'!G6","v":3.15},{"$f":"'meanfrtveg data'!H6","v":3.13},{"$f":"'meanfrtveg data'!I6","v":3.02},{"$f":"'meanfrtveg data'!J6","v":3.14},{"$f":"'meanfrtveg data'!K6","v":2.75},{"$f":"'meanfrtveg data'!L6","v":3.39},{"$f":"'meanfrtveg data'!M6","v":3.1309999999999998},{"$f":"'meanfrtveg data'!N6","v":3.0920000000000001},{"$f":"'meanfrtveg data'!O6","v":3.12},{"$f":"'meanfrtveg data'!P6","v":3.1190000000000002},{"$f":"'meanfrtveg data'!Q6","v":3.2}]
["Upper CI",{"$f":"'meanfrtveg data'!C7","v":2.95},{"$f":"'meanfrtveg data'!D7","v":3.8079999999999998},{"$f":"'meanfrtveg data'!E7","v":3.31},{"$f":"'meanfrtveg data'!F7","v":3.66},{"$f":"'meanfrtveg data'!G7","v":3.83},{"$f":"'meanfrtveg data'!H7","v":3.45},{"$f":"'meanfrtveg data'!I7","v":3.32},{"$f":"'meanfrtveg data'!J7","v":3.61},{"$f":"'meanfrtveg data'!K7","v":3.18},{"$f":"'meanfrtveg data'!L7","v":3.78},{"$f":"'meanfrtveg data'!M7","v":3.669},{"$f":"'meanfrtveg data'!N7","v":3.8490000000000002},{"$f":"'meanfrtveg data'!O7","v":3.66},{"$f":"'meanfrtveg data'!P7","v":3.8519999999999999},{"$f":"'meanfrtveg data'!Q7","v":3.33}]
[]
["All adults"]
["Mean",{"$f":"'meanfrtveg data'!C8","v":2.73},{"$f":"'meanfrtveg data'!D8","v":3.2770000000000001},{"$f":"'meanfrtveg data'!E8","v":3.0910000000000002},{"$f":"'meanfrtveg data'!F8","v":3.27},{"$f":"'meanfrtveg data'!G8","v":3.32},{"$f":"'meanfrtveg data'!H8","v":3.21},{"$f":"'meanfrtveg data'!I8","v":3.03},{"$f":"'meanfrtveg data'!J8","v":3.18},{"$f":"'meanfrtveg data'!K8","v":2.9},{"$f":"'meanfrtveg data'!L8","v":3.45},{"$f":"'meanfrtveg data'!M8","v":3.1829999999999998},{"$f":"'meanfrtveg data'!N8","v":3.169},{"$f":"'meanfrtveg data'!O8","v":3.16},{"$f":"'meanfrtveg data'!P8","v":3.3530000000000002},{"$f":"'meanfrtveg data'!Q8","v":3.14}]
["Lower CI",{"$f":"'meanfrtveg data'!C9","v":2.59},{"$f":"'meanfrtveg data'!D9","v":3.012},{"$f":"'meanfrtveg data'!E9","v":2.8130000000000002},{"$f":"'meanfrtveg data'!F9","v":3.12},{"$f":"'meanfrtveg data'!G9","v":3.05},{"$f":"'meanfrtveg data'!H9","v":3.08},{"$f":"'meanfrtveg data'!I9","v":2.9},{"$f":"'meanfrtveg data'!J9","v":2.98},{"$f":"'meanfrtveg data'!K9","v":2.73},{"$f":"'meanfrtveg data'!L9","v":3.28},{"$f":"'meanfrtveg data'!M9","v":2.9420000000000002},{"$f":"'meanfrtveg data'!N9","v":2.871},{"$f":"'meanfrtveg data'!O9","v":2.93},{"$f":"'meanfrtveg data'!P9","v":3.077},{"$f":"'meanfrtveg data'!Q9","v":3.09}]
["Upper CI",{"$f":"'meanfrtveg data'!C10","v":2.88},{"$f":"'meanfrtveg data'!D10","v":3.5430000000000001},{"$f":"'meanfrtveg data'!E10","v":3.3679999999999999},{"$f":"'meanfrtveg data'!F10","v":3.43},{"$f":"'meanfrtveg data'!G10","v":3.58},{"$f":"'meanfrtveg data'!H10","v":3.34},{"$f":"'meanfrtveg data'!I10","v":3.15},{"$f":"'meanfrtveg data'!J10","v":3.38},{"$f":"'meanfrtveg data'!K10","v":3.08},{"$f":"'meanfrtveg data'!L10","v":3.63},{"$f":"'meanfrtveg data'!M10","v":3.4249999999999998},{"$f":"'meanfrtveg data'!N10","v":3.4670000000000001},{"$f":"'meanfrtveg data'!O10","v":3.4},{"$f":"'meanfrtveg data'!P10","v":3.629},{"$f":"'meanfrtveg data'!Q10","v":3.2}]
[]
["Bases (weighted):"]
["Men",{"$f":"'meanfrtveg data'!C11","v":606.12},{"$f":"'meanfrtveg data'!D11","v":183.85599999999999},{"$f":"'meanfrtveg data'!E11","v":262.10599999999999},{"$f":"'meanfrtveg data'!F11","v":618.84},{"$f":"'meanfrtveg data'!G11","v":494.73},{"$f":"'meanfrtveg data'!H11","v":977.8},{"$f":"'meanfrtveg data'!I11","v":1880.15},{"$f":"'meanfrtveg data'!J11","v":541.45000000000005},{"$f":"'meanfrtveg data'!K11","v":1147.4000000000001},{"$f":"'meanfrtveg data'!L11","v":1530.31},{"$f":"'meanfrtveg data'!M11","v":38.805},{"$f":"'meanfrtveg data'!N11","v":41.939},{"$f":"'meanfrtveg data'!O11","v":681.92},{"$f":"'meanfrtveg data'!P11","v":48.445999999999998},{"$f":"'meanfrtveg data'!Q11","v":9053.8799999999992}]
["Women",{"$f":"'meanfrtveg data'!C12","v":710.87},{"$f":"'meanfrtveg data'!D12","v":222.27600000000001},{"$f":"'meanfrtveg data'!E12","v":275.46600000000001},{"$f":"'meanfrtveg data'!F12","v":663.33},{"$f":"'meanfrtveg data'!G12","v":552.52},{"$f":"'meanfrtveg data'!H12","v":1079.33},{"$f":"'meanfrtveg data'!I12","v":2051.62},{"$f":"'meanfrtveg data'!J12","v":586.85},{"$f":"'meanfrtveg data'!K12","v":1263.93},{"$f":"'meanfrtveg data'!L12","v":1496.34},{"$f":"'meanfrtveg data'!M12","v":39.048000000000002},{"$f":"'meanfrtveg data'!N12","v":39.383000000000003},{"$f":"'meanfrtveg data'!O12","v":771.2},{"$f":"'meanfrtveg data'!P12","v":48.518000000000001},{"$f":"'meanfrtveg data'!Q12","v":9800.67}]
["All Adults",{"$f":"'meanfrtveg data'!C13","v":1316.99},{"$f":"'meanfrtveg data'!D13","v":406.13299999999998},{"$f":"'meanfrtveg data'!E13","v":537.572},{"$f":"'meanfrtveg data'!F13","v":1282.17},{"$f":"'meanfrtveg data'!G13","v":1047.25},{"$f":"'meanfrtveg data'!H13","v":2057.13},{"$f":"'meanfrtveg data'!I13","v":3931.77},{"$f":"'meanfrtveg data'!J13","v":1128.31},{"$f":"'meanfrtveg data'!K13","v":2411.33},{"$f":"'meanfrtveg data'!L13","v":3026.64},{"$f":"'meanfrtveg data'!M13","v":77.852999999999994},{"$f":"'meanfrtveg data'!N13","v":81.322000000000003},{"$f":"'meanfrtveg data'!O13","v":1453.11},{"$f":"'meanfrtveg data'!P13","v":96.963999999999999},{"$f":"'meanfrtveg data'!Q13","v":18854.55}]
["Bases (unweighted)"]
["Men",{"$f":"'meanfrtveg data'!C14","v":948},{"$f":"'meanfrtveg data'!D14","v":199},{"$f":"'meanfrtveg data'!E14","v":221},{"$f":"'meanfrtveg data'!F14","v":902},{"$f":"'meanfrtveg data'!G14","v":306},{"$f":"'meanfrtveg data'!H14","v":1133},{"$f":"'meanfrtveg data'!I14","v":1341},{"$f":"'meanfrtveg data'!J14","v":355},{"$f":"'meanfrtveg data'!K14","v":660},{"$f":"'meanfrtveg data'!L14","v":935},{"$f":"'meanfrtveg data'!M14","v":234},{"$f":"'meanfrtveg data'!N14","v":247},{"$f":"'meanfrtveg data'!O14","v":472},{"$f":"'meanfrtveg data'!P14","v":387},{"$f":"'meanfrtveg data'!Q14","v":8340}]
["Women",{"$f":"'meanfrtveg data'!C15","v":1209},{"$f":"'meanfrtveg data'!D15","v":278},{"$f":"'meanfrtveg data'!E15","v":258},{"$f":"'meanfrtveg data'!F15","v":1142},{"$f":"'meanfrtveg data'!G15","v":411},{"$f":"'meanfrtveg data'!H15","v":1429},{"$f":"'meanfrtveg data'!I15","v":1748},{"$f":"'meanfrtveg data'!J15","v":463},{"$f":"'meanfrtveg data'!K15","v":878},{"$f":"'meanfrtveg data'!L15","v":1105},{"$f":"'meanfrtveg data'!M15","v":271},{"$f":"'meanfrtveg data'!N15","v":277},{"$f":"'meanfrtveg data'!O15","v":590},{"$f":"'meanfrtveg data'!P15","v":461},{"$f":"'meanfrtveg data'!Q15","v":10520}]
["All Adults",{"$f":"'meanfrtveg data'!C16","v":2157},{"$f":"'meanfrtveg data'!D16","v":477},{"$f":"'meanfrtveg data'!E16","v":479},{"$f":"'meanfrtveg data'!F16","v":2044},{"$f":"'meanfrtveg data'!G16","v":717},{"$f":"'meanfrtveg data'!H16","v":2562},{"$f":"'meanfrtveg data'!I16","v":3089},{"$f":"'meanfrtveg data'!J16","v":818},{"$f":"'meanfrtveg data'!K16","v":1538},{"$f":"'meanfrtveg data'!L16","v":2040},{"$f":"'meanfrtveg data'!M16","v":505},{"$f":"'meanfrtveg data'!N16","v":524},{"$f":"'meanfrtveg data'!O16","v":1062},{"$f":"'meanfrtveg data'!P16","v":848},{"$f":"'meanfrtveg data'!Q16","v":18860}]

{"sheet":"meanfrtveg data","index":33,"n_rows":16,"n_cols":17,"rows_kept":16,"cut":false,"hidden":true,"merged":[]}
["F_sex","_NAME_","Ayrshire & Arran","Borders","Dumfries & Galloway","Fife","Forth Valley","Grampian","Greater Glasgow","Highland","Lanarkshire","Lothian","Orkney","Shetland","Tayside","Western Isles","Scotland"]
["Male","Mean",2.67,3.117,3.2189999999999999,3.05,3.12,3.12,2.87,2.98,2.84,3.33,2.9649999999999999,2.8860000000000001,2.91,3.22,3.01]
["Male","LowerCLMean",2.5,2.847,2.9,2.86,2.76,2.95,2.72,2.69,2.61,3.12,2.6179999999999999,2.5489999999999999,2.64,2.94,2.94]
["Male","UpperCLMean",2.83,3.387,3.5379999999999998,3.25,3.48,3.3,3.03,3.26,3.06,3.55,3.3119999999999998,3.2229999999999999,3.18,3.4990000000000001,3.08]
["Female","Mean",2.79,3.41,2.9689999999999999,3.48,3.49,3.29,3.17,3.37,2.96,3.58,3.4,3.47,3.39,3.4860000000000002,3.26]
["Female","LowerCLMean",2.63,3.0110000000000001,2.6269999999999998,3.3,3.15,3.13,3.02,3.14,2.75,3.39,3.1309999999999998,3.0920000000000001,3.12,3.1190000000000002,3.2]
["Female","UpperCLMean",2.95,3.8079999999999998,3.31,3.66,3.83,3.45,3.32,3.61,3.18,3.78,3.669,3.8490000000000002,3.66,3.8519999999999999,3.33]
["Total","Mean",2.73,3.2770000000000001,3.0910000000000002,3.27,3.32,3.21,3.03,3.18,2.9,3.45,3.1829999999999998,3.169,3.16,3.3530000000000002,3.14]
["Total","LowerCLMean",2.59,3.012,2.8130000000000002,3.12,3.05,3.08,2.9,2.98,2.73,3.28,2.9420000000000002,2.871,2.93,3.077,3.09]
["Total","UpperCLMean",2.88,3.5430000000000001,3.3679999999999999,3.43,3.58,3.34,3.15,3.38,3.08,3.63,3.4249999999999998,3.4670000000000001,3.4,3.629,3.2]
["Male","SumWgt",606.12,183.85599999999999,262.10599999999999,618.84,494.73,977.8,1880.15,541.45000000000005,1147.4000000000001,1530.31,38.805,41.939,681.92,48.445999999999998,9053.8799999999992]
["Female","SumWgt",710.87,222.27600000000001,275.46600000000001,663.33,552.52,1079.33,2051.62,586.85,1263.93,1496.34,39.048000000000002,39.383000000000003,771.2,48.518000000000001,9800.67]
["Total","SumWgt",1316.99,406.13299999999998,537.572,1282.17,1047.25,2057.13,3931.77,1128.31,2411.33,3026.64,77.852999999999994,81.322000000000003,1453.11,96.963999999999999,18854.55]
["Male","N",948,199,221,902,306,1133,1341,355,660,935,234,247,472,387,8340]
["Female","N",1209,278,258,1142,411,1429,1748,463,878,1105,271,277,590,461,10520]
["Total","N",2157,477,479,2044,717,2562,3089,818,1538,2040,505,524,1062,848,18860]

{"sheet":"Mean fruit and veg chart","index":34,"n_rows":40,"n_cols":18,"rows_kept":40,"cut":false,"hidden":false,"merged":[]}
[null,null,null,null,null,null,null,null,null,null,null,null,null,null,null,null,null,"INDEX"]
[]
[]
[]
[]
[]
[]
[]
[]
[]
[]
[]
[]
[]
[]
[]
[]
[]
[]
[]
[]
[]
[]
[]
[]
[]
[]
[]
[]
[]
[null,null,"Source: Scottish Health Survey"]
[]
[]
[null,null,"Ayrshire & Arran ","Borders","Dumfries & Galloway","Fife","Forth Valley","Grampian","Greater Glasgow & Clyde","Highland","Lanarkshire","Lothian","Orkney","Shetland","Tayside","Western Isles",null,"Scotland"]
[null,"All adults"]
[null,"Mean",{"$f":"'Mean fruit and vegetables'!B18","v":2.73},{"$f":"'Mean fruit and vegetables'!C18","v":3.2770000000000001},{"$f":"'Mean fruit and vegetables'!D18","v":3.0910000000000002},{"$f":"'Mean fruit and vegetables'!E18","v":3.27},{"$f":"'Mean fruit and vegetables'!F18","v":3.32},{"$f":"'Mean fruit and vegetables'!G18","v":3.21},{"$f":"'Mean fruit and vegetables'!H18","v":3.03},{"$f":"'Mean fruit and vegetables'!I18","v":3.18},{"$f":"'Mean fruit and vegetables'!J18","v":2.9},{"$f":"'Mean fruit and vegetables'!K18","v":3.45},{"$f":"'Mean fruit and vegetables'!L18","v":3.1829999999999998},{"$f":"'Mean fruit and vegetables'!M18","v":3.169},{"$f":"'Mean fruit and vegetables'!N18","v":3.16},{"$f":"'Mean fruit and vegetables'!O18","v":3.3530000000000002},null,{"$f":"'Mean fruit and vegetables'!P18","v":3.14}]
[null,"Lower CI",{"$f":"'Mean fruit and vegetables'!B19","v":2.59},{"$f":"'Mean fruit and vegetables'!C19","v":3.012},{"$f":"'Mean fruit and vegetables'!D19","v":2.8130000000000002},{"$f":"'Mean fruit and vegetables'!E19","v":3.12},{"$f":"'Mean fruit and vegetables'!F19","v":3.05},{"$f":"'Mean fruit and vegetables'!G19","v":3.08},{"$f":"'Mean fruit and vegetables'!H19","v":2.9},{"$f":"'Mean fruit and vegetables'!I19","v":2.98},{"$f":"'Mean fruit and vegetables'!J19","v":2.73},{"$f":"'Mean fruit and vegetables'!K19","v":3.28},{"$f":"'Mean fruit and vegetables'!L19","v":2.9420000000000002},{"$f":"'Mean fruit and vegetables'!M19","v":2.871},{"$f":"'Mean fruit and vegetables'!N19","v":2.93},{"$f":"'Mean fruit and vegetables'!O19","v":3.077},null,{"$f":"'Mean fruit and vegetables'!P19","v":3.09}]
[null,"Upper CI",{"$f":"'Mean fruit and vegetables'!B20","v":2.88},{"$f":"'Mean fruit and vegetables'!C20","v":3.5430000000000001},{"$f":"'Mean fruit and vegetables'!D20","v":3.3679999999999999},{"$f":"'Mean fruit and vegetables'!E20","v":3.43},{"$f":"'Mean fruit and vegetables'!F20","v":3.58},{"$f":"'Mean fruit and vegetables'!G20","v":3.34},{"$f":"'Mean fruit and vegetables'!H20","v":3.15},{"$f":"'Mean fruit and vegetables'!I20","v":3.38},{"$f":"'Mean fruit and vegetables'!J20","v":3.08},{"$f":"'Mean fruit and vegetables'!K20","v":3.63},{"$f":"'Mean fruit and vegetables'!L20","v":3.4249999999999998},{"$f":"'Mean fruit and vegetables'!M20","v":3.4670000000000001},{"$f":"'Mean fruit and vegetables'!N20","v":3.4},{"$f":"'Mean fruit and vegetables'!O20","v":3.629},null,{"$f":"'Mean fruit and vegetables'!P20","v":3.2}]
[]
["CLs",null,{"$f":"C36-C37","v":0.14000000000000012},0.26500000000000012,0.27800000000000002,0.14999999999999991,0.27,0.12999999999999989,0.12999999999999989,0.20000000000000018,0.16999999999999993,0.17000000000000037,0.24099999999999966,0.29800000000000004,0.22999999999999998,0.27600000000000025,null,5.0000000000000266E-2]

{"sheet":"Physical activity guidelines","index":35,"n_rows":59,"n_cols":16,"rows_kept":59,"cut":false,"hidden":false,"merged":[[4,0,5,0],[0,0,1,0]]}
["Adherence to physical activity guidelines, by NHS Board and sex",null,null,null,null,null,null,null,null,null,null,null,null,"INDEX"]
[]
[]
["Aged 16 and over",null,null,null,null,null,null,null,null,null,null,null,null,null,null,"2013/2014/2015/2016 combined"]
["Physical activity guidelinesa","NHS Board"]
[null,"Ayrshire & Arran ","Borders","Dumfries & Galloway","Fife","Forth Valley","Grampian","Greater Glasgow & Clyde","Highland","Lanarkshire","Lothian","Orkney","Shetland","Tayside","Western Isles","Scotland"]
[null,"%","%","%","%","%","%","%","%","%","%","%","%","%","%","%"]
["Men"]
["Meets guidelines",{"$f":"'PA data'!D2","v":66.13},{"$f":"'PA data'!E2","v":64.311000000000007},{"$f":"'PA data'!F2","v":67.858999999999995},{"$f":"'PA data'!G2","v":70.88},{"$f":"'PA data'!H2","v":70.39},{"$f":"'PA data'!I2","v":68.959999999999994},{"$f":"'PA data'!J2","v":68.86},{"$f":"'PA data'!K2","v":69.22},{"$f":"'PA data'!L2","v":64.599999999999994},{"$f":"'PA data'!M2","v":71.260000000000005},{"$f":"'PA data'!N2","v":66.361000000000004},{"$f":"'PA data'!O2","v":69.734999999999999},{"$f":"'PA data'!P2","v":67.819999999999993},{"$f":"'PA data'!Q2","v":69.805000000000007},{"$f":"'PA data'!R2","v":68.599999999999994}]
["Lower CI",{"$f":"'PA data'!D3","v":62.89},{"$f":"'PA data'!E3","v":57.131999999999998},{"$f":"'PA data'!F3","v":61.427999999999997},{"$f":"'PA data'!G3","v":67.47},{"$f":"'PA data'!H3","v":64.86},{"$f":"'PA data'!I3","v":66},{"$f":"'PA data'!J3","v":66.13},{"$f":"'PA data'!K3","v":63.27},{"$f":"'PA data'!L3","v":60.69},{"$f":"'PA data'!M3","v":67.47},{"$f":"'PA data'!N3","v":60.332999999999998},{"$f":"'PA data'!O3","v":62.488},{"$f":"'PA data'!P3","v":62.35},{"$f":"'PA data'!Q3","v":64.977999999999994},{"$f":"'PA data'!R3","v":67.33}]
["Upper CI",{"$f":"'PA data'!D4","v":69.37},{"$f":"'PA data'!E4","v":71.489999999999995},{"$f":"'PA data'!F4","v":74.290999999999997},{"$f":"'PA data'!G4","v":74.290000000000006},{"$f":"'PA data'!H4","v":75.92},{"$f":"'PA data'!I4","v":71.92},{"$f":"'PA data'!J4","v":71.59},{"$f":"'PA data'!K4","v":75.180000000000007},{"$f":"'PA data'!L4","v":68.52},{"$f":"'PA data'!M4","v":75.06},{"$f":"'PA data'!N4","v":72.388999999999996},{"$f":"'PA data'!O4","v":76.981999999999999},{"$f":"'PA data'!P4","v":73.28},{"$f":"'PA data'!Q4","v":74.632000000000005},{"$f":"'PA data'!R4","v":69.86}]
["Some activity",{"$f":"'PA data'!D5","v":7.71},{"$f":"'PA data'!E5","v":10.162000000000001},{"$f":"'PA data'!F5","v":7.52},{"$f":"'PA data'!G5","v":6.47},{"$f":"'PA data'!H5","v":9.66},{"$f":"'PA data'!I5","v":8.1999999999999993},{"$f":"'PA data'!J5","v":8.59},{"$f":"'PA data'!K5","v":11.33},{"$f":"'PA data'!L5","v":9.99},{"$f":"'PA data'!M5","v":10.39},{"$f":"'PA data'!N5","v":14.327999999999999},{"$f":"'PA data'!O5","v":9.4659999999999993},{"$f":"'PA data'!P5","v":9.2200000000000006},{"$f":"'PA data'!Q5","v":9.9909999999999997},{"$f":"'PA data'!R5","v":9.1300000000000008}]
["Lower CI",{"$f":"'PA data'!D6","v":5.92},{"$f":"'PA data'!E6","v":6.0419999999999998},{"$f":"'PA data'!F6","v":3.22},{"$f":"'PA data'!G6","v":4.87},{"$f":"'PA data'!H6","v":6.73},{"$f":"'PA data'!I6","v":6.54},{"$f":"'PA data'!J6","v":6.95},{"$f":"'PA data'!K6","v":7.75},{"$f":"'PA data'!L6","v":6.96},{"$f":"'PA data'!M6","v":7.95},{"$f":"'PA data'!N6","v":9.9710000000000001},{"$f":"'PA data'!O6","v":5.6210000000000004},{"$f":"'PA data'!P6","v":6.54},{"$f":"'PA data'!Q6","v":6.7060000000000004},{"$f":"'PA data'!R6","v":8.34}]
["Upper CI",{"$f":"'PA data'!D7","v":9.5},{"$f":"'PA data'!E7","v":14.282},{"$f":"'PA data'!F7","v":11.82},{"$f":"'PA data'!G7","v":8.07},{"$f":"'PA data'!H7","v":12.59},{"$f":"'PA data'!I7","v":9.8699999999999992},{"$f":"'PA data'!J7","v":10.23},{"$f":"'PA data'!K7","v":14.91},{"$f":"'PA data'!L7","v":13.02},{"$f":"'PA data'!M7","v":12.84},{"$f":"'PA data'!N7","v":18.684999999999999},{"$f":"'PA data'!O7","v":13.311},{"$f":"'PA data'!P7","v":11.91},{"$f":"'PA data'!Q7","v":13.276999999999999},{"$f":"'PA data'!R7","v":9.92}]
["Low activity",{"$f":"'PA data'!D8","v":2.94},{"$f":"'PA data'!E8","v":5.585},{"$f":"'PA data'!F8","v":2.016},{"$f":"'PA data'!G8","v":3.86},{"$f":"'PA data'!H8","v":2.85},{"$f":"'PA data'!I8","v":3.51},{"$f":"'PA data'!J8","v":3.54},{"$f":"'PA data'!K8","v":2.68},{"$f":"'PA data'!L8","v":3.84},{"$f":"'PA data'!M8","v":4},{"$f":"'PA data'!N8","v":3.91},{"$f":"'PA data'!O8","v":5.2709999999999999},{"$f":"'PA data'!P8","v":5.35},{"$f":"'PA data'!Q8","v":3.1619999999999999},{"$f":"'PA data'!R8","v":3.69}]
["Lower CI",{"$f":"'PA data'!D9","v":2.0299999999999998},{"$f":"'PA data'!E9","v":2.5750000000000002},{"$f":"'PA data'!F9","v":6.0000000000000001E-3},{"$f":"'PA data'!G9","v":2.41},{"$f":"'PA data'!H9","v":0.93},{"$f":"'PA data'!I9","v":2.31},{"$f":"'PA data'!J9","v":2.4900000000000002},{"$f":"'PA data'!K9","v":1.06},{"$f":"'PA data'!L9","v":2.37},{"$f":"'PA data'!M9","v":2.68},{"$f":"'PA data'!N9","v":1.4810000000000001},{"$f":"'PA data'!O9","v":1.254},{"$f":"'PA data'!P9","v":3.22},{"$f":"'PA data'!Q9","v":1.292},{"$f":"'PA data'!R9","v":3.22}]
["Upper CI",{"$f":"'PA data'!D10","v":3.86},{"$f":"'PA data'!E10","v":8.5950000000000006},{"$f":"'PA data'!F10","v":4.0250000000000004},{"$f":"'PA data'!G10","v":5.3},{"$f":"'PA data'!H10","v":4.76},{"$f":"'PA data'!I10","v":4.71},{"$f":"'PA data'!J10","v":4.5999999999999996},{"$f":"'PA data'!K10","v":4.3},{"$f":"'PA data'!L10","v":5.31},{"$f":"'PA data'!M10","v":5.32},{"$f":"'PA data'!N10","v":6.34},{"$f":"'PA data'!O10","v":9.2880000000000003},{"$f":"'PA data'!P10","v":7.49},{"$f":"'PA data'!Q10","v":5.032},{"$f":"'PA data'!R10","v":4.16}]
["Very low activity",{"$f":"'PA data'!D11","v":23.22},{"$f":"'PA data'!E11","v":19.942},{"$f":"'PA data'!F11","v":22.605},{"$f":"'PA data'!G11","v":18.8},{"$f":"'PA data'!H11","v":17.11},{"$f":"'PA data'!I11","v":19.32},{"$f":"'PA data'!J11","v":19},{"$f":"'PA data'!K11","v":16.77},{"$f":"'PA data'!L11","v":21.56},{"$f":"'PA data'!M11","v":14.35},{"$f":"'PA data'!N11","v":15.401},{"$f":"'PA data'!O11","v":15.528},{"$f":"'PA data'!P11","v":17.61},{"$f":"'PA data'!Q11","v":17.042000000000002},{"$f":"'PA data'!R11","v":18.579999999999998}]
["Lower CI",{"$f":"'PA data'!D12","v":20.23},{"$f":"'PA data'!E12","v":14.443},{"$f":"'PA data'!F12","v":16.847000000000001},{"$f":"'PA data'!G12","v":16.010000000000002},{"$f":"'PA data'!H12","v":12.56},{"$f":"'PA data'!I12","v":16.96},{"$f":"'PA data'!J12","v":16.760000000000002},{"$f":"'PA data'!K12","v":12.13},{"$f":"'PA data'!L12","v":18.11},{"$f":"'PA data'!M12","v":11.8},{"$f":"'PA data'!N12","v":11.314},{"$f":"'PA data'!O12","v":10.093},{"$f":"'PA data'!P12","v":13.37},{"$f":"'PA data'!Q12","v":13.420999999999999},{"$f":"'PA data'!R12","v":17.54}]
["Upper CI",{"$f":"'PA data'!D13","v":26.2},{"$f":"'PA data'!E13","v":25.440999999999999},{"$f":"'PA data'!F13","v":28.363},{"$f":"'PA data'!G13","v":21.58},{"$f":"'PA data'!H13","v":21.65},{"$f":"'PA data'!I13","v":21.69},{"$f":"'PA data'!J13","v":21.25},{"$f":"'PA data'!K13","v":21.41},{"$f":"'PA data'!L13","v":25.02},{"$f":"'PA data'!M13","v":16.89},{"$f":"'PA data'!N13","v":19.488},{"$f":"'PA data'!O13","v":20.963999999999999},{"$f":"'PA data'!P13","v":21.85},{"$f":"'PA data'!Q13","v":20.663},{"$f":"'PA data'!R13","v":19.62}]
[]
["Women"]
["Meets guidelines",{"$f":"'PA data'!D14","v":54.53},{"$f":"'PA data'!E14","v":57.500999999999998},{"$f":"'PA data'!F14","v":52.372},{"$f":"'PA data'!G14","v":58.98},{"$f":"'PA data'!H14","v":57.04},{"$f":"'PA data'!I14","v":60.36},{"$f":"'PA data'!J14","v":56.81},{"$f":"'PA data'!K14","v":59.66},{"$f":"'PA data'!L14","v":58.42},{"$f":"'PA data'!M14","v":63.04},{"$f":"'PA data'!N14","v":57.923999999999999},{"$f":"'PA data'!O14","v":60.765000000000001},{"$f":"'PA data'!P14","v":61.22},{"$f":"'PA data'!Q14","v":59.152999999999999},{"$f":"'PA data'!R14","v":58.79}]
["Lower CI",{"$f":"'PA data'!D15","v":51.58},{"$f":"'PA data'!E15","v":51.777999999999999},{"$f":"'PA data'!F15","v":45.749000000000002},{"$f":"'PA data'!G15","v":55.86},{"$f":"'PA data'!H15","v":51.67},{"$f":"'PA data'!I15","v":57.08},{"$f":"'PA data'!J15","v":54.3},{"$f":"'PA data'!K15","v":55.17},{"$f":"'PA data'!L15","v":54.75},{"$f":"'PA data'!M15","v":59.37},{"$f":"'PA data'!N15","v":50.652000000000001},{"$f":"'PA data'!O15","v":54.816000000000003},{"$f":"'PA data'!P15","v":56.55},{"$f":"'PA data'!Q15","v":54.04},{"$f":"'PA data'!R15","v":57.6}]
["Upper CI",{"$f":"'PA data'!D16","v":57.49},{"$f":"'PA data'!E16","v":63.223999999999997},{"$f":"'PA data'!F16","v":58.994999999999997},{"$f":"'PA data'!G16","v":62.1},{"$f":"'PA data'!H16","v":62.41},{"$f":"'PA data'!I16","v":63.64},{"$f":"'PA data'!J16","v":59.32},{"$f":"'PA data'!K16","v":64.16},{"$f":"'PA data'!L16","v":62.1},{"$f":"'PA data'!M16","v":66.7},{"$f":"'PA data'!N16","v":65.195999999999998},{"$f":"'PA data'!O16","v":66.712999999999994},{"$f":"'PA data'!P16","v":65.89},{"$f":"'PA data'!Q16","v":64.265000000000001},{"$f":"'PA data'!R16","v":59.99}]
["Some activity",{"$f":"'PA data'!D17","v":13.3},{"$f":"'PA data'!E17","v":12.406000000000001},{"$f":"'PA data'!F17","v":14.978},{"$f":"'PA data'!G17","v":13.75},{"$f":"'PA data'!H17","v":15.53},{"$f":"'PA data'!I17","v":13.63},{"$f":"'PA data'!J17","v":12.63},{"$f":"'PA data'!K17","v":14.8},{"$f":"'PA data'!L17","v":12.28},{"$f":"'PA data'!M17","v":11.26},{"$f":"'PA data'!N17","v":10.036},{"$f":"'PA data'!O17","v":13.039},{"$f":"'PA data'!P17","v":12.97},{"$f":"'PA data'!Q17","v":11.532},{"$f":"'PA data'!R17","v":12.97}]
["Lower CI",{"$f":"'PA data'!D18","v":10.96},{"$f":"'PA data'!E18","v":8.1760000000000002},{"$f":"'PA data'!F18","v":10.276},{"$f":"'PA data'!G18","v":11.68},{"$f":"'PA data'!H18","v":11.34},{"$f":"'PA data'!I18","v":11.59},{"$f":"'PA data'!J18","v":11.06},{"$f":"'PA data'!K18","v":11.82},{"$f":"'PA data'!L18","v":10.24},{"$f":"'PA data'!M18","v":9.1},{"$f":"'PA data'!N18","v":6.1349999999999998},{"$f":"'PA data'!O18","v":9.5869999999999997},{"$f":"'PA data'!P18","v":10.199999999999999},{"$f":"'PA data'!Q18","v":7.8440000000000003},{"$f":"'PA data'!R18","v":12.23}]
["Upper CI",{"$f":"'PA data'!D19","v":15.63},{"$f":"'PA data'!E19","v":16.635999999999999},{"$f":"'PA data'!F19","v":19.678999999999998},{"$f":"'PA data'!G19","v":15.83},{"$f":"'PA data'!H19","v":19.73},{"$f":"'PA data'!I19","v":15.66},{"$f":"'PA data'!J19","v":14.19},{"$f":"'PA data'!K19","v":17.79},{"$f":"'PA data'!L19","v":14.31},{"$f":"'PA data'!M19","v":13.42},{"$f":"'PA data'!N19","v":13.938000000000001},{"$f":"'PA data'!O19","v":16.492000000000001},{"$f":"'PA data'!P19","v":15.75},{"$f":"'PA data'!Q19","v":15.22},{"$f":"'PA data'!R19","v":13.72}]
["Low activity",{"$f":"'PA data'!D20","v":4.5599999999999996},{"$f":"'PA data'!E20","v":6.0410000000000004},{"$f":"'PA data'!F20","v":6.1829999999999998},{"$f":"'PA data'!G20","v":4.8600000000000003},{"$f":"'PA data'!H20","v":7.59},{"$f":"'PA data'!I20","v":4.21},{"$f":"'PA data'!J20","v":5.1100000000000003},{"$f":"'PA data'!K20","v":2.92},{"$f":"'PA data'!L20","v":4.97},{"$f":"'PA data'!M20","v":5.21},{"$f":"'PA data'!N20","v":7.782},{"$f":"'PA data'!O20","v":6.7960000000000003},{"$f":"'PA data'!P20","v":3.86},{"$f":"'PA data'!Q20","v":4.5590000000000002},{"$f":"'PA data'!R20","v":4.93}]
["Lower CI",{"$f":"'PA data'!D21","v":3.26},{"$f":"'PA data'!E21","v":2.5870000000000002},{"$f":"'PA data'!F21","v":3.4260000000000002},{"$f":"'PA data'!G21","v":3.7},{"$f":"'PA data'!H21","v":4.9000000000000004},{"$f":"'PA data'!I21","v":3.13},{"$f":"'PA data'!J21","v":3.92},{"$f":"'PA data'!K21","v":1.19},{"$f":"'PA data'!L21","v":3.32},{"$f":"'PA data'!M21","v":3.71},{"$f":"'PA data'!N21","v":4.7439999999999998},{"$f":"'PA data'!O21","v":3.6890000000000001},{"$f":"'PA data'!P21","v":2.5099999999999998},{"$f":"'PA data'!Q21","v":2.5960000000000001},{"$f":"'PA data'!R21","v":4.4400000000000004}]
["Upper CI",{"$f":"'PA data'!D22","v":5.87},{"$f":"'PA data'!E22","v":9.4949999999999992},{"$f":"'PA data'!F22","v":8.9390000000000001},{"$f":"'PA data'!G22","v":6.03},{"$f":"'PA data'!H22","v":10.28},{"$f":"'PA data'!I22","v":5.29},{"$f":"'PA data'!J22","v":6.3},{"$f":"'PA data'!K22","v":4.6500000000000004},{"$f":"'PA data'!L22","v":6.62},{"$f":"'PA data'!M22","v":6.71},{"$f":"'PA data'!N22","v":10.82},{"$f":"'PA data'!O22","v":9.9039999999999999},{"$f":"'PA data'!P22","v":5.21},{"$f":"'PA data'!Q22","v":6.5220000000000002},{"$f":"'PA data'!R22","v":5.42}]
["Very low activity",{"$f":"'PA data'!D23","v":27.61},{"$f":"'PA data'!E23","v":24.052},{"$f":"'PA data'!F23","v":26.468},{"$f":"'PA data'!G23","v":22.41},{"$f":"'PA data'!H23","v":19.829999999999998},{"$f":"'PA data'!I23","v":21.8},{"$f":"'PA data'!J23","v":25.46},{"$f":"'PA data'!K23","v":22.61},{"$f":"'PA data'!L23","v":24.33},{"$f":"'PA data'!M23","v":20.49},{"$f":"'PA data'!N23","v":24.257999999999999},{"$f":"'PA data'!O23","v":19.399999999999999},{"$f":"'PA data'!P23","v":21.94},{"$f":"'PA data'!Q23","v":24.756},{"$f":"'PA data'!R23","v":23.3}]
["Lower CI",{"$f":"'PA data'!D24","v":24.99},{"$f":"'PA data'!E24","v":18.599},{"$f":"'PA data'!F24","v":20.837},{"$f":"'PA data'!G24","v":19.82},{"$f":"'PA data'!H24","v":16.7},{"$f":"'PA data'!I24","v":19.309999999999999},{"$f":"'PA data'!J24","v":23.21},{"$f":"'PA data'!K24","v":18.8},{"$f":"'PA data'!L24","v":21.25},{"$f":"'PA data'!M24","v":17.8},{"$f":"'PA data'!N24","v":17.738},{"$f":"'PA data'!O24","v":14.755000000000001},{"$f":"'PA data'!P24","v":17.89},{"$f":"'PA data'!Q24","v":21.248999999999999},{"$f":"'PA data'!R24","v":22.32}]
["Upper CI",{"$f":"'PA data'!D25","v":30.22},{"$f":"'PA data'!E25","v":29.504999999999999},{"$f":"'PA data'!F25","v":32.098999999999997},{"$f":"'PA data'!G25","v":24.99},{"$f":"'PA data'!H25","v":22.97},{"$f":"'PA data'!I25","v":24.3},{"$f":"'PA data'!J25","v":27.7},{"$f":"'PA data'!K25","v":26.42},{"$f":"'PA data'!L25","v":27.41},{"$f":"'PA data'!M25","v":23.19},{"$f":"'PA data'!N25","v":30.779},{"$f":"'PA data'!O25","v":24.044},{"$f":"'PA data'!P25","v":26},{"$f":"'PA data'!Q25","v":28.263000000000002},{"$f":"'PA data'!R25","v":24.28}]
[]
["All Adults"]
["Meets guidelines",{"$f":"'PA data'!D26","v":59.87},{"$f":"'PA data'!E26","v":60.582999999999998},{"$f":"'PA data'!F26","v":59.917000000000002},{"$f":"'PA data'!G26","v":64.72},{"$f":"'PA data'!H26","v":63.34},{"$f":"'PA data'!I26","v":64.45},{"$f":"'PA data'!J26","v":62.58},{"$f":"'PA data'!K26","v":64.27},{"$f":"'PA data'!L26","v":61.36},{"$f":"'PA data'!M26","v":67.19},{"$f":"'PA data'!N26","v":62.122},{"$f":"'PA data'!O26","v":65.358999999999995},{"$f":"'PA data'!P26","v":64.319999999999993},{"$f":"'PA data'!Q26","v":64.486000000000004},{"$f":"'PA data'!R26","v":63.5}]
["Lower CI",{"$f":"'PA data'!D27","v":57.29},{"$f":"'PA data'!E27","v":55.213999999999999},{"$f":"'PA data'!F27","v":55.015000000000001},{"$f":"'PA data'!G27","v":62.4},{"$f":"'PA data'!H27","v":59.28},{"$f":"'PA data'!I27","v":61.96},{"$f":"'PA data'!J27","v":60.58},{"$f":"'PA data'!K27","v":60.39},{"$f":"'PA data'!L27","v":58.35},{"$f":"'PA data'!M27","v":64.150000000000006},{"$f":"'PA data'!N27","v":57.271000000000001},{"$f":"'PA data'!O27","v":60.06},{"$f":"'PA data'!P27","v":60.31},{"$f":"'PA data'!Q27","v":61.456000000000003},{"$f":"'PA data'!R27","v":62.51}]
["Upper CI",{"$f":"'PA data'!D28","v":62.44},{"$f":"'PA data'!E28","v":65.951999999999998},{"$f":"'PA data'!F28","v":64.819000000000003},{"$f":"'PA data'!G28","v":67.040000000000006},{"$f":"'PA data'!H28","v":67.400000000000006},{"$f":"'PA data'!I28","v":66.95},{"$f":"'PA data'!J28","v":64.58},{"$f":"'PA data'!K28","v":68.16},{"$f":"'PA data'!L28","v":64.37},{"$f":"'PA data'!M28","v":70.23},{"$f":"'PA data'!N28","v":66.974000000000004},{"$f":"'PA data'!O28","v":70.659000000000006},{"$f":"'PA data'!P28","v":68.319999999999993},{"$f":"'PA data'!Q28","v":67.515000000000001},{"$f":"'PA data'!R28","v":64.5}]
["Some activity",{"$f":"'PA data'!D29","v":10.73},{"$f":"'PA data'!E29","v":11.39},{"$f":"'PA data'!F29","v":11.343999999999999},{"$f":"'PA data'!G29","v":10.24},{"$f":"'PA data'!H29","v":12.76},{"$f":"'PA data'!I29","v":11.05},{"$f":"'PA data'!J29","v":10.69},{"$f":"'PA data'!K29","v":13.13},{"$f":"'PA data'!L29","v":11.19},{"$f":"'PA data'!M29","v":10.82},{"$f":"'PA data'!N29","v":12.172000000000001},{"$f":"'PA data'!O29","v":11.209},{"$f":"'PA data'!P29","v":11.21},{"$f":"'PA data'!Q29","v":10.760999999999999},{"$f":"'PA data'!R29","v":11.13}]
["Lower CI",{"$f":"'PA data'!D30","v":9.1},{"$f":"'PA data'!E30","v":8.2590000000000003},{"$f":"'PA data'!F30","v":8.0259999999999998},{"$f":"'PA data'!G30","v":8.92},{"$f":"'PA data'!H30","v":10.210000000000001},{"$f":"'PA data'!I30","v":9.6300000000000008},{"$f":"'PA data'!J30","v":9.5500000000000007},{"$f":"'PA data'!K30","v":10.91},{"$f":"'PA data'!L30","v":9.24},{"$f":"'PA data'!M30","v":9},{"$f":"'PA data'!N30","v":9.1329999999999991},{"$f":"'PA data'!O30","v":8.0250000000000004},{"$f":"'PA data'!P30","v":9.34},{"$f":"'PA data'!Q30","v":8.2260000000000009},{"$f":"'PA data'!R30","v":10.56}]
["Upper CI",{"$f":"'PA data'!D31","v":12.35},{"$f":"'PA data'!E31","v":14.522},{"$f":"'PA data'!F31","v":14.662000000000001},{"$f":"'PA data'!G31","v":11.55},{"$f":"'PA data'!H31","v":15.31},{"$f":"'PA data'!I31","v":12.47},{"$f":"'PA data'!J31","v":11.84},{"$f":"'PA data'!K31","v":15.35},{"$f":"'PA data'!L31","v":13.14},{"$f":"'PA data'!M31","v":12.64},{"$f":"'PA data'!N31","v":15.211},{"$f":"'PA data'!O31","v":14.393000000000001},{"$f":"'PA data'!P31","v":13.08},{"$f":"'PA data'!Q31","v":13.295},{"$f":"'PA data'!R31","v":11.7}]
["Low activity",{"$f":"'PA data'!D32","v":3.82},{"$f":"'PA data'!E32","v":5.835},{"$f":"'PA data'!F32","v":4.1520000000000001},{"$f":"'PA data'!G32","v":4.38},{"$f":"'PA data'!H32","v":5.35},{"$f":"'PA data'!I32","v":3.88},{"$f":"'PA data'!J32","v":4.3600000000000003},{"$f":"'PA data'!K32","v":2.8},{"$f":"'PA data'!L32","v":4.43},{"$f":"'PA data'!M32","v":4.5999999999999996},{"$f":"'PA data'!N32","v":5.8550000000000004},{"$f":"'PA data'!O32","v":6.0149999999999997},{"$f":"'PA data'!P32","v":4.5599999999999996},{"$f":"'PA data'!Q32","v":3.86},{"$f":"'PA data'!R32","v":4.33}]
["Lower CI",{"$f":"'PA data'!D33","v":2.96},{"$f":"'PA data'!E33","v":3.278},{"$f":"'PA data'!F33","v":2.5030000000000001},{"$f":"'PA data'!G33","v":3.37},{"$f":"'PA data'!H33","v":3.64},{"$f":"'PA data'!I33","v":3.01},{"$f":"'PA data'!J33","v":3.54},{"$f":"'PA data'!K33","v":1.59},{"$f":"'PA data'!L33","v":3.35},{"$f":"'PA data'!M33","v":3.56},{"$f":"'PA data'!N33","v":3.9689999999999999},{"$f":"'PA data'!O33","v":3.4039999999999999},{"$f":"'PA data'!P33","v":3.25},{"$f":"'PA data'!Q33","v":2.544},{"$f":"'PA data'!R33","v":3.99}]
["Upper CI",{"$f":"'PA data'!D34","v":4.68},{"$f":"'PA data'!E34","v":8.3919999999999995},{"$f":"'PA data'!F34","v":5.8019999999999996},{"$f":"'PA data'!G34","v":5.39},{"$f":"'PA data'!H34","v":7.07},{"$f":"'PA data'!I34","v":4.74},{"$f":"'PA data'!J34","v":5.18},{"$f":"'PA data'!K34","v":4.0199999999999996},{"$f":"'PA data'!L34","v":5.52},{"$f":"'PA data'!M34","v":5.64},{"$f":"'PA data'!N34","v":7.742},{"$f":"'PA data'!O34","v":8.6259999999999994},{"$f":"'PA data'!P34","v":5.87},{"$f":"'PA data'!Q34","v":5.1749999999999998},{"$f":"'PA data'!R34","v":4.68}]
["Very low activity",{"$f":"'PA data'!D35","v":25.59},{"$f":"'PA data'!E35","v":22.192},{"$f":"'PA data'!F35","v":24.585999999999999},{"$f":"'PA data'!G35","v":20.66},{"$f":"'PA data'!H35","v":18.55},{"$f":"'PA data'!I35","v":20.62},{"$f":"'PA data'!J35","v":22.37},{"$f":"'PA data'!K35","v":19.79},{"$f":"'PA data'!L35","v":23.02},{"$f":"'PA data'!M35","v":17.39},{"$f":"'PA data'!N35","v":19.850000000000001},{"$f":"'PA data'!O35","v":17.417000000000002},{"$f":"'PA data'!P35","v":19.91},{"$f":"'PA data'!Q35","v":20.893999999999998},{"$f":"'PA data'!R35","v":21.03}]
["Lower CI",{"$f":"'PA data'!D36","v":23.42},{"$f":"'PA data'!E36","v":17.878},{"$f":"'PA data'!F36","v":20.420999999999999},{"$f":"'PA data'!G36","v":18.78},{"$f":"'PA data'!H36","v":15.65},{"$f":"'PA data'!I36","v":18.7},{"$f":"'PA data'!J36","v":20.61},{"$f":"'PA data'!K36","v":16.600000000000001},{"$f":"'PA data'!L36","v":20.27},{"$f":"'PA data'!M36","v":15.36},{"$f":"'PA data'!N36","v":15.885999999999999},{"$f":"'PA data'!O36","v":13.569000000000001},{"$f":"'PA data'!P36","v":16.55},{"$f":"'PA data'!Q36","v":18.501999999999999},{"$f":"'PA data'!R36","v":20.23}]
["Upper CI",{"$f":"'PA data'!D37","v":27.76},{"$f":"'PA data'!E37","v":26.504999999999999},{"$f":"'PA data'!F37","v":28.751000000000001},{"$f":"'PA data'!G37","v":22.55},{"$f":"'PA data'!H37","v":21.45},{"$f":"'PA data'!I37","v":22.54},{"$f":"'PA data'!J37","v":24.12},{"$f":"'PA data'!K37","v":22.98},{"$f":"'PA data'!L37","v":25.76},{"$f":"'PA data'!M37","v":19.420000000000002},{"$f":"'PA data'!N37","v":23.815000000000001},{"$f":"'PA data'!O37","v":21.265000000000001},{"$f":"'PA data'!P37","v":23.26},{"$f":"'PA data'!Q37","v":23.286000000000001},{"$f":"'PA data'!R37","v":21.84}]
[]
["Bases (weighted):"]
["Men ",{"$f":"'PA data'!D38","v":605.12},{"$f":"'PA data'!E38","v":183.215},{"$f":"'PA data'!F38","v":259.76600000000002},{"$f":"'PA data'!G38","v":616.11},{"$f":"'PA data'!H38","v":492.12},{"$f":"'PA data'!I38","v":972.13},{"$f":"'PA data'!J38","v":1872.77},{"$f":"'PA data'!K38","v":536.08000000000004},{"$f":"'PA data'!L38","v":1137.07},{"$f":"'PA data'!M38","v":1523.08},{"$f":"'PA data'!N38","v":37.500999999999998},{"$f":"'PA data'!O38","v":41.04},{"$f":"'PA data'!P38","v":679.06},{"$f":"'PA data'!Q38","v":48.377000000000002},{"$f":"'PA data'!R38","v":9003.43}]
["Women",{"$f":"'PA data'!D39","v":710.87},{"$f":"'PA data'!E39","v":221.565},{"$f":"'PA data'!F39","v":273.40499999999997},{"$f":"'PA data'!G39","v":660.46},{"$f":"'PA data'!H39","v":551.29},{"$f":"'PA data'!I39","v":1072.3800000000001},{"$f":"'PA data'!J39","v":2037.91},{"$f":"'PA data'!K39","v":575.41},{"$f":"'PA data'!L39","v":1255.95},{"$f":"'PA data'!M39","v":1493.03},{"$f":"'PA data'!N39","v":37.853999999999999},{"$f":"'PA data'!O39","v":39.087000000000003},{"$f":"'PA data'!P39","v":766.23},{"$f":"'PA data'!Q39","v":48.252000000000002},{"$f":"'PA data'!R39","v":9743.7099999999991}]
["All Adults",{"$f":"'PA data'!D40","v":1315.99},{"$f":"'PA data'!E40","v":404.78},{"$f":"'PA data'!F40","v":533.17100000000005},{"$f":"'PA data'!G40","v":1276.57},{"$f":"'PA data'!H40","v":1043.4100000000001},{"$f":"'PA data'!I40","v":2044.5},{"$f":"'PA data'!J40","v":3910.69},{"$f":"'PA data'!K40","v":1111.49},{"$f":"'PA data'!L40","v":2393.02},{"$f":"'PA data'!M40","v":3016.11},{"$f":"'PA data'!N40","v":75.355999999999995},{"$f":"'PA data'!O40","v":80.126999999999995},{"$f":"'PA data'!P40","v":1445.29},{"$f":"'PA data'!Q40","v":96.63},{"$f":"'PA data'!R40","v":18747.14}]
["Bases (unweighted)"]
["Men ",{"$f":"'PA data'!D41","v":946},{"$f":"'PA data'!E41","v":198},{"$f":"'PA data'!F41","v":219},{"$f":"'PA data'!G41","v":898},{"$f":"'PA data'!H41","v":304},{"$f":"'PA data'!I41","v":1126},{"$f":"'PA data'!J41","v":1336},{"$f":"'PA data'!K41","v":351},{"$f":"'PA data'!L41","v":655},{"$f":"'PA data'!M41","v":929},{"$f":"'PA data'!N41","v":227},{"$f":"'PA data'!O41","v":242},{"$f":"'PA data'!P41","v":469},{"$f":"'PA data'!Q41","v":386},{"$f":"'PA data'!R41","v":8286}]
["Women",{"$f":"'PA data'!D42","v":1209},{"$f":"'PA data'!E42","v":277},{"$f":"'PA data'!F42","v":256},{"$f":"'PA data'!G42","v":1137},{"$f":"'PA data'!H42","v":410},{"$f":"'PA data'!I42","v":1422},{"$f":"'PA data'!J42","v":1736},{"$f":"'PA data'!K42","v":454},{"$f":"'PA data'!L42","v":874},{"$f":"'PA data'!M42","v":1102},{"$f":"'PA data'!N42","v":264},{"$f":"'PA data'!O42","v":275},{"$f":"'PA data'!P42","v":587},{"$f":"'PA data'!Q42","v":459},{"$f":"'PA data'!R42","v":10462}]
["All Adults",{"$f":"'PA data'!D43","v":2155},{"$f":"'PA data'!E43","v":475},{"$f":"'PA data'!F43","v":475},{"$f":"'PA data'!G43","v":2035},{"$f":"'PA data'!H43","v":714},{"$f":"'PA data'!I43","v":2548},{"$f":"'PA data'!J43","v":3072},{"$f":"'PA data'!K43","v":805},{"$f":"'PA data'!L43","v":1529},{"$f":"'PA data'!M43","v":2031},{"$f":"'PA data'!N43","v":491},{"$f":"'PA data'!O43","v":517},{"$f":"'PA data'!P43","v":1056},{"$f":"'PA data'!Q43","v":845},{"$f":"'PA data'!R43","v":18748}]
[]
["a Meets moderate / vigorous physical activity (MVPA) guidelines:at least 150 minutes of moderately intensive physical activity or 75 minutes vigorous activity per week or an equivalent combination of both. Some activity:  60-149 minutes of moderate activity or 30-74 minutes of vigorous activity or an equivalent combination of these. Low activity:   30-59 minutes of moderate activity or 15-29 minutes of vigorous activity or an equivalent combination of these. Very low activity: Less than 30 minutes of moderate activity or less than 15 minutes of vigorous activity or an equivalent combination of these.   "]

{"sheet":"PA data","index":36,"n_rows":43,"n_cols":18,"rows_kept":43,"cut":false,"hidden":true,"merged":[]}
["F_sex","F_adt10gpTW","_NAME_","Ayrshire & Arran","Borders","Dumfries & Galloway","Fife","Forth Valley","Grampian","Greater Glasgow","Highland","Lanarkshire","Lothian","Orkney","Shetland","Tayside","Western Isles","Scotland"]
["Male","Meets recommendations","RowPercent",66.13,64.311000000000007,67.858999999999995,70.88,70.39,68.959999999999994,68.86,69.22,64.599999999999994,71.260000000000005,66.361000000000004,69.734999999999999,67.819999999999993,69.805000000000007,68.599999999999994]
["Male","Meets recommendations","RowLowerCL",62.89,57.131999999999998,61.427999999999997,67.47,64.86,66,66.13,63.27,60.69,67.47,60.332999999999998,62.488,62.35,64.977999999999994,67.33]
["Male","Meets recommendations","RowUpperCL",69.37,71.489999999999995,74.290999999999997,74.290000000000006,75.92,71.92,71.59,75.180000000000007,68.52,75.06,72.388999999999996,76.981999999999999,73.28,74.632000000000005,69.86]
["Male","Some activity","RowPercent",7.71,10.162000000000001,7.52,6.47,9.66,8.1999999999999993,8.59,11.33,9.99,10.39,14.327999999999999,9.4659999999999993,9.2200000000000006,9.9909999999999997,9.1300000000000008]
["Male","Some activity","RowLowerCL",5.92,6.0419999999999998,3.22,4.87,6.73,6.54,6.95,7.75,6.96,7.95,9.9710000000000001,5.6210000000000004,6.54,6.7060000000000004,8.34]
["Male","Some activity","RowUpperCL",9.5,14.282,11.82,8.07,12.59,9.8699999999999992,10.23,14.91,13.02,12.84,18.684999999999999,13.311,11.91,13.276999999999999,9.92]
["Male","Low activity","RowPercent",2.94,5.585,2.016,3.86,2.85,3.51,3.54,2.68,3.84,4,3.91,5.2709999999999999,5.35,3.1619999999999999,3.69]
["Male","Low activity","RowLowerCL",2.0299999999999998,2.5750000000000002,6.0000000000000001E-3,2.41,0.93,2.31,2.4900000000000002,1.06,2.37,2.68,1.4810000000000001,1.254,3.22,1.292,3.22]
["Male","Low activity","RowUpperCL",3.86,8.5950000000000006,4.0250000000000004,5.3,4.76,4.71,4.5999999999999996,4.3,5.31,5.32,6.34,9.2880000000000003,7.49,5.032,4.16]
["Male","Very low activity","RowPercent",23.22,19.942,22.605,18.8,17.11,19.32,19,16.77,21.56,14.35,15.401,15.528,17.61,17.042000000000002,18.579999999999998]
["Male","Very low activity","RowLowerCL",20.23,14.443,16.847000000000001,16.010000000000002,12.56,16.96,16.760000000000002,12.13,18.11,11.8,11.314,10.093,13.37,13.420999999999999,17.54]
["Male","Very low activity","RowUpperCL",26.2,25.440999999999999,28.363,21.58,21.65,21.69,21.25,21.41,25.02,16.89,19.488,20.963999999999999,21.85,20.663,19.62]
["Female","Meets recommendations","RowPercent",54.53,57.500999999999998,52.372,58.98,57.04,60.36,56.81,59.66,58.42,63.04,57.923999999999999,60.765000000000001,61.22,59.152999999999999,58.79]
["Female","Meets recommendations","RowLowerCL",51.58,51.777999999999999,45.749000000000002,55.86,51.67,57.08,54.3,55.17,54.75,59.37,50.652000000000001,54.816000000000003,56.55,54.04,57.6]
["Female","Meets recommendations","RowUpperCL",57.49,63.223999999999997,58.994999999999997,62.1,62.41,63.64,59.32,64.16,62.1,66.7,65.195999999999998,66.712999999999994,65.89,64.265000000000001,59.99]
["Female","Some activity","RowPercent",13.3,12.406000000000001,14.978,13.75,15.53,13.63,12.63,14.8,12.28,11.26,10.036,13.039,12.97,11.532,12.97]
["Female","Some activity","RowLowerCL",10.96,8.1760000000000002,10.276,11.68,11.34,11.59,11.06,11.82,10.24,9.1,6.1349999999999998,9.5869999999999997,10.199999999999999,7.8440000000000003,12.23]
["Female","Some activity","RowUpperCL",15.63,16.635999999999999,19.678999999999998,15.83,19.73,15.66,14.19,17.79,14.31,13.42,13.938000000000001,16.492000000000001,15.75,15.22,13.72]
["Female","Low activity","RowPercent",4.5599999999999996,6.0410000000000004,6.1829999999999998,4.8600000000000003,7.59,4.21,5.1100000000000003,2.92,4.97,5.21,7.782,6.7960000000000003,3.86,4.5590000000000002,4.93]
["Female","Low activity","RowLowerCL",3.26,2.5870000000000002,3.4260000000000002,3.7,4.9000000000000004,3.13,3.92,1.19,3.32,3.71,4.7439999999999998,3.6890000000000001,2.5099999999999998,2.5960000000000001,4.4400000000000004]
["Female","Low activity","RowUpperCL",5.87,9.4949999999999992,8.9390000000000001,6.03,10.28,5.29,6.3,4.6500000000000004,6.62,6.71,10.82,9.9039999999999999,5.21,6.5220000000000002,5.42]
["Female","Very low activity","RowPercent",27.61,24.052,26.468,22.41,19.829999999999998,21.8,25.46,22.61,24.33,20.49,24.257999999999999,19.399999999999999,21.94,24.756,23.3]
["Female","Very low activity","RowLowerCL",24.99,18.599,20.837,19.82,16.7,19.309999999999999,23.21,18.8,21.25,17.8,17.738,14.755000000000001,17.89,21.248999999999999,22.32]
["Female","Very low activity","RowUpperCL",30.22,29.504999999999999,32.098999999999997,24.99,22.97,24.3,27.7,26.42,27.41,23.19,30.779,24.044,26,28.263000000000002,24.28]
["Total","Meets recommendations","RowPercent",59.87,60.582999999999998,59.917000000000002,64.72,63.34,64.45,62.58,64.27,61.36,67.19,62.122,65.358999999999995,64.319999999999993,64.486000000000004,63.5]
["Total","Meets recommendations","RowLowerCL",57.29,55.213999999999999,55.015000000000001,62.4,59.28,61.96,60.58,60.39,58.35,64.150000000000006,57.271000000000001,60.06,60.31,61.456000000000003,62.51]
["Total","Meets recommendations","RowUpperCL",62.44,65.951999999999998,64.819000000000003,67.040000000000006,67.400000000000006,66.95,64.58,68.16,64.37,70.23,66.974000000000004,70.659000000000006,68.319999999999993,67.515000000000001,64.5]
["Total","Some activity","RowPercent",10.73,11.39,11.343999999999999,10.24,12.76,11.05,10.69,13.13,11.19,10.82,12.172000000000001,11.209,11.21,10.760999999999999,11.13]
["Total","Some activity","RowLowerCL",9.1,8.2590000000000003,8.0259999999999998,8.92,10.210000000000001,9.6300000000000008,9.5500000000000007,10.91,9.24,9,9.1329999999999991,8.0250000000000004,9.34,8.2260000000000009,10.56]
["Total","Some activity","RowUpperCL",12.35,14.522,14.662000000000001,11.55,15.31,12.47,11.84,15.35,13.14,12.64,15.211,14.393000000000001,13.08,13.295,11.7]
["Total","Low activity","RowPercent",3.82,5.835,4.1520000000000001,4.38,5.35,3.88,4.3600000000000003,2.8,4.43,4.5999999999999996,5.8550000000000004,6.0149999999999997,4.5599999999999996,3.86,4.33]
["Total","Low activity","RowLowerCL",2.96,3.278,2.5030000000000001,3.37,3.64,3.01,3.54,1.59,3.35,3.56,3.9689999999999999,3.4039999999999999,3.25,2.544,3.99]
["Total","Low activity","RowUpperCL",4.68,8.3919999999999995,5.8019999999999996,5.39,7.07,4.74,5.18,4.0199999999999996,5.52,5.64,7.742,8.6259999999999994,5.87,5.1749999999999998,4.68]
["Total","Very low activity","RowPercent",25.59,22.192,24.585999999999999,20.66,18.55,20.62,22.37,19.79,23.02,17.39,19.850000000000001,17.417000000000002,19.91,20.893999999999998,21.03]
["Total","Very low activity","RowLowerCL",23.42,17.878,20.420999999999999,18.78,15.65,18.7,20.61,16.600000000000001,20.27,15.36,15.885999999999999,13.569000000000001,16.55,18.501999999999999,20.23]
["Total","Very low activity","RowUpperCL",27.76,26.504999999999999,28.751000000000001,22.55,21.45,22.54,24.12,22.98,25.76,19.420000000000002,23.815000000000001,21.265000000000001,23.26,23.286000000000001,21.84]
["Male",".","WgtFreq",605.12,183.215,259.76600000000002,616.11,492.12,972.13,1872.77,536.08000000000004,1137.07,1523.08,37.500999999999998,41.04,679.06,48.377000000000002,9003.43]
["Female",".","WgtFreq",710.87,221.565,273.40499999999997,660.46,551.29,1072.3800000000001,2037.91,575.41,1255.95,1493.03,37.853999999999999,39.087000000000003,766.23,48.252000000000002,9743.7099999999991]
["Total",".","WgtFreq",1315.99,404.78,533.17100000000005,1276.57,1043.4100000000001,2044.5,3910.69,1111.49,2393.02,3016.11,75.355999999999995,80.126999999999995,1445.29,96.63,18747.14]
["Male",".","Frequency",946,198,219,898,304,1126,1336,351,655,929,227,242,469,386,8286]
["Female",".","Frequency",1209,277,256,1137,410,1422,1736,454,874,1102,264,275,587,459,10462]
["Total",".","Frequency",2155,475,475,2035,714,2548,3072,805,1529,2031,491,517,1056,845,18748]

{"sheet":"Physical activity chart","index":37,"n_rows":52,"n_cols":18,"rows_kept":52,"cut":false,"hidden":false,"merged":[[31,2,32,14]]}
[null,null,null,null,null,null,null,null,null,null,null,null,null,null,null,null,null,"INDEX"]
[]
[]
[]
[]
[]
[]
[]
[]
[]
[]
[]
[]
[]
[]
[]
[]
[]
[]
[]
[]
[]
[]
[]
[]
[]
[]
[]
[]
[]
[null,null,"Source: Scottish Health Survey"]
[null,null,"Meets moderate / vigorous physical activity (MVPA) guidelines:at least 150 minutes of moderately intensive physical activity or 75 minutes vigorous activity per week or an equivalent combination of both. Some activity:  60-149 minutes of moderate activity or 30-74 minutes of vigorous activity or an equivalent combination of these. Low activity:   30-59 minutes of moderate activity or 15-29 minutes of vigorous activity or an equivalent combination of these. Very low activity: Less than 30 minutes of moderate activity or less than 15 minutes of vigorous activity or an equivalent combination of these.   \n"]
[]
[null,null,"Ayrshire & Arran ","Borders","Dumfries & Galloway","Fife","Forth Valley","Grampian","Greater Glasgow & Clyde","Highland","Lanarkshire","Lothian","Orkney","Shetland","Tayside","Western Isles",null,"Scotland"]
[null,"All Adults"]
[null,"Meets guidelines",{"$f":"'Physical activity guidelines'!B37","v":59.87},{"$f":"'Physical activity guidelines'!C37","v":60.582999999999998},{"$f":"'Physical activity guidelines'!D37","v":59.917000000000002},{"$f":"'Physical activity guidelines'!E37","v":64.72},{"$f":"'Physical activity guidelines'!F37","v":63.34},{"$f":"'Physical activity guidelines'!G37","v":64.45},{"$f":"'Physical activity guidelines'!H37","v":62.58},{"$f":"'Physical activity guidelines'!I37","v":64.27},{"$f":"'Physical activity guidelines'!J37","v":61.36},{"$f":"'Physical activity guidelines'!K37","v":67.19},{"$f":"'Physical activity guidelines'!L37","v":62.122},{"$f":"'Physical activity guidelines'!M37","v":65.358999999999995},{"$f":"'Physical activity guidelines'!N37","v":64.319999999999993},{"$f":"'Physical activity guidelines'!O37","v":64.486000000000004},null,{"$f":"'Physical activity guidelines'!P37","v":63.5}]
[null,"Lower CI",{"$f":"'Physical activity guidelines'!B38","v":57.29},{"$f":"'Physical activity guidelines'!C38","v":55.213999999999999},{"$f":"'Physical activity guidelines'!D38","v":55.015000000000001},{"$f":"'Physical activity guidelines'!E38","v":62.4},{"$f":"'Physical activity guidelines'!F38","v":59.28},{"$f":"'Physical activity guidelines'!G38","v":61.96},{"$f":"'Physical activity guidelines'!H38","v":60.58},{"$f":"'Physical activity guidelines'!I38","v":60.39},{"$f":"'Physical activity guidelines'!J38","v":58.35},{"$f":"'Physical activity guidelines'!K38","v":64.150000000000006},{"$f":"'Physical activity guidelines'!L38","v":57.271000000000001},{"$f":"'Physical activity guidelines'!M38","v":60.06},{"$f":"'Physical activity guidelines'!N38","v":60.31},{"$f":"'Physical activity guidelines'!O38","v":61.456000000000003},null,{"$f":"'Physical activity guidelines'!P38","v":62.51}]
[null,"Upper CI",{"$f":"'Physical activity guidelines'!B39","v":62.44},{"$f":"'Physical activity guidelines'!C39","v":65.951999999999998},{"$f":"'Physical activity guidelines'!D39","v":64.819000000000003},{"$f":"'Physical activity guidelines'!E39","v":67.040000000000006},{"$f":"'Physical activity guidelines'!F39","v":67.400000000000006},{"$f":"'Physical activity guidelines'!G39","v":66.95},{"$f":"'Physical activity guidelines'!H39","v":64.58},{"$f":"'Physical activity guidelines'!I39","v":68.16},{"$f":"'Physical activity guidelines'!J39","v":64.37},{"$f":"'Physical activity guidelines'!K39","v":70.23},{"$f":"'Physical activity guidelines'!L39","v":66.974000000000004},{"$f":"'Physical activity guidelines'!M39","v":70.659000000000006},{"$f":"'Physical activity guidelines'!N39","v":68.319999999999993},{"$f":"'Physical activity guidelines'!O39","v":67.515000000000001},null,{"$f":"'Physical activity guidelines'!P39","v":64.5}]
[null,"Some activity",{"$f":"'Physical activity guidelines'!B40","v":10.73},{"$f":"'Physical activity guidelines'!C40","v":11.39},{"$f":"'Physical activity guidelines'!D40","v":11.343999999999999},{"$f":"'Physical activity guidelines'!E40","v":10.24},{"$f":"'Physical activity guidelines'!F40","v":12.76},{"$f":"'Physical activity guidelines'!G40","v":11.05},{"$f":"'Physical activity guidelines'!H40","v":10.69},{"$f":"'Physical activity guidelines'!I40","v":13.13},{"$f":"'Physical activity guidelines'!J40","v":11.19},{"$f":"'Physical activity guidelines'!K40","v":10.82},{"$f":"'Physical activity guidelines'!L40","v":12.172000000000001},{"$f":"'Physical activity guidelines'!M40","v":11.209},{"$f":"'Physical activity guidelines'!N40","v":11.21},{"$f":"'Physical activity guidelines'!O40","v":10.760999999999999},null,{"$f":"'Physical activity guidelines'!P40","v":11.13}]
[null,"Lower CI",{"$f":"'Physical activity guidelines'!B41","v":9.1},{"$f":"'Physical activity guidelines'!C41","v":8.2590000000000003},{"$f":"'Physical activity guidelines'!D41","v":8.0259999999999998},{"$f":"'Physical activity guidelines'!E41","v":8.92},{"$f":"'Physical activity guidelines'!F41","v":10.210000000000001},{"$f":"'Physical activity guidelines'!G41","v":9.6300000000000008},{"$f":"'Physical activity guidelines'!H41","v":9.5500000000000007},{"$f":"'Physical activity guidelines'!I41","v":10.91},{"$f":"'Physical activity guidelines'!J41","v":9.24},{"$f":"'Physical activity guidelines'!K41","v":9},{"$f":"'Physical activity guidelines'!L41","v":9.1329999999999991},{"$f":"'Physical activity guidelines'!M41","v":8.0250000000000004},{"$f":"'Physical activity guidelines'!N41","v":9.34},{"$f":"'Physical activity guidelines'!O41","v":8.2260000000000009},null,{"$f":"'Physical activity guidelines'!P41","v":10.56}]
[null,"Upper CI",{"$f":"'Physical activity guidelines'!B42","v":12.35},{"$f":"'Physical activity guidelines'!C42","v":14.522},{"$f":"'Physical activity guidelines'!D42","v":14.662000000000001},{"$f":"'Physical activity guidelines'!E42","v":11.55},{"$f":"'Physical activity guidelines'!F42","v":15.31},{"$f":"'Physical activity guidelines'!G42","v":12.47},{"$f":"'Physical activity guidelines'!H42","v":11.84},{"$f":"'Physical activity guidelines'!I42","v":15.35},{"$f":"'Physical activity guidelines'!J42","v":13.14},{"$f":"'Physical activity guidelines'!K42","v":12.64},{"$f":"'Physical activity guidelines'!L42","v":15.211},{"$f":"'Physical activity guidelines'!M42","v":14.393000000000001},{"$f":"'Physical activity guidelines'!N42","v":13.08},{"$f":"'Physical activity guidelines'!O42","v":13.295},null,{"$f":"'Physical activity guidelines'!P42","v":11.7}]
[null,"Low activity",{"$f":"'Physical activity guidelines'!B43","v":3.82},{"$f":"'Physical activity guidelines'!C43","v":5.835},{"$f":"'Physical activity guidelines'!D43","v":4.1520000000000001},{"$f":"'Physical activity guidelines'!E43","v":4.38},{"$f":"'Physical activity guidelines'!F43","v":5.35},{"$f":"'Physical activity guidelines'!G43","v":3.88},{"$f":"'Physical activity guidelines'!H43","v":4.3600000000000003},{"$f":"'Physical activity guidelines'!I43","v":2.8},{"$f":"'Physical activity guidelines'!J43","v":4.43},{"$f":"'Physical activity guidelines'!K43","v":4.5999999999999996},{"$f":"'Physical activity guidelines'!L43","v":5.8550000000000004},{"$f":"'Physical activity guidelines'!M43","v":6.0149999999999997},{"$f":"'Physical activity guidelines'!N43","v":4.5599999999999996},{"$f":"'Physical activity guidelines'!O43","v":3.86},null,{"$f":"'Physical activity guidelines'!P43","v":4.33}]
[null,"Lower CI",{"$f":"'Physical activity guidelines'!B44","v":2.96},{"$f":"'Physical activity guidelines'!C44","v":3.278},{"$f":"'Physical activity guidelines'!D44","v":2.5030000000000001},{"$f":"'Physical activity guidelines'!E44","v":3.37},{"$f":"'Physical activity guidelines'!F44","v":3.64},{"$f":"'Physical activity guidelines'!G44","v":3.01},{"$f":"'Physical activity guidelines'!H44","v":3.54},{"$f":"'Physical activity guidelines'!I44","v":1.59},{"$f":"'Physical activity guidelines'!J44","v":3.35},{"$f":"'Physical activity guidelines'!K44","v":3.56},{"$f":"'Physical activity guidelines'!L44","v":3.9689999999999999},{"$f":"'Physical activity guidelines'!M44","v":3.4039999999999999},{"$f":"'Physical activity guidelines'!N44","v":3.25},{"$f":"'Physical activity guidelines'!O44","v":2.544},null,{"$f":"'Physical activity guidelines'!P44","v":3.99}]
[null,"Upper CI",{"$f":"'Physical activity guidelines'!B45","v":4.68},{"$f":"'Physical activity guidelines'!C45","v":8.3919999999999995},{"$f":"'Physical activity guidelines'!D45","v":5.8019999999999996},{"$f":"'Physical activity guidelines'!E45","v":5.39},{"$f":"'Physical activity guidelines'!F45","v":7.07},{"$f":"'Physical activity guidelines'!G45","v":4.74},{"$f":"'Physical activity guidelines'!H45","v":5.18},{"$f":"'Physical activity guidelines'!I45","v":4.0199999999999996},{"$f":"'Physical activity guidelines'!J45","v":5.52},{"$f":"'Physical activity guidelines'!K45","v":5.64},{"$f":"'Physical activity guidelines'!L45","v":7.742},{"$f":"'Physical activity guidelines'!M45","v":8.6259999999999994},{"$f":"'Physical activity guidelines'!N45","v":5.87},{"$f":"'Physical activity guidelines'!O45","v":5.1749999999999998},null,{"$f":"'Physical activity guidelines'!P45","v":4.68}]
[null,"Very low activity",{"$f":"'Physical activity guidelines'!B46","v":25.59},{"$f":"'Physical activity guidelines'!C46","v":22.192},{"$f":"'Physical activity guidelines'!D46","v":24.585999999999999},{"$f":"'Physical activity guidelines'!E46","v":20.66},{"$f":"'Physical activity guidelines'!F46","v":18.55},{"$f":"'Physical activity guidelines'!G46","v":20.62},{"$f":"'Physical activity guidelines'!H46","v":22.37},{"$f":"'Physical activity guidelines'!I46","v":19.79},{"$f":"'Physical activity guidelines'!J46","v":23.02},{"$f":"'Physical activity guidelines'!K46","v":17.39},{"$f":"'Physical activity guidelines'!L46","v":19.850000000000001},{"$f":"'Physical activity guidelines'!M46","v":17.417000000000002},{"$f":"'Physical activity guidelines'!N46","v":19.91},{"$f":"'Physical activity guidelines'!O46","v":20.893999999999998},null,{"$f":"'Physical activity guidelines'!P46","v":21.03}]
[null,"Lower CI",{"$f":"'Physical activity guidelines'!B47","v":23.42},{"$f":"'Physical activity guidelines'!C47","v":17.878},{"$f":"'Physical activity guidelines'!D47","v":20.420999999999999},{"$f":"'Physical activity guidelines'!E47","v":18.78},{"$f":"'Physical activity guidelines'!F47","v":15.65},{"$f":"'Physical activity guidelines'!G47","v":18.7},{"$f":"'Physical activity guidelines'!H47","v":20.61},{"$f":"'Physical activity guidelines'!I47","v":16.600000000000001},{"$f":"'Physical activity guidelines'!J47","v":20.27},{"$f":"'Physical activity guidelines'!K47","v":15.36},{"$f":"'Physical activity guidelines'!L47","v":15.885999999999999},{"$f":"'Physical activity guidelines'!M47","v":13.569000000000001},{"$f":"'Physical activity guidelines'!N47","v":16.55},{"$f":"'Physical activity guidelines'!O47","v":18.501999999999999},null,{"$f":"'Physical activity guidelines'!P47","v":20.23}]
[null,"Upper CI",{"$f":"'Physical activity guidelines'!B48","v":27.76},{"$f":"'Physical activity guidelines'!C48","v":26.504999999999999},{"$f":"'Physical activity guidelines'!D48","v":28.751000000000001},{"$f":"'Physical activity guidelines'!E48","v":22.55},{"$f":"'Physical activity guidelines'!F48","v":21.45},{"$f":"'Physical activity guidelines'!G48","v":22.54},{"$f":"'Physical activity guidelines'!H48","v":24.12},{"$f":"'Physical activity guidelines'!I48","v":22.98},{"$f":"'Physical activity guidelines'!J48","v":25.76},{"$f":"'Physical activity guidelines'!K48","v":19.420000000000002},{"$f":"'Physical activity guidelines'!L48","v":23.815000000000001},{"$f":"'Physical activity guidelines'!M48","v":21.265000000000001},{"$f":"'Physical activity guidelines'!N48","v":23.26},{"$f":"'Physical activity guidelines'!O48","v":23.286000000000001},null,{"$f":"'Physical activity guidelines'!P48","v":21.84}]
[]
["CLs","Meets guidelines",{"$f":"C36-C37","v":2.5799999999999983},{"$f":"D36-D37","v":5.3689999999999998},4.902000000000001,2.3200000000000003,4.0600000000000023,2.490000000000002,2,3.8799999999999955,3.009999999999998,3.039999999999992,4.8509999999999991,5.2989999999999924,4.0099999999999909,3.0300000000000011,null,{"$f":"R36-R37","v":0.99000000000000199}]
[null,"Some activity",{"$f":"C39-C40","v":1.6300000000000008},{"$f":"D39-D40","v":3.1310000000000002},3.3179999999999996,1.3200000000000003,2.5499999999999989,1.42,1.1399999999999988,2.2200000000000006,1.9499999999999993,1.8200000000000003,3.0390000000000015,3.1839999999999993,1.870000000000001,2.5349999999999984,null,{"$f":"R39-R40","v":0.57000000000000028}]
[null,"Low activity",{"$f":"C42-C43","v":0.85999999999999988},{"$f":"D42-D43","v":2.5569999999999999},1.649,1.0099999999999998,1.7099999999999995,0.87000000000000011,0.82000000000000028,1.2099999999999997,1.0799999999999996,1.0399999999999996,1.8860000000000006,2.6109999999999998,1.3099999999999996,1.3159999999999998,null,{"$f":"R42-R43","v":0.33999999999999986}]
[null,"Very low activity",{"$f":"C45-C46","v":2.1699999999999982},{"$f":"D45-D46","v":4.3140000000000001},4.1649999999999991,1.879999999999999,2.9000000000000004,1.9200000000000017,1.7600000000000016,3.1899999999999977,2.75,2.0300000000000011,3.9640000000000022,3.8480000000000008,3.3599999999999994,2.3919999999999995,null,{"$f":"R45-R46","v":0.80000000000000071}]

{"sheet":"CVD","index":38,"n_rows":30,"n_cols":16,"rows_kept":30,"cut":false,"hidden":false,"merged":[[0,0,1,0],[4,0,5,0]]}
["Prevalence of cardiovascular (CVD) conditions by NHS Board and sex",null,null,null,null,null,null,null,null,null,null,null,"INDEX"]
[]
[]
["Aged 16 and over",null,null,null,null,null,null,null,null,null,null,null,null,null,null,"2013/2014/2015/2016 combined"]
["CVD","NHS Board"]
[null,"Ayrshire & Arran ","Borders","Dumfries & Galloway","Fife","Forth Valley","Grampian","Greater Glasgow & Clyde","Highland","Lanarkshire","Lothian","Orkney","Shetland","Tayside","Western Isles","Scotland"]
[null,"%","%","%","%","%","%","%","%","%","%","%","%","%","%","%"]
["Men"]
["Has a cardiovascular condition",{"$f":"'CVD data'!D2","v":20.03},{"$f":"'CVD data'!E2","v":17.747},{"$f":"'CVD data'!F2","v":19.852},{"$f":"'CVD data'!G2","v":16.989999999999998},{"$f":"'CVD data'!H2","v":17.39},{"$f":"'CVD data'!I2","v":17.059999999999999},{"$f":"'CVD data'!J2","v":14.48},{"$f":"'CVD data'!K2","v":16.260000000000002},{"$f":"'CVD data'!L2","v":17.18},{"$f":"'CVD data'!M2","v":14.26},{"$f":"'CVD data'!N2","v":17.489999999999998},{"$f":"'CVD data'!O2","v":13.667999999999999},{"$f":"'CVD data'!P2","v":19.36},{"$f":"'CVD data'!Q2","v":14.704000000000001},{"$f":"'CVD data'!R2","v":16.47}]
["Lower CI",{"$f":"'CVD data'!D3","v":17.45},{"$f":"'CVD data'!E3","v":12.141},{"$f":"'CVD data'!F3","v":14.507},{"$f":"'CVD data'!G3","v":14.41},{"$f":"'CVD data'!H3","v":13.33},{"$f":"'CVD data'!I3","v":14.79},{"$f":"'CVD data'!J3","v":12.59},{"$f":"'CVD data'!K3","v":11.84},{"$f":"'CVD data'!L3","v":13.64},{"$f":"'CVD data'!M3","v":12.07},{"$f":"'CVD data'!N3","v":13.048},{"$f":"'CVD data'!O3","v":8.048},{"$f":"'CVD data'!P3","v":15.98},{"$f":"'CVD data'!Q3","v":11.083},{"$f":"'CVD data'!R3","v":15.55}]
["Upper CI",{"$f":"'CVD data'!D4","v":22.61},{"$f":"'CVD data'!E4","v":23.353000000000002},{"$f":"'CVD data'!F4","v":25.196999999999999},{"$f":"'CVD data'!G4","v":19.57},{"$f":"'CVD data'!H4","v":21.44},{"$f":"'CVD data'!I4","v":19.329999999999998},{"$f":"'CVD data'!J4","v":16.36},{"$f":"'CVD data'!K4","v":20.69},{"$f":"'CVD data'!L4","v":20.71},{"$f":"'CVD data'!M4","v":16.440000000000001},{"$f":"'CVD data'!N4","v":21.933},{"$f":"'CVD data'!O4","v":19.286999999999999},{"$f":"'CVD data'!P4","v":22.74},{"$f":"'CVD data'!Q4","v":18.324999999999999},{"$f":"'CVD data'!R4","v":17.39}]
[]
["Women"]
["Has a cardiovascular condition",{"$f":"'CVD data'!D8","v":19.010000000000002},{"$f":"'CVD data'!E8","v":13.619},{"$f":"'CVD data'!F8","v":14.891},{"$f":"'CVD data'!G8","v":17.489999999999998},{"$f":"'CVD data'!H8","v":14.28},{"$f":"'CVD data'!I8","v":13.59},{"$f":"'CVD data'!J8","v":16.2},{"$f":"'CVD data'!K8","v":15.34},{"$f":"'CVD data'!L8","v":13.05},{"$f":"'CVD data'!M8","v":11.74},{"$f":"'CVD data'!N8","v":17.648},{"$f":"'CVD data'!O8","v":12.843999999999999},{"$f":"'CVD data'!P8","v":14.32},{"$f":"'CVD data'!Q8","v":14.756},{"$f":"'CVD data'!R8","v":14.7}]
["Lower CI",{"$f":"'CVD data'!D9","v":16.96},{"$f":"'CVD data'!E9","v":8.7669999999999995},{"$f":"'CVD data'!F9","v":10.797000000000001},{"$f":"'CVD data'!G9","v":15.21},{"$f":"'CVD data'!H9","v":11.11},{"$f":"'CVD data'!I9","v":11.78},{"$f":"'CVD data'!J9","v":14.37},{"$f":"'CVD data'!K9","v":12.14},{"$f":"'CVD data'!L9","v":10.85},{"$f":"'CVD data'!M9","v":9.76},{"$f":"'CVD data'!N9","v":12.801},{"$f":"'CVD data'!O9","v":8.7680000000000007},{"$f":"'CVD data'!P9","v":11.35},{"$f":"'CVD data'!Q9","v":10.696},{"$f":"'CVD data'!R9","v":13.91}]
["Upper CI",{"$f":"'CVD data'!D10","v":21.07},{"$f":"'CVD data'!E10","v":18.47},{"$f":"'CVD data'!F10","v":18.984000000000002},{"$f":"'CVD data'!G10","v":19.77},{"$f":"'CVD data'!H10","v":17.46},{"$f":"'CVD data'!I10","v":15.4},{"$f":"'CVD data'!J10","v":18.03},{"$f":"'CVD data'!K10","v":18.53},{"$f":"'CVD data'!L10","v":15.24},{"$f":"'CVD data'!M10","v":13.72},{"$f":"'CVD data'!N10","v":22.495000000000001},{"$f":"'CVD data'!O10","v":16.920999999999999},{"$f":"'CVD data'!P10","v":17.29},{"$f":"'CVD data'!Q10","v":18.815999999999999},{"$f":"'CVD data'!R10","v":15.49}]
[]
["All Adults"]
["Has a cardiovascular condition",{"$f":"'CVD data'!D14","v":19.48},{"$f":"'CVD data'!E14","v":15.49},{"$f":"'CVD data'!F14","v":17.309999999999999},{"$f":"'CVD data'!G14","v":17.25},{"$f":"'CVD data'!H14","v":15.75},{"$f":"'CVD data'!I14","v":15.24},{"$f":"'CVD data'!J14","v":15.37},{"$f":"'CVD data'!K14","v":15.78},{"$f":"'CVD data'!L14","v":15.01},{"$f":"'CVD data'!M14","v":13.02},{"$f":"'CVD data'!N14","v":17.57},{"$f":"'CVD data'!O14","v":13.27},{"$f":"'CVD data'!P14","v":16.68},{"$f":"'CVD data'!Q14","v":14.73},{"$f":"'CVD data'!R14","v":15.55}]
["Lower CI",{"$f":"'CVD data'!D15","v":17.75},{"$f":"'CVD data'!E15","v":11.541},{"$f":"'CVD data'!F15","v":13.427},{"$f":"'CVD data'!G15","v":15.53},{"$f":"'CVD data'!H15","v":13.32},{"$f":"'CVD data'!I15","v":13.7},{"$f":"'CVD data'!J15","v":14.01},{"$f":"'CVD data'!K15","v":12.8},{"$f":"'CVD data'!L15","v":13.01},{"$f":"'CVD data'!M15","v":11.45},{"$f":"'CVD data'!N15","v":14.186999999999999},{"$f":"'CVD data'!O15","v":10.044},{"$f":"'CVD data'!P15","v":14.34},{"$f":"'CVD data'!Q15","v":12.057},{"$f":"'CVD data'!R15","v":14.91}]
["Upper CI",{"$f":"'CVD data'!D16","v":21.21},{"$f":"'CVD data'!E16","v":19.439},{"$f":"'CVD data'!F16","v":21.193000000000001},{"$f":"'CVD data'!G16","v":18.96},{"$f":"'CVD data'!H16","v":18.190000000000001},{"$f":"'CVD data'!I16","v":16.78},{"$f":"'CVD data'!J16","v":16.739999999999998},{"$f":"'CVD data'!K16","v":18.760000000000002},{"$f":"'CVD data'!L16","v":17.02},{"$f":"'CVD data'!M16","v":14.58},{"$f":"'CVD data'!N16","v":20.952999999999999},{"$f":"'CVD data'!O16","v":16.495999999999999},{"$f":"'CVD data'!P16","v":19.03},{"$f":"'CVD data'!Q16","v":17.402999999999999},{"$f":"'CVD data'!R16","v":16.18}]
[]
["Bases (weighted):"]
["Men",{"$f":"'CVD data'!D20","v":606.12},{"$f":"'CVD data'!E20","v":183.602},{"$f":"'CVD data'!F20","v":262.10599999999999},{"$f":"'CVD data'!G20","v":619.4},{"$f":"'CVD data'!H20","v":497.09},{"$f":"'CVD data'!I20","v":977.83},{"$f":"'CVD data'!J20","v":1883.4},{"$f":"'CVD data'!K20","v":541.45000000000005},{"$f":"'CVD data'!L20","v":1148.79},{"$f":"'CVD data'!M20","v":1535.71},{"$f":"'CVD data'!N20","v":38.664000000000001},{"$f":"'CVD data'!O20","v":41.939},{"$f":"'CVD data'!P20","v":681.92},{"$f":"'CVD data'!Q20","v":48.445999999999998},{"$f":"'CVD data'!R20","v":9066.4699999999993}]
["Women",{"$f":"'CVD data'!D21","v":709.79},{"$f":"'CVD data'!E21","v":221.46100000000001},{"$f":"'CVD data'!F21","v":275.46600000000001},{"$f":"'CVD data'!G21","v":663.33},{"$f":"'CVD data'!H21","v":553.76},{"$f":"'CVD data'!I21","v":1078.3599999999999},{"$f":"'CVD data'!J21","v":2051.62},{"$f":"'CVD data'!K21","v":586.85},{"$f":"'CVD data'!L21","v":1263.49},{"$f":"'CVD data'!M21","v":1496.34},{"$f":"'CVD data'!N21","v":39.048000000000002},{"$f":"'CVD data'!O21","v":39.247999999999998},{"$f":"'CVD data'!P21","v":771.2},{"$f":"'CVD data'!Q21","v":48.420999999999999},{"$f":"'CVD data'!R21","v":9798.3799999999992}]
["All Adults",{"$f":"'CVD data'!D22","v":1315.91},{"$f":"'CVD data'!E22","v":405.06299999999999},{"$f":"'CVD data'!F22","v":537.572},{"$f":"'CVD data'!G22","v":1282.73},{"$f":"'CVD data'!H22","v":1050.8499999999999},{"$f":"'CVD data'!I22","v":2056.19},{"$f":"'CVD data'!J22","v":3935.02},{"$f":"'CVD data'!K22","v":1128.31},{"$f":"'CVD data'!L22","v":2412.2800000000002},{"$f":"'CVD data'!M22","v":3032.04},{"$f":"'CVD data'!N22","v":77.712999999999994},{"$f":"'CVD data'!O22","v":81.186000000000007},{"$f":"'CVD data'!P22","v":1453.11},{"$f":"'CVD data'!Q22","v":96.867000000000004},{"$f":"'CVD data'!R22","v":18864.849999999999}]
["Bases (unweighted)"]
["Men",{"$f":"'CVD data'!D23","v":948},{"$f":"'CVD data'!E23","v":199},{"$f":"'CVD data'!F23","v":221},{"$f":"'CVD data'!G23","v":902},{"$f":"'CVD data'!H23","v":307},{"$f":"'CVD data'!I23","v":1133},{"$f":"'CVD data'!J23","v":1343},{"$f":"'CVD data'!K23","v":355},{"$f":"'CVD data'!L23","v":661},{"$f":"'CVD data'!M23","v":938},{"$f":"'CVD data'!N23","v":233},{"$f":"'CVD data'!O23","v":247},{"$f":"'CVD data'!P23","v":472},{"$f":"'CVD data'!Q23","v":387},{"$f":"'CVD data'!R23","v":8346}]
["Women",{"$f":"'CVD data'!D24","v":1207},{"$f":"'CVD data'!E24","v":277},{"$f":"'CVD data'!F24","v":258},{"$f":"'CVD data'!G24","v":1142},{"$f":"'CVD data'!H24","v":412},{"$f":"'CVD data'!I24","v":1428},{"$f":"'CVD data'!J24","v":1748},{"$f":"'CVD data'!K24","v":463},{"$f":"'CVD data'!L24","v":878},{"$f":"'CVD data'!M24","v":1105},{"$f":"'CVD data'!N24","v":271},{"$f":"'CVD data'!O24","v":276},{"$f":"'CVD data'!P24","v":590},{"$f":"'CVD data'!Q24","v":460},{"$f":"'CVD data'!R24","v":10515}]
["All Adults",{"$f":"'CVD data'!D25","v":2155},{"$f":"'CVD data'!E25","v":476},{"$f":"'CVD data'!F25","v":479},{"$f":"'CVD data'!G25","v":2044},{"$f":"'CVD data'!H25","v":719},{"$f":"'CVD data'!I25","v":2561},{"$f":"'CVD data'!J25","v":3091},{"$f":"'CVD data'!K25","v":818},{"$f":"'CVD data'!L25","v":1539},{"$f":"'CVD data'!M25","v":2043},{"$f":"'CVD data'!N25","v":504},{"$f":"'CVD data'!O25","v":523},{"$f":"'CVD data'!P25","v":1062},{"$f":"'CVD data'!Q25","v":847},{"$f":"'CVD data'!R25","v":18861}]

{"sheet":"CVD data","index":39,"n_rows":25,"n_cols":18,"rows_kept":25,"cut":false,"hidden":true,"merged":[]}
["F_sex","F_cvddef1","_NAME_","Ayrshire & Arran","Borders","Dumfries & Galloway","Fife","Forth Valley","Grampian","Greater Glasgow","Highland","Lanarkshire","Lothian","Orkney","Shetland","Tayside","Western Isles","Scotland"]
["Male","Yes","RowPercent",20.03,17.747,19.852,16.989999999999998,17.39,17.059999999999999,14.48,16.260000000000002,17.18,14.26,17.489999999999998,13.667999999999999,19.36,14.704000000000001,16.47]
["Male","Yes","RowLowerCL",17.45,12.141,14.507,14.41,13.33,14.79,12.59,11.84,13.64,12.07,13.048,8.048,15.98,11.083,15.55]
["Male","Yes","RowUpperCL",22.61,23.353000000000002,25.196999999999999,19.57,21.44,19.329999999999998,16.36,20.69,20.71,16.440000000000001,21.933,19.286999999999999,22.74,18.324999999999999,17.39]
["Male","No","RowPercent",79.97,82.253,80.147999999999996,83.01,82.61,82.94,85.52,83.74,82.82,85.74,82.51,86.331999999999994,80.64,85.296000000000006,83.53]
["Male","No","RowLowerCL",77.39,76.647000000000006,74.802999999999997,80.430000000000007,78.56,80.67,83.64,79.31,79.290000000000006,83.56,78.066999999999993,80.712999999999994,77.260000000000005,81.674999999999997,82.61]
["Male","No","RowUpperCL",82.55,87.858999999999995,85.492999999999995,85.59,86.67,85.21,87.41,88.16,86.36,87.93,86.951999999999998,91.951999999999998,84.02,88.917000000000002,84.45]
["Female","Yes","RowPercent",19.010000000000002,13.619,14.891,17.489999999999998,14.28,13.59,16.2,15.34,13.05,11.74,17.648,12.843999999999999,14.32,14.756,14.7]
["Female","Yes","RowLowerCL",16.96,8.7669999999999995,10.797000000000001,15.21,11.11,11.78,14.37,12.14,10.85,9.76,12.801,8.7680000000000007,11.35,10.696,13.91]
["Female","Yes","RowUpperCL",21.07,18.47,18.984000000000002,19.77,17.46,15.4,18.03,18.53,15.24,13.72,22.495000000000001,16.920999999999999,17.29,18.815999999999999,15.49]
["Female","No","RowPercent",80.989999999999995,86.381,85.108999999999995,82.51,85.72,86.41,83.8,84.66,86.95,88.26,82.352000000000004,87.156000000000006,85.68,85.244,85.3]
["Female","No","RowLowerCL",78.930000000000007,81.53,81.016000000000005,80.23,82.54,84.6,81.97,81.47,84.76,86.28,77.504999999999995,83.078999999999994,82.71,81.183999999999997,84.51]
["Female","No","RowUpperCL",83.04,91.233000000000004,89.203000000000003,84.79,88.89,88.22,85.63,87.86,89.15,90.24,87.198999999999998,91.231999999999999,88.65,89.304000000000002,86.09]
["Total","Yes","RowPercent",19.48,15.49,17.309999999999999,17.25,15.75,15.24,15.37,15.78,15.01,13.02,17.57,13.27,16.68,14.73,15.55]
["Total","Yes","RowLowerCL",17.75,11.541,13.427,15.53,13.32,13.7,14.01,12.8,13.01,11.45,14.186999999999999,10.044,14.34,12.057,14.91]
["Total","Yes","RowUpperCL",21.21,19.439,21.193000000000001,18.96,18.190000000000001,16.78,16.739999999999998,18.760000000000002,17.02,14.58,20.952999999999999,16.495999999999999,19.03,17.402999999999999,16.18]
["Total","No","RowPercent",80.52,84.51,82.69,82.75,84.25,84.76,84.63,84.22,84.99,86.98,82.43,86.73,83.32,85.27,84.45]
["Total","No","RowLowerCL",78.790000000000006,80.561000000000007,78.807000000000002,81.040000000000006,81.81,83.22,83.26,81.239999999999995,82.98,85.42,79.046999999999997,83.504000000000005,80.97,82.596999999999994,83.82]
["Total","No","RowUpperCL",82.25,88.459000000000003,86.572999999999993,84.47,86.68,86.3,85.99,87.2,86.99,88.55,85.813000000000002,89.956000000000003,85.66,87.942999999999998,85.09]
["Male",".","WgtFreq",606.12,183.602,262.10599999999999,619.4,497.09,977.83,1883.4,541.45000000000005,1148.79,1535.71,38.664000000000001,41.939,681.92,48.445999999999998,9066.4699999999993]
["Female",".","WgtFreq",709.79,221.46100000000001,275.46600000000001,663.33,553.76,1078.3599999999999,2051.62,586.85,1263.49,1496.34,39.048000000000002,39.247999999999998,771.2,48.420999999999999,9798.3799999999992]
["Total",".","WgtFreq",1315.91,405.06299999999999,537.572,1282.73,1050.8499999999999,2056.19,3935.02,1128.31,2412.2800000000002,3032.04,77.712999999999994,81.186000000000007,1453.11,96.867000000000004,18864.849999999999]
["Male",".","Frequency",948,199,221,902,307,1133,1343,355,661,938,233,247,472,387,8346]
["Female",".","Frequency",1207,277,258,1142,412,1428,1748,463,878,1105,271,276,590,460,10515]
["Total",".","Frequency",2155,476,479,2044,719,2561,3091,818,1539,2043,504,523,1062,847,18861]

{"sheet":"CVD chart","index":40,"n_rows":40,"n_cols":18,"rows_kept":40,"cut":false,"hidden":false,"merged":[]}
[null,null,null,null,null,null,null,null,null,null,null,null,null,null,null,null,null,"INDEX"]
[]
[]
[]
[]
[]
[]
[]
[]
[]
[]
[]
[]
[]
[]
[]
[]
[]
[]
[]
[]
[]
[]
[]
[]
[]
[]
[]
[]
[]
[null,null,"Source: Scottish Health Survey"]
[]
[]
[null,null,"Ayrshire & Arran ","Borders","Dumfries & Galloway","Fife","Forth Valley","Grampian","Greater Glasgow & Clyde","Highland","Lanarkshire","Lothian","Orkney","Shetland","Tayside","Western Isles",null,"Scotland"]
[null,"All Adults"]
[null,"Has a cardiovascular condition",{"$f":"CVD!B19","v":19.48},{"$f":"CVD!C19","v":15.49},{"$f":"CVD!D19","v":17.309999999999999},{"$f":"CVD!E19","v":17.25},{"$f":"CVD!F19","v":15.75},{"$f":"CVD!G19","v":15.24},{"$f":"CVD!H19","v":15.37},{"$f":"CVD!I19","v":15.78},{"$f":"CVD!J19","v":15.01},{"$f":"CVD!K19","v":13.02},{"$f":"CVD!L19","v":17.57},{"$f":"CVD!M19","v":13.27},{"$f":"CVD!N19","v":16.68},{"$f":"CVD!O19","v":14.73},null,{"$f":"CVD!P19","v":15.55}]
[null,"Lower CI",{"$f":"CVD!B20","v":17.75},{"$f":"CVD!C20","v":11.541},{"$f":"CVD!D20","v":13.427},{"$f":"CVD!E20","v":15.53},{"$f":"CVD!F20","v":13.32},{"$f":"CVD!G20","v":13.7},{"$f":"CVD!H20","v":14.01},{"$f":"CVD!I20","v":12.8},{"$f":"CVD!J20","v":13.01},{"$f":"CVD!K20","v":11.45},{"$f":"CVD!L20","v":14.186999999999999},{"$f":"CVD!M20","v":10.044},{"$f":"CVD!N20","v":14.34},{"$f":"CVD!O20","v":12.057},null,{"$f":"CVD!P20","v":14.91}]
[null,"Upper CI",{"$f":"CVD!B21","v":21.21},{"$f":"CVD!C21","v":19.439},{"$f":"CVD!D21","v":21.193000000000001},{"$f":"CVD!E21","v":18.96},{"$f":"CVD!F21","v":18.190000000000001},{"$f":"CVD!G21","v":16.78},{"$f":"CVD!H21","v":16.739999999999998},{"$f":"CVD!I21","v":18.760000000000002},{"$f":"CVD!J21","v":17.02},{"$f":"CVD!K21","v":14.58},{"$f":"CVD!L21","v":20.952999999999999},{"$f":"CVD!M21","v":16.495999999999999},{"$f":"CVD!N21","v":19.03},{"$f":"CVD!O21","v":17.402999999999999},null,{"$f":"CVD!P21","v":16.18}]
[]
["CLs",null,{"$f":"C36-C37","v":1.7300000000000004},3.9489999999999998,3.8829999999999991,1.7200000000000006,2.4299999999999997,1.5400000000000009,1.3599999999999994,2.9799999999999986,2,1.5700000000000003,3.3830000000000009,3.2259999999999991,2.34,2.673,null,0.64000000000000057]